BEGIN:VCALENDAR
VERSION:2.0
PRODID:-//Fayal Twp - ECPv6.15.17.1//NONSGML v1.0//EN
CALSCALE:GREGORIAN
METHOD:PUBLISH
X-WR-CALNAME:Fayal Twp
X-ORIGINAL-URL:https://fayaltwp.org
X-WR-CALDESC:Events for Fayal Twp
REFRESH-INTERVAL;VALUE=DURATION:PT1H
X-Robots-Tag:noindex
X-PUBLISHED-TTL:PT1H
BEGIN:VTIMEZONE
TZID:America/Chicago
BEGIN:DAYLIGHT
TZOFFSETFROM:-0600
TZOFFSETTO:-0500
TZNAME:CDT
DTSTART:20240310T080000
END:DAYLIGHT
BEGIN:STANDARD
TZOFFSETFROM:-0500
TZOFFSETTO:-0600
TZNAME:CST
DTSTART:20241103T070000
END:STANDARD
BEGIN:DAYLIGHT
TZOFFSETFROM:-0600
TZOFFSETTO:-0500
TZNAME:CDT
DTSTART:20250309T080000
END:DAYLIGHT
BEGIN:STANDARD
TZOFFSETFROM:-0500
TZOFFSETTO:-0600
TZNAME:CST
DTSTART:20251102T070000
END:STANDARD
BEGIN:DAYLIGHT
TZOFFSETFROM:-0600
TZOFFSETTO:-0500
TZNAME:CDT
DTSTART:20260308T080000
END:DAYLIGHT
BEGIN:STANDARD
TZOFFSETFROM:-0500
TZOFFSETTO:-0600
TZNAME:CST
DTSTART:20261101T070000
END:STANDARD
END:VTIMEZONE
BEGIN:VEVENT
DTSTART;TZID=America/Chicago:20250917T093000
DTEND;TZID=America/Chicago:20250917T103000
DTSTAMP:20260425T060253
CREATED:20240207T174449Z
LAST-MODIFIED:20260317T185548Z
UID:10001582-1758101400-1758105000@fayaltwp.org
SUMMARY:Aerobics
DESCRIPTION:
URL:https://fayaltwp.org/event/aerobics/2025-09-17/
END:VEVENT
BEGIN:VEVENT
DTSTART;TZID=America/Chicago:20250918T093000
DTEND;TZID=America/Chicago:20250918T223000
DTSTAMP:20260425T060253
CREATED:20250908T145635Z
LAST-MODIFIED:20250908T145635Z
UID:10003459-1758187800-1758234600@fayaltwp.org
SUMMARY:Yoga
DESCRIPTION:
URL:https://fayaltwp.org/event/yoga-2/2025-09-18/
END:VEVENT
BEGIN:VEVENT
DTSTART;TZID=America/Chicago:20250918T183000
DTEND;TZID=America/Chicago:20250918T200000
DTSTAMP:20260425T060253
CREATED:20190917T020221Z
LAST-MODIFIED:20250110T151531Z
UID:10003076-1758220200-1758225600@fayaltwp.org
SUMMARY:Eveleth-Fayal Garden Club
DESCRIPTION:Meeting lengths may vary
URL:https://fayaltwp.org/event/eveleth-fayal-garden-club/2025-09-18/
END:VEVENT
BEGIN:VEVENT
DTSTART;TZID=America/Chicago:20250919T093000
DTEND;TZID=America/Chicago:20250919T103000
DTSTAMP:20260425T060253
CREATED:20240207T174449Z
LAST-MODIFIED:20260317T185548Z
UID:10001583-1758274200-1758277800@fayaltwp.org
SUMMARY:Aerobics
DESCRIPTION:
URL:https://fayaltwp.org/event/aerobics/2025-09-19/
END:VEVENT
BEGIN:VEVENT
DTSTART;VALUE=DATE:20250920
DTEND;VALUE=DATE:20250922
DTSTAMP:20260425T060253
CREATED:20250711T142507Z
LAST-MODIFIED:20250711T142507Z
UID:10003454-1758344400-1758430799@fayaltwp.org
SUMMARY:Town Hall Rented
DESCRIPTION:
URL:https://fayaltwp.org/event/town-hall-rented-139/
END:VEVENT
BEGIN:VEVENT
DTSTART;VALUE=DATE:20250921
DTEND;VALUE=DATE:20250923
DTSTAMP:20260425T060253
CREATED:20250905T131521Z
LAST-MODIFIED:20250905T131521Z
UID:10003456-1758430800-1758517199@fayaltwp.org
SUMMARY:Town Hall Rented
DESCRIPTION:
URL:https://fayaltwp.org/event/town-hall-rented-140/
END:VEVENT
BEGIN:VEVENT
DTSTART;TZID=America/Chicago:20250922T093000
DTEND;TZID=America/Chicago:20250922T103000
DTSTAMP:20260425T060253
CREATED:20240207T174449Z
LAST-MODIFIED:20260317T185548Z
UID:10001584-1758533400-1758537000@fayaltwp.org
SUMMARY:Aerobics
DESCRIPTION:
URL:https://fayaltwp.org/event/aerobics/2025-09-22/
END:VEVENT
BEGIN:VEVENT
DTSTART;TZID=America/Chicago:20250922T160000
DTEND;TZID=America/Chicago:20250922T183000
DTSTAMP:20260425T060253
CREATED:20250905T131821Z
LAST-MODIFIED:20250905T131821Z
UID:10003721-1758556800-1758565800@fayaltwp.org
SUMMARY:T.O.P.S.
DESCRIPTION:
URL:https://fayaltwp.org/event/t-o-p-s/2025-09-22/
END:VEVENT
BEGIN:VEVENT
DTSTART;TZID=America/Chicago:20250924T093000
DTEND;TZID=America/Chicago:20250924T103000
DTSTAMP:20260425T060253
CREATED:20240207T174449Z
LAST-MODIFIED:20260317T185548Z
UID:10001585-1758706200-1758709800@fayaltwp.org
SUMMARY:Aerobics
DESCRIPTION:
URL:https://fayaltwp.org/event/aerobics/2025-09-24/
END:VEVENT
BEGIN:VEVENT
DTSTART;TZID=America/Chicago:20250925T093000
DTEND;TZID=America/Chicago:20250925T223000
DTSTAMP:20260425T060253
CREATED:20250908T145635Z
LAST-MODIFIED:20250908T145635Z
UID:10003460-1758792600-1758839400@fayaltwp.org
SUMMARY:Yoga
DESCRIPTION:
URL:https://fayaltwp.org/event/yoga-2/2025-09-25/
END:VEVENT
BEGIN:VEVENT
DTSTART;TZID=America/Chicago:20250926T093000
DTEND;TZID=America/Chicago:20250926T103000
DTSTAMP:20260425T060253
CREATED:20240207T174449Z
LAST-MODIFIED:20260317T185548Z
UID:10001586-1758879000-1758882600@fayaltwp.org
SUMMARY:Aerobics
DESCRIPTION:
URL:https://fayaltwp.org/event/aerobics/2025-09-26/
END:VEVENT
BEGIN:VEVENT
DTSTART;VALUE=DATE:20250927
DTEND;VALUE=DATE:20250929
DTSTAMP:20260425T060253
CREATED:20250211T191954Z
LAST-MODIFIED:20250211T191954Z
UID:10003418-1758949200-1759035599@fayaltwp.org
SUMMARY:Town Hall Rented
DESCRIPTION:
URL:https://fayaltwp.org/event/town-hall-rented-116/
END:VEVENT
BEGIN:VEVENT
DTSTART;VALUE=DATE:20250928
DTEND;VALUE=DATE:20250930
DTSTAMP:20260425T060253
CREATED:20250923T190121Z
LAST-MODIFIED:20250923T190121Z
UID:10003985-1759035600-1759121999@fayaltwp.org
SUMMARY:Town Hall Rented
DESCRIPTION:
URL:https://fayaltwp.org/event/town-hall-rented-146/
END:VEVENT
BEGIN:VEVENT
DTSTART;TZID=America/Chicago:20250929T093000
DTEND;TZID=America/Chicago:20250929T103000
DTSTAMP:20260425T060253
CREATED:20240207T174449Z
LAST-MODIFIED:20260317T185548Z
UID:10001587-1759138200-1759141800@fayaltwp.org
SUMMARY:Aerobics
DESCRIPTION:
URL:https://fayaltwp.org/event/aerobics/2025-09-29/
END:VEVENT
BEGIN:VEVENT
DTSTART;TZID=America/Chicago:20250929T160000
DTEND;TZID=America/Chicago:20250929T183000
DTSTAMP:20260425T060253
CREATED:20250905T131821Z
LAST-MODIFIED:20250905T131821Z
UID:10003722-1759161600-1759170600@fayaltwp.org
SUMMARY:T.O.P.S.
DESCRIPTION:
URL:https://fayaltwp.org/event/t-o-p-s/2025-09-29/
END:VEVENT
BEGIN:VEVENT
DTSTART;TZID=America/Chicago:20251001T093000
DTEND;TZID=America/Chicago:20251001T103000
DTSTAMP:20260425T060253
CREATED:20240207T174449Z
LAST-MODIFIED:20260317T185548Z
UID:10001588-1759311000-1759314600@fayaltwp.org
SUMMARY:Aerobics
DESCRIPTION:
URL:https://fayaltwp.org/event/aerobics/2025-10-01/
END:VEVENT
BEGIN:VEVENT
DTSTART;TZID=America/Chicago:20251002T093000
DTEND;TZID=America/Chicago:20251002T223000
DTSTAMP:20260425T060253
CREATED:20250908T145635Z
LAST-MODIFIED:20250908T145635Z
UID:10003461-1759397400-1759444200@fayaltwp.org
SUMMARY:Yoga
DESCRIPTION:
URL:https://fayaltwp.org/event/yoga-2/2025-10-02/
END:VEVENT
BEGIN:VEVENT
DTSTART;TZID=America/Chicago:20251003T093000
DTEND;TZID=America/Chicago:20251003T103000
DTSTAMP:20260425T060253
CREATED:20240207T174449Z
LAST-MODIFIED:20260317T185548Z
UID:10001589-1759483800-1759487400@fayaltwp.org
SUMMARY:Aerobics
DESCRIPTION:
URL:https://fayaltwp.org/event/aerobics/2025-10-03/
END:VEVENT
BEGIN:VEVENT
DTSTART;VALUE=DATE:20251004
DTEND;VALUE=DATE:20251006
DTSTAMP:20260425T060253
CREATED:20250905T175845Z
LAST-MODIFIED:20250905T175845Z
UID:10003980-1759554000-1759640399@fayaltwp.org
SUMMARY:Town Hall Rented
DESCRIPTION:
URL:https://fayaltwp.org/event/town-hall-rented-141/
END:VEVENT
BEGIN:VEVENT
DTSTART;VALUE=DATE:20251005
DTEND;VALUE=DATE:20251007
DTSTAMP:20260425T060253
CREATED:20250905T175902Z
LAST-MODIFIED:20250905T175902Z
UID:10003981-1759640400-1759726799@fayaltwp.org
SUMMARY:Town Hall Rented
DESCRIPTION:
URL:https://fayaltwp.org/event/town-hall-rented-142/
END:VEVENT
BEGIN:VEVENT
DTSTART;TZID=America/Chicago:20251006T093000
DTEND;TZID=America/Chicago:20251006T103000
DTSTAMP:20260425T060253
CREATED:20240207T174449Z
LAST-MODIFIED:20260317T185548Z
UID:10001590-1759743000-1759746600@fayaltwp.org
SUMMARY:Aerobics
DESCRIPTION:
URL:https://fayaltwp.org/event/aerobics/2025-10-06/
END:VEVENT
BEGIN:VEVENT
DTSTART;TZID=America/Chicago:20251006T160000
DTEND;TZID=America/Chicago:20251006T183000
DTSTAMP:20260425T060253
CREATED:20250905T131821Z
LAST-MODIFIED:20250905T131821Z
UID:10003723-1759766400-1759775400@fayaltwp.org
SUMMARY:T.O.P.S.
DESCRIPTION:
URL:https://fayaltwp.org/event/t-o-p-s/2025-10-06/
END:VEVENT
BEGIN:VEVENT
DTSTART;TZID=America/Chicago:20251007T190000
DTEND;TZID=America/Chicago:20251007T203000
DTSTAMP:20260425T060253
CREATED:20240213T194504Z
LAST-MODIFIED:20250318T164658Z
UID:10002408-1759863600-1759869000@fayaltwp.org
SUMMARY:Town Board Meeting
DESCRIPTION:Meeting lengths may vary
URL:https://fayaltwp.org/event/town-board-meeting-3/2025-10-07/
END:VEVENT
BEGIN:VEVENT
DTSTART;TZID=America/Chicago:20251008T080000
DTEND;TZID=America/Chicago:20251008T150000
DTSTAMP:20260425T060253
CREATED:20241125T174318Z
LAST-MODIFIED:20241125T174318Z
UID:10002846-1759910400-1759935600@fayaltwp.org
SUMMARY:MN Rural Water Training
DESCRIPTION:
URL:https://fayaltwp.org/event/mn-rural-water-training/
END:VEVENT
BEGIN:VEVENT
DTSTART;TZID=America/Chicago:20251009T093000
DTEND;TZID=America/Chicago:20251009T223000
DTSTAMP:20260425T060253
CREATED:20250908T145635Z
LAST-MODIFIED:20250908T145635Z
UID:10003462-1760002200-1760049000@fayaltwp.org
SUMMARY:Yoga
DESCRIPTION:
URL:https://fayaltwp.org/event/yoga-2/2025-10-09/
END:VEVENT
BEGIN:VEVENT
DTSTART;TZID=America/Chicago:20251010T093000
DTEND;TZID=America/Chicago:20251010T103000
DTSTAMP:20260425T060253
CREATED:20240207T174449Z
LAST-MODIFIED:20260317T185548Z
UID:10001592-1760088600-1760092200@fayaltwp.org
SUMMARY:Aerobics
DESCRIPTION:
URL:https://fayaltwp.org/event/aerobics/2025-10-10/
END:VEVENT
BEGIN:VEVENT
DTSTART;VALUE=DATE:20251011
DTEND;VALUE=DATE:20251013
DTSTAMP:20260425T060253
CREATED:20250923T190201Z
LAST-MODIFIED:20250923T190201Z
UID:10003986-1760158800-1760245199@fayaltwp.org
SUMMARY:Town Hall Rented
DESCRIPTION:
URL:https://fayaltwp.org/event/town-hall-rented-147/
END:VEVENT
BEGIN:VEVENT
DTSTART;TZID=America/Chicago:20251013T093000
DTEND;TZID=America/Chicago:20251013T103000
DTSTAMP:20260425T060253
CREATED:20240207T174449Z
LAST-MODIFIED:20260317T185548Z
UID:10001593-1760347800-1760351400@fayaltwp.org
SUMMARY:Aerobics
DESCRIPTION:
URL:https://fayaltwp.org/event/aerobics/2025-10-13/
END:VEVENT
BEGIN:VEVENT
DTSTART;TZID=America/Chicago:20251013T120000
DTEND;TZID=America/Chicago:20251013T140000
DTSTAMP:20260425T060253
CREATED:20240207T175425Z
LAST-MODIFIED:20240718T172046Z
UID:10002137-1760356800-1760364000@fayaltwp.org
SUMMARY:Sororiety Meeting
DESCRIPTION:
URL:https://fayaltwp.org/event/sororiety-meeting/2025-10-13/
END:VEVENT
BEGIN:VEVENT
DTSTART;TZID=America/Chicago:20251013T160000
DTEND;TZID=America/Chicago:20251013T183000
DTSTAMP:20260425T060253
CREATED:20250905T131821Z
LAST-MODIFIED:20250905T131821Z
UID:10003724-1760371200-1760380200@fayaltwp.org
SUMMARY:T.O.P.S.
DESCRIPTION:
URL:https://fayaltwp.org/event/t-o-p-s/2025-10-13/
END:VEVENT
END:VCALENDAR