BEGIN:VCALENDAR
VERSION:2.0
PRODID:-//Fayal Twp - ECPv6.15.17.1//NONSGML v1.0//EN
CALSCALE:GREGORIAN
METHOD:PUBLISH
X-ORIGINAL-URL:https://fayaltwp.org
X-WR-CALDESC:Events for Fayal Twp
REFRESH-INTERVAL;VALUE=DURATION:PT1H
X-Robots-Tag:noindex
X-PUBLISHED-TTL:PT1H
BEGIN:VTIMEZONE
TZID:America/Chicago
BEGIN:DAYLIGHT
TZOFFSETFROM:-0600
TZOFFSETTO:-0500
TZNAME:CDT
DTSTART:20230312T080000
END:DAYLIGHT
BEGIN:STANDARD
TZOFFSETFROM:-0500
TZOFFSETTO:-0600
TZNAME:CST
DTSTART:20231105T070000
END:STANDARD
BEGIN:DAYLIGHT
TZOFFSETFROM:-0600
TZOFFSETTO:-0500
TZNAME:CDT
DTSTART:20240310T080000
END:DAYLIGHT
BEGIN:STANDARD
TZOFFSETFROM:-0500
TZOFFSETTO:-0600
TZNAME:CST
DTSTART:20241103T070000
END:STANDARD
BEGIN:DAYLIGHT
TZOFFSETFROM:-0600
TZOFFSETTO:-0500
TZNAME:CDT
DTSTART:20250309T080000
END:DAYLIGHT
BEGIN:STANDARD
TZOFFSETFROM:-0500
TZOFFSETTO:-0600
TZNAME:CST
DTSTART:20251102T070000
END:STANDARD
END:VTIMEZONE
BEGIN:VEVENT
DTSTART;VALUE=DATE:20241013
DTEND;VALUE=DATE:20241015
DTSTAMP:20260425T061628
CREATED:20240916T185417Z
LAST-MODIFIED:20240916T185417Z
UID:10002817-1728795600-1728881999@fayaltwp.org
SUMMARY:Town Hall Rented
DESCRIPTION:
URL:https://fayaltwp.org/event/town-hall-rented-79/
END:VEVENT
BEGIN:VEVENT
DTSTART;TZID=America/Chicago:20241014T093000
DTEND;TZID=America/Chicago:20241014T103000
DTSTAMP:20260425T061628
CREATED:20240207T174449Z
LAST-MODIFIED:20260317T185548Z
UID:10001437-1728898200-1728901800@fayaltwp.org
SUMMARY:Aerobics
DESCRIPTION:
URL:https://fayaltwp.org/event/aerobics/2024-10-14/
END:VEVENT
BEGIN:VEVENT
DTSTART;TZID=America/Chicago:20241014T120000
DTEND;TZID=America/Chicago:20241014T140000
DTSTAMP:20260425T061628
CREATED:20240207T175425Z
LAST-MODIFIED:20240718T172046Z
UID:10002125-1728907200-1728914400@fayaltwp.org
SUMMARY:Sororiety Meeting
DESCRIPTION:
URL:https://fayaltwp.org/event/sororiety-meeting/2024-10-14/
END:VEVENT
BEGIN:VEVENT
DTSTART;TZID=America/Chicago:20241014T161500
DTEND;TZID=America/Chicago:20241014T183000
DTSTAMP:20260425T061628
CREATED:20190917T014302Z
LAST-MODIFIED:20220309T145134Z
UID:10001120-1728922500-1728930600@fayaltwp.org
SUMMARY:T.O.P.S Meeting
DESCRIPTION:Meeting length times may vary
URL:https://fayaltwp.org/event/t-o-p-s-meeting/2024-10-14/
END:VEVENT
BEGIN:VEVENT
DTSTART;TZID=America/Chicago:20241015T190000
DTEND;TZID=America/Chicago:20241015T203000
DTSTAMP:20260425T061628
CREATED:20230727T144614Z
LAST-MODIFIED:20250115T222032Z
UID:10001257-1729018800-1729024200@fayaltwp.org
SUMMARY:Town Board Meeting
DESCRIPTION:Meeting lengths may vary
URL:https://fayaltwp.org/event/town-board-meeting-2/2024-10-15/
END:VEVENT
BEGIN:VEVENT
DTSTART;TZID=America/Chicago:20241016T093000
DTEND;TZID=America/Chicago:20241016T103000
DTSTAMP:20260425T061628
CREATED:20240207T174449Z
LAST-MODIFIED:20260317T185548Z
UID:10001438-1729071000-1729074600@fayaltwp.org
SUMMARY:Aerobics
DESCRIPTION:
URL:https://fayaltwp.org/event/aerobics/2024-10-16/
END:VEVENT
BEGIN:VEVENT
DTSTART;TZID=America/Chicago:20241016T173000
DTEND;TZID=America/Chicago:20241016T173000
DTSTAMP:20260425T061628
CREATED:20190917T020012Z
LAST-MODIFIED:20260317T185333Z
UID:10000617-1729099800-1729099800@fayaltwp.org
SUMMARY:Planning Commission Meeting
DESCRIPTION:Meeting lengths may vary
URL:https://fayaltwp.org/event/fayal-planning-commission/2024-10-16/
END:VEVENT
BEGIN:VEVENT
DTSTART;TZID=America/Chicago:20241017T183000
DTEND;TZID=America/Chicago:20241017T200000
DTSTAMP:20260425T061628
CREATED:20190917T020221Z
LAST-MODIFIED:20250110T151531Z
UID:10003066-1729189800-1729195200@fayaltwp.org
SUMMARY:Eveleth-Fayal Garden Club
DESCRIPTION:Meeting lengths may vary
URL:https://fayaltwp.org/event/eveleth-fayal-garden-club/2024-10-17/
END:VEVENT
BEGIN:VEVENT
DTSTART;TZID=America/Chicago:20241018T093000
DTEND;TZID=America/Chicago:20241018T103000
DTSTAMP:20260425T061628
CREATED:20240207T174449Z
LAST-MODIFIED:20260317T185548Z
UID:10001439-1729243800-1729247400@fayaltwp.org
SUMMARY:Aerobics
DESCRIPTION:
URL:https://fayaltwp.org/event/aerobics/2024-10-18/
END:VEVENT
BEGIN:VEVENT
DTSTART;VALUE=DATE:20241019
DTEND;VALUE=DATE:20241021
DTSTAMP:20260425T061628
CREATED:20240821T174631Z
LAST-MODIFIED:20240821T174638Z
UID:10002811-1729314000-1729400399@fayaltwp.org
SUMMARY:Town Hall Rented
DESCRIPTION:
URL:https://fayaltwp.org/event/town-hall-rented-73/
END:VEVENT
BEGIN:VEVENT
DTSTART;TZID=America/Chicago:20241021T093000
DTEND;TZID=America/Chicago:20241021T103000
DTSTAMP:20260425T061628
CREATED:20240207T174449Z
LAST-MODIFIED:20260317T185548Z
UID:10001440-1729503000-1729506600@fayaltwp.org
SUMMARY:Aerobics
DESCRIPTION:
URL:https://fayaltwp.org/event/aerobics/2024-10-21/
END:VEVENT
BEGIN:VEVENT
DTSTART;TZID=America/Chicago:20241021T161500
DTEND;TZID=America/Chicago:20241021T183000
DTSTAMP:20260425T061628
CREATED:20190917T014302Z
LAST-MODIFIED:20220309T145134Z
UID:10001121-1729527300-1729535400@fayaltwp.org
SUMMARY:T.O.P.S Meeting
DESCRIPTION:Meeting length times may vary
URL:https://fayaltwp.org/event/t-o-p-s-meeting/2024-10-21/
END:VEVENT
BEGIN:VEVENT
DTSTART;TZID=America/Chicago:20241023T080000
DTEND;TZID=America/Chicago:20241023T160000
DTSTAMP:20260425T061628
CREATED:20240409T172632Z
LAST-MODIFIED:20240409T172632Z
UID:10002725-1729670400-1729699200@fayaltwp.org
SUMMARY:Wastewater Operator School
DESCRIPTION:
URL:https://fayaltwp.org/event/wastewater-operator-school/
END:VEVENT
BEGIN:VEVENT
DTSTART;TZID=America/Chicago:20241023T093000
DTEND;TZID=America/Chicago:20241023T103000
DTSTAMP:20260425T061628
CREATED:20240207T174449Z
LAST-MODIFIED:20260317T185548Z
UID:10001441-1729675800-1729679400@fayaltwp.org
SUMMARY:Aerobics
DESCRIPTION:
URL:https://fayaltwp.org/event/aerobics/2024-10-23/
END:VEVENT
BEGIN:VEVENT
DTSTART;TZID=America/Chicago:20241025T093000
DTEND;TZID=America/Chicago:20241025T103000
DTSTAMP:20260425T061628
CREATED:20240207T174449Z
LAST-MODIFIED:20260317T185548Z
UID:10001442-1729848600-1729852200@fayaltwp.org
SUMMARY:Aerobics
DESCRIPTION:
URL:https://fayaltwp.org/event/aerobics/2024-10-25/
END:VEVENT
BEGIN:VEVENT
DTSTART;VALUE=DATE:20241026
DTEND;VALUE=DATE:20241028
DTSTAMP:20260425T061628
CREATED:20240916T185431Z
LAST-MODIFIED:20240916T185431Z
UID:10002818-1729918800-1730005199@fayaltwp.org
SUMMARY:Town Hall Rented
DESCRIPTION:
URL:https://fayaltwp.org/event/town-hall-rented-80/
END:VEVENT
BEGIN:VEVENT
DTSTART;TZID=America/Chicago:20241028T093000
DTEND;TZID=America/Chicago:20241028T103000
DTSTAMP:20260425T061628
CREATED:20240207T174449Z
LAST-MODIFIED:20260317T185548Z
UID:10001443-1730107800-1730111400@fayaltwp.org
SUMMARY:Aerobics
DESCRIPTION:
URL:https://fayaltwp.org/event/aerobics/2024-10-28/
END:VEVENT
BEGIN:VEVENT
DTSTART;TZID=America/Chicago:20241028T161500
DTEND;TZID=America/Chicago:20241028T183000
DTSTAMP:20260425T061628
CREATED:20190917T014302Z
LAST-MODIFIED:20220309T145134Z
UID:10001122-1730132100-1730140200@fayaltwp.org
SUMMARY:T.O.P.S Meeting
DESCRIPTION:Meeting length times may vary
URL:https://fayaltwp.org/event/t-o-p-s-meeting/2024-10-28/
END:VEVENT
BEGIN:VEVENT
DTSTART;TZID=America/Chicago:20241029T110000
DTEND;TZID=America/Chicago:20241029T130000
DTSTAMP:20260425T061628
CREATED:20241023T134845Z
LAST-MODIFIED:20241023T134845Z
UID:10002825-1730199600-1730206800@fayaltwp.org
SUMMARY:Election Equipment Public Accuracy Test
DESCRIPTION:
URL:https://fayaltwp.org/event/election-equipment-public-accuracy-test/
END:VEVENT
BEGIN:VEVENT
DTSTART;TZID=America/Chicago:20241030T093000
DTEND;TZID=America/Chicago:20241030T103000
DTSTAMP:20260425T061628
CREATED:20240207T174449Z
LAST-MODIFIED:20260317T185548Z
UID:10001444-1730280600-1730284200@fayaltwp.org
SUMMARY:Aerobics
DESCRIPTION:
URL:https://fayaltwp.org/event/aerobics/2024-10-30/
END:VEVENT
BEGIN:VEVENT
DTSTART;TZID=America/Chicago:20241101T093000
DTEND;TZID=America/Chicago:20241101T103000
DTSTAMP:20260425T061628
CREATED:20240207T174449Z
LAST-MODIFIED:20260317T185548Z
UID:10001445-1730453400-1730457000@fayaltwp.org
SUMMARY:Aerobics
DESCRIPTION:
URL:https://fayaltwp.org/event/aerobics/2024-11-01/
END:VEVENT
BEGIN:VEVENT
DTSTART;TZID=America/Chicago:20241101T140000
DTEND;TZID=America/Chicago:20241101T220000
DTSTAMP:20260425T061628
CREATED:20241023T134752Z
LAST-MODIFIED:20241023T134752Z
UID:10002824-1730469600-1730498400@fayaltwp.org
SUMMARY:Town Hall Rented
DESCRIPTION:
URL:https://fayaltwp.org/event/town-hall-rented-82/
END:VEVENT
BEGIN:VEVENT
DTSTART;VALUE=DATE:20241102
DTEND;VALUE=DATE:20241104
DTSTAMP:20260425T061628
CREATED:20241023T160158Z
LAST-MODIFIED:20241023T160158Z
UID:10002826-1730523600-1730609999@fayaltwp.org
SUMMARY:Town Hall Rented
DESCRIPTION:
URL:https://fayaltwp.org/event/town-hall-rented-83/
END:VEVENT
BEGIN:VEVENT
DTSTART;VALUE=DATE:20241103
DTEND;VALUE=DATE:20241105
DTSTAMP:20260425T061628
CREATED:20240916T185543Z
LAST-MODIFIED:20240916T185543Z
UID:10002819-1730610000-1730696399@fayaltwp.org
SUMMARY:Town Hall Rented
DESCRIPTION:
URL:https://fayaltwp.org/event/town-hall-rented-81/
END:VEVENT
BEGIN:VEVENT
DTSTART;TZID=America/Chicago:20241104T093000
DTEND;TZID=America/Chicago:20241104T103000
DTSTAMP:20260425T061628
CREATED:20240207T174449Z
LAST-MODIFIED:20260317T185548Z
UID:10001446-1730712600-1730716200@fayaltwp.org
SUMMARY:Aerobics
DESCRIPTION:
URL:https://fayaltwp.org/event/aerobics/2024-11-04/
END:VEVENT
BEGIN:VEVENT
DTSTART;TZID=America/Chicago:20241104T161500
DTEND;TZID=America/Chicago:20241104T183000
DTSTAMP:20260425T061628
CREATED:20190917T014302Z
LAST-MODIFIED:20220309T145134Z
UID:10001123-1730736900-1730745000@fayaltwp.org
SUMMARY:T.O.P.S Meeting
DESCRIPTION:Meeting length times may vary
URL:https://fayaltwp.org/event/t-o-p-s-meeting/2024-11-04/
END:VEVENT
BEGIN:VEVENT
DTSTART;TZID=America/Chicago:20241105T070000
DTEND;TZID=America/Chicago:20241105T200000
DTSTAMP:20260425T061628
CREATED:20240409T173509Z
LAST-MODIFIED:20240409T173509Z
UID:10002731-1730790000-1730836800@fayaltwp.org
SUMMARY:General Elections
DESCRIPTION:
URL:https://fayaltwp.org/event/general-elections/
END:VEVENT
BEGIN:VEVENT
DTSTART;TZID=America/Chicago:20241105T190000
DTEND;TZID=America/Chicago:20241105T203000
DTSTAMP:20260425T061628
CREATED:20240213T194504Z
LAST-MODIFIED:20250318T164658Z
UID:10001193-1730833200-1730838600@fayaltwp.org
SUMMARY:Town Board Meeting
DESCRIPTION:Meeting lengths may vary
URL:https://fayaltwp.org/event/town-board-meeting-3/2024-11-05/
END:VEVENT
BEGIN:VEVENT
DTSTART;TZID=America/Chicago:20241106T093000
DTEND;TZID=America/Chicago:20241106T103000
DTSTAMP:20260425T061628
CREATED:20240207T174449Z
LAST-MODIFIED:20260317T185548Z
UID:10001447-1730885400-1730889000@fayaltwp.org
SUMMARY:Aerobics
DESCRIPTION:
URL:https://fayaltwp.org/event/aerobics/2024-11-06/
END:VEVENT
BEGIN:VEVENT
DTSTART;TZID=America/Chicago:20241108T093000
DTEND;TZID=America/Chicago:20241108T103000
DTSTAMP:20260425T061628
CREATED:20240207T174449Z
LAST-MODIFIED:20260317T185548Z
UID:10001448-1731058200-1731061800@fayaltwp.org
SUMMARY:Aerobics
DESCRIPTION:
URL:https://fayaltwp.org/event/aerobics/2024-11-08/
END:VEVENT
END:VCALENDAR