BEGIN:VCALENDAR
VERSION:2.0
PRODID:-//Fayal Twp - ECPv6.15.17.1//NONSGML v1.0//EN
CALSCALE:GREGORIAN
METHOD:PUBLISH
X-WR-CALNAME:Fayal Twp
X-ORIGINAL-URL:https://fayaltwp.org
X-WR-CALDESC:Events for Fayal Twp
REFRESH-INTERVAL;VALUE=DURATION:PT1H
X-Robots-Tag:noindex
X-PUBLISHED-TTL:PT1H
BEGIN:VTIMEZONE
TZID:America/Chicago
BEGIN:DAYLIGHT
TZOFFSETFROM:-0600
TZOFFSETTO:-0500
TZNAME:CDT
DTSTART:20230312T080000
END:DAYLIGHT
BEGIN:STANDARD
TZOFFSETFROM:-0500
TZOFFSETTO:-0600
TZNAME:CST
DTSTART:20231105T070000
END:STANDARD
BEGIN:DAYLIGHT
TZOFFSETFROM:-0600
TZOFFSETTO:-0500
TZNAME:CDT
DTSTART:20240310T080000
END:DAYLIGHT
BEGIN:STANDARD
TZOFFSETFROM:-0500
TZOFFSETTO:-0600
TZNAME:CST
DTSTART:20241103T070000
END:STANDARD
BEGIN:DAYLIGHT
TZOFFSETFROM:-0600
TZOFFSETTO:-0500
TZNAME:CDT
DTSTART:20250309T080000
END:DAYLIGHT
BEGIN:STANDARD
TZOFFSETFROM:-0500
TZOFFSETTO:-0600
TZNAME:CST
DTSTART:20251102T070000
END:STANDARD
END:VTIMEZONE
BEGIN:VEVENT
DTSTART;TZID=America/Chicago:20241030T093000
DTEND;TZID=America/Chicago:20241030T103000
DTSTAMP:20260425T115323
CREATED:20240207T174449Z
LAST-MODIFIED:20260317T185548Z
UID:10001444-1730280600-1730284200@fayaltwp.org
SUMMARY:Aerobics
DESCRIPTION:
URL:https://fayaltwp.org/event/aerobics/2024-10-30/
END:VEVENT
BEGIN:VEVENT
DTSTART;TZID=America/Chicago:20241101T093000
DTEND;TZID=America/Chicago:20241101T103000
DTSTAMP:20260425T115323
CREATED:20240207T174449Z
LAST-MODIFIED:20260317T185548Z
UID:10001445-1730453400-1730457000@fayaltwp.org
SUMMARY:Aerobics
DESCRIPTION:
URL:https://fayaltwp.org/event/aerobics/2024-11-01/
END:VEVENT
BEGIN:VEVENT
DTSTART;TZID=America/Chicago:20241101T140000
DTEND;TZID=America/Chicago:20241101T220000
DTSTAMP:20260425T115323
CREATED:20241023T134752Z
LAST-MODIFIED:20241023T134752Z
UID:10002824-1730469600-1730498400@fayaltwp.org
SUMMARY:Town Hall Rented
DESCRIPTION:
URL:https://fayaltwp.org/event/town-hall-rented-82/
END:VEVENT
BEGIN:VEVENT
DTSTART;VALUE=DATE:20241102
DTEND;VALUE=DATE:20241104
DTSTAMP:20260425T115323
CREATED:20241023T160158Z
LAST-MODIFIED:20241023T160158Z
UID:10002826-1730523600-1730609999@fayaltwp.org
SUMMARY:Town Hall Rented
DESCRIPTION:
URL:https://fayaltwp.org/event/town-hall-rented-83/
END:VEVENT
BEGIN:VEVENT
DTSTART;VALUE=DATE:20241103
DTEND;VALUE=DATE:20241105
DTSTAMP:20260425T115323
CREATED:20240916T185543Z
LAST-MODIFIED:20240916T185543Z
UID:10002819-1730610000-1730696399@fayaltwp.org
SUMMARY:Town Hall Rented
DESCRIPTION:
URL:https://fayaltwp.org/event/town-hall-rented-81/
END:VEVENT
BEGIN:VEVENT
DTSTART;TZID=America/Chicago:20241104T093000
DTEND;TZID=America/Chicago:20241104T103000
DTSTAMP:20260425T115323
CREATED:20240207T174449Z
LAST-MODIFIED:20260317T185548Z
UID:10001446-1730712600-1730716200@fayaltwp.org
SUMMARY:Aerobics
DESCRIPTION:
URL:https://fayaltwp.org/event/aerobics/2024-11-04/
END:VEVENT
BEGIN:VEVENT
DTSTART;TZID=America/Chicago:20241104T161500
DTEND;TZID=America/Chicago:20241104T183000
DTSTAMP:20260425T115323
CREATED:20190917T014302Z
LAST-MODIFIED:20220309T145134Z
UID:10001123-1730736900-1730745000@fayaltwp.org
SUMMARY:T.O.P.S Meeting
DESCRIPTION:Meeting length times may vary
URL:https://fayaltwp.org/event/t-o-p-s-meeting/2024-11-04/
END:VEVENT
BEGIN:VEVENT
DTSTART;TZID=America/Chicago:20241105T070000
DTEND;TZID=America/Chicago:20241105T200000
DTSTAMP:20260425T115323
CREATED:20240409T173509Z
LAST-MODIFIED:20240409T173509Z
UID:10002731-1730790000-1730836800@fayaltwp.org
SUMMARY:General Elections
DESCRIPTION:
URL:https://fayaltwp.org/event/general-elections/
END:VEVENT
BEGIN:VEVENT
DTSTART;TZID=America/Chicago:20241105T190000
DTEND;TZID=America/Chicago:20241105T203000
DTSTAMP:20260425T115323
CREATED:20240213T194504Z
LAST-MODIFIED:20250318T164658Z
UID:10001193-1730833200-1730838600@fayaltwp.org
SUMMARY:Town Board Meeting
DESCRIPTION:Meeting lengths may vary
URL:https://fayaltwp.org/event/town-board-meeting-3/2024-11-05/
END:VEVENT
BEGIN:VEVENT
DTSTART;TZID=America/Chicago:20241106T093000
DTEND;TZID=America/Chicago:20241106T103000
DTSTAMP:20260425T115323
CREATED:20240207T174449Z
LAST-MODIFIED:20260317T185548Z
UID:10001447-1730885400-1730889000@fayaltwp.org
SUMMARY:Aerobics
DESCRIPTION:
URL:https://fayaltwp.org/event/aerobics/2024-11-06/
END:VEVENT
BEGIN:VEVENT
DTSTART;TZID=America/Chicago:20241108T093000
DTEND;TZID=America/Chicago:20241108T103000
DTSTAMP:20260425T115323
CREATED:20240207T174449Z
LAST-MODIFIED:20260317T185548Z
UID:10001448-1731058200-1731061800@fayaltwp.org
SUMMARY:Aerobics
DESCRIPTION:
URL:https://fayaltwp.org/event/aerobics/2024-11-08/
END:VEVENT
BEGIN:VEVENT
DTSTART;TZID=America/Chicago:20241109T080000
DTEND;TZID=America/Chicago:20241109T150000
DTSTAMP:20260425T115323
CREATED:20240409T173103Z
LAST-MODIFIED:20240409T173103Z
UID:10002726-1731139200-1731164400@fayaltwp.org
SUMMARY:Craft Sale
DESCRIPTION:
URL:https://fayaltwp.org/event/craft-sale-2/
END:VEVENT
BEGIN:VEVENT
DTSTART;TZID=America/Chicago:20241111T093000
DTEND;TZID=America/Chicago:20241111T103000
DTSTAMP:20260425T115323
CREATED:20240207T174449Z
LAST-MODIFIED:20260317T185548Z
UID:10001449-1731317400-1731321000@fayaltwp.org
SUMMARY:Aerobics
DESCRIPTION:
URL:https://fayaltwp.org/event/aerobics/2024-11-11/
END:VEVENT
BEGIN:VEVENT
DTSTART;TZID=America/Chicago:20241111T120000
DTEND;TZID=America/Chicago:20241111T140000
DTSTAMP:20260425T115323
CREATED:20240207T175425Z
LAST-MODIFIED:20240718T172046Z
UID:10002126-1731326400-1731333600@fayaltwp.org
SUMMARY:Sororiety Meeting
DESCRIPTION:
URL:https://fayaltwp.org/event/sororiety-meeting/2024-11-11/
END:VEVENT
BEGIN:VEVENT
DTSTART;TZID=America/Chicago:20241111T161500
DTEND;TZID=America/Chicago:20241111T183000
DTSTAMP:20260425T115323
CREATED:20190917T014302Z
LAST-MODIFIED:20220309T145134Z
UID:10001124-1731341700-1731349800@fayaltwp.org
SUMMARY:T.O.P.S Meeting
DESCRIPTION:Meeting length times may vary
URL:https://fayaltwp.org/event/t-o-p-s-meeting/2024-11-11/
END:VEVENT
BEGIN:VEVENT
DTSTART;TZID=America/Chicago:20241112T180000
DTEND;TZID=America/Chicago:20241112T190000
DTSTAMP:20260425T115323
CREATED:20240213T194019Z
LAST-MODIFIED:20240718T171231Z
UID:10002349-1731434400-1731438000@fayaltwp.org
SUMMARY:Public Utility Meetings
DESCRIPTION:Meeting lengths may vary
URL:https://fayaltwp.org/event/public-utility-meetings-2-2/2024-11-12/
END:VEVENT
BEGIN:VEVENT
DTSTART;TZID=America/Chicago:20241113T093000
DTEND;TZID=America/Chicago:20241113T103000
DTSTAMP:20260425T115323
CREATED:20240207T174449Z
LAST-MODIFIED:20260317T185548Z
UID:10001450-1731490200-1731493800@fayaltwp.org
SUMMARY:Aerobics
DESCRIPTION:
URL:https://fayaltwp.org/event/aerobics/2024-11-13/
END:VEVENT
BEGIN:VEVENT
DTSTART;TZID=America/Chicago:20241115T093000
DTEND;TZID=America/Chicago:20241115T103000
DTSTAMP:20260425T115323
CREATED:20240207T174449Z
LAST-MODIFIED:20260317T185548Z
UID:10001451-1731663000-1731666600@fayaltwp.org
SUMMARY:Aerobics
DESCRIPTION:
URL:https://fayaltwp.org/event/aerobics/2024-11-15/
END:VEVENT
BEGIN:VEVENT
DTSTART;VALUE=DATE:20241116
DTEND;VALUE=DATE:20241118
DTSTAMP:20260425T115323
CREATED:20240821T174706Z
LAST-MODIFIED:20240821T174706Z
UID:10002812-1731733200-1731819599@fayaltwp.org
SUMMARY:Town Hall Rented
DESCRIPTION:
URL:https://fayaltwp.org/event/town-hall-rented-74/
END:VEVENT
BEGIN:VEVENT
DTSTART;TZID=America/Chicago:20241116T173000
DTEND;TZID=America/Chicago:20241116T173000
DTSTAMP:20260425T115323
CREATED:20190917T020012Z
LAST-MODIFIED:20260317T185333Z
UID:10004111-1731778200-1731778200@fayaltwp.org
SUMMARY:Planning Commission Meeting
DESCRIPTION:Meeting lengths may vary
URL:https://fayaltwp.org/event/fayal-planning-commission/2024-11-16/
END:VEVENT
BEGIN:VEVENT
DTSTART;VALUE=DATE:20241117
DTEND;VALUE=DATE:20241119
DTSTAMP:20260425T115323
CREATED:20241023T160245Z
LAST-MODIFIED:20241023T160245Z
UID:10002827-1731819600-1731905999@fayaltwp.org
SUMMARY:Town Hall Rented
DESCRIPTION:
URL:https://fayaltwp.org/event/town-hall-rented-85/
END:VEVENT
BEGIN:VEVENT
DTSTART;TZID=America/Chicago:20241118T093000
DTEND;TZID=America/Chicago:20241118T103000
DTSTAMP:20260425T115323
CREATED:20240207T174449Z
LAST-MODIFIED:20260317T185548Z
UID:10001452-1731922200-1731925800@fayaltwp.org
SUMMARY:Aerobics
DESCRIPTION:
URL:https://fayaltwp.org/event/aerobics/2024-11-18/
END:VEVENT
BEGIN:VEVENT
DTSTART;TZID=America/Chicago:20241118T161500
DTEND;TZID=America/Chicago:20241118T183000
DTSTAMP:20260425T115323
CREATED:20190917T014302Z
LAST-MODIFIED:20220309T145134Z
UID:10001125-1731946500-1731954600@fayaltwp.org
SUMMARY:T.O.P.S Meeting
DESCRIPTION:Meeting length times may vary
URL:https://fayaltwp.org/event/t-o-p-s-meeting/2024-11-18/
END:VEVENT
BEGIN:VEVENT
DTSTART;TZID=America/Chicago:20241119T190000
DTEND;TZID=America/Chicago:20241119T203000
DTSTAMP:20260425T115323
CREATED:20230727T144614Z
LAST-MODIFIED:20250115T222032Z
UID:10001258-1732042800-1732048200@fayaltwp.org
SUMMARY:Town Board Meeting
DESCRIPTION:Meeting lengths may vary
URL:https://fayaltwp.org/event/town-board-meeting-2/2024-11-19/
END:VEVENT
BEGIN:VEVENT
DTSTART;TZID=America/Chicago:20241120T093000
DTEND;TZID=America/Chicago:20241120T103000
DTSTAMP:20260425T115323
CREATED:20240207T174449Z
LAST-MODIFIED:20260317T185548Z
UID:10001453-1732095000-1732098600@fayaltwp.org
SUMMARY:Aerobics
DESCRIPTION:
URL:https://fayaltwp.org/event/aerobics/2024-11-20/
END:VEVENT
BEGIN:VEVENT
DTSTART;TZID=America/Chicago:20241121T183000
DTEND;TZID=America/Chicago:20241121T200000
DTSTAMP:20260425T115323
CREATED:20190917T020221Z
LAST-MODIFIED:20250110T151531Z
UID:10003067-1732213800-1732219200@fayaltwp.org
SUMMARY:Eveleth-Fayal Garden Club
DESCRIPTION:Meeting lengths may vary
URL:https://fayaltwp.org/event/eveleth-fayal-garden-club/2024-11-21/
END:VEVENT
BEGIN:VEVENT
DTSTART;TZID=America/Chicago:20241122T093000
DTEND;TZID=America/Chicago:20241122T103000
DTSTAMP:20260425T115323
CREATED:20240207T174449Z
LAST-MODIFIED:20260317T185548Z
UID:10001454-1732267800-1732271400@fayaltwp.org
SUMMARY:Aerobics
DESCRIPTION:
URL:https://fayaltwp.org/event/aerobics/2024-11-22/
END:VEVENT
BEGIN:VEVENT
DTSTART;VALUE=DATE:20241123
DTEND;VALUE=DATE:20241125
DTSTAMP:20260425T115323
CREATED:20241121T180046Z
LAST-MODIFIED:20241121T180046Z
UID:10002835-1732338000-1732424399@fayaltwp.org
SUMMARY:Town Hall Rented
DESCRIPTION:
URL:https://fayaltwp.org/event/town-hall-rented-91/
END:VEVENT
BEGIN:VEVENT
DTSTART;TZID=America/Chicago:20241125T093000
DTEND;TZID=America/Chicago:20241125T103000
DTSTAMP:20260425T115323
CREATED:20240207T174449Z
LAST-MODIFIED:20260317T185548Z
UID:10001455-1732527000-1732530600@fayaltwp.org
SUMMARY:Aerobics
DESCRIPTION:
URL:https://fayaltwp.org/event/aerobics/2024-11-25/
END:VEVENT
BEGIN:VEVENT
DTSTART;TZID=America/Chicago:20241125T161500
DTEND;TZID=America/Chicago:20241125T183000
DTSTAMP:20260425T115323
CREATED:20190917T014302Z
LAST-MODIFIED:20220309T145134Z
UID:10001126-1732551300-1732559400@fayaltwp.org
SUMMARY:T.O.P.S Meeting
DESCRIPTION:Meeting length times may vary
URL:https://fayaltwp.org/event/t-o-p-s-meeting/2024-11-25/
END:VEVENT
END:VCALENDAR