BEGIN:VCALENDAR
VERSION:2.0
PRODID:-//Fayal Twp - ECPv6.15.17.1//NONSGML v1.0//EN
CALSCALE:GREGORIAN
METHOD:PUBLISH
X-ORIGINAL-URL:https://fayaltwp.org
X-WR-CALDESC:Events for Fayal Twp
REFRESH-INTERVAL;VALUE=DURATION:PT1H
X-Robots-Tag:noindex
X-PUBLISHED-TTL:PT1H
BEGIN:VTIMEZONE
TZID:America/Chicago
BEGIN:DAYLIGHT
TZOFFSETFROM:-0600
TZOFFSETTO:-0500
TZNAME:CDT
DTSTART:20220313T080000
END:DAYLIGHT
BEGIN:STANDARD
TZOFFSETFROM:-0500
TZOFFSETTO:-0600
TZNAME:CST
DTSTART:20221106T070000
END:STANDARD
BEGIN:DAYLIGHT
TZOFFSETFROM:-0600
TZOFFSETTO:-0500
TZNAME:CDT
DTSTART:20230312T080000
END:DAYLIGHT
BEGIN:STANDARD
TZOFFSETFROM:-0500
TZOFFSETTO:-0600
TZNAME:CST
DTSTART:20231105T070000
END:STANDARD
BEGIN:DAYLIGHT
TZOFFSETFROM:-0600
TZOFFSETTO:-0500
TZNAME:CDT
DTSTART:20240310T080000
END:DAYLIGHT
BEGIN:STANDARD
TZOFFSETFROM:-0500
TZOFFSETTO:-0600
TZNAME:CST
DTSTART:20241103T070000
END:STANDARD
BEGIN:DAYLIGHT
TZOFFSETFROM:-0600
TZOFFSETTO:-0500
TZNAME:CDT
DTSTART:20250309T080000
END:DAYLIGHT
BEGIN:STANDARD
TZOFFSETFROM:-0500
TZOFFSETTO:-0600
TZNAME:CST
DTSTART:20251102T070000
END:STANDARD
END:VTIMEZONE
BEGIN:VEVENT
DTSTART;TZID=America/Chicago:20240118T183000
DTEND;TZID=America/Chicago:20240118T200000
DTSTAMP:20260425T183449
CREATED:20190917T020221Z
LAST-MODIFIED:20250110T151531Z
UID:10003058-1705602600-1705608000@fayaltwp.org
SUMMARY:Eveleth-Fayal Garden Club
DESCRIPTION:Meeting lengths may vary
URL:https://fayaltwp.org/event/eveleth-fayal-garden-club/2024-01-18/
END:VEVENT
BEGIN:VEVENT
DTSTART;TZID=America/Chicago:20240116T190000
DTEND;TZID=America/Chicago:20240116T203000
DTSTAMP:20260425T183449
CREATED:20230727T144614Z
LAST-MODIFIED:20250115T222032Z
UID:10001248-1705431600-1705437000@fayaltwp.org
SUMMARY:Town Board Meeting
DESCRIPTION:Meeting lengths may vary
URL:https://fayaltwp.org/event/town-board-meeting-2/2024-01-16/
END:VEVENT
BEGIN:VEVENT
DTSTART;TZID=America/Chicago:20240116T180000
DTEND;TZID=America/Chicago:20240116T190000
DTSTAMP:20260425T183449
CREATED:20190917T021048Z
LAST-MODIFIED:20240213T193813Z
UID:10002281-1705428000-1705431600@fayaltwp.org
SUMMARY:Public Utility Meetings
DESCRIPTION:Meeting lengths may vary
URL:https://fayaltwp.org/event/public-utility-meetings-2/2024-01-16/
END:VEVENT
BEGIN:VEVENT
DTSTART;TZID=America/Chicago:20240116T173000
DTEND;TZID=America/Chicago:20240116T173000
DTSTAMP:20260425T183449
CREATED:20190917T020012Z
LAST-MODIFIED:20260317T185333Z
UID:10004102-1705426200-1705426200@fayaltwp.org
SUMMARY:Planning Commission Meeting
DESCRIPTION:Meeting lengths may vary
URL:https://fayaltwp.org/event/fayal-planning-commission/2024-01-16/
END:VEVENT
BEGIN:VEVENT
DTSTART;TZID=America/Chicago:20240115T161500
DTEND;TZID=America/Chicago:20240115T183000
DTSTAMP:20260425T183449
CREATED:20190917T014302Z
LAST-MODIFIED:20220309T145134Z
UID:10001081-1705335300-1705343400@fayaltwp.org
SUMMARY:T.O.P.S Meeting
DESCRIPTION:Meeting length times may vary
URL:https://fayaltwp.org/event/t-o-p-s-meeting/2024-01-15/
END:VEVENT
BEGIN:VEVENT
DTSTART;TZID=America/Chicago:20240108T161500
DTEND;TZID=America/Chicago:20240108T183000
DTSTAMP:20260425T183449
CREATED:20190917T014302Z
LAST-MODIFIED:20220309T145134Z
UID:10001080-1704730500-1704738600@fayaltwp.org
SUMMARY:T.O.P.S Meeting
DESCRIPTION:Meeting length times may vary
URL:https://fayaltwp.org/event/t-o-p-s-meeting/2024-01-08/
END:VEVENT
BEGIN:VEVENT
DTSTART;TZID=America/Chicago:20240102T190000
DTEND;TZID=America/Chicago:20240102T203000
DTSTAMP:20260425T183449
CREATED:20190917T015259Z
LAST-MODIFIED:20220309T144930Z
UID:10001183-1704222000-1704227400@fayaltwp.org
SUMMARY:Town Board Meeting
DESCRIPTION:Meeting lengths may vary
URL:https://fayaltwp.org/event/town-board-meeting/2024-01-02/
END:VEVENT
BEGIN:VEVENT
DTSTART;TZID=America/Chicago:20240101T161500
DTEND;TZID=America/Chicago:20240101T183000
DTSTAMP:20260425T183449
CREATED:20190917T014302Z
LAST-MODIFIED:20220309T145134Z
UID:10001079-1704125700-1704133800@fayaltwp.org
SUMMARY:T.O.P.S Meeting
DESCRIPTION:Meeting length times may vary
URL:https://fayaltwp.org/event/t-o-p-s-meeting/2024-01-01/
END:VEVENT
BEGIN:VEVENT
DTSTART;TZID=America/Chicago:20231225T161500
DTEND;TZID=America/Chicago:20231225T183000
DTSTAMP:20260425T183449
CREATED:20190917T014302Z
LAST-MODIFIED:20220309T145134Z
UID:10001078-1703520900-1703529000@fayaltwp.org
SUMMARY:T.O.P.S Meeting
DESCRIPTION:Meeting length times may vary
URL:https://fayaltwp.org/event/t-o-p-s-meeting/2023-12-25/
END:VEVENT
BEGIN:VEVENT
DTSTART;TZID=America/Chicago:20231221T183000
DTEND;TZID=America/Chicago:20231221T200000
DTSTAMP:20260425T183449
CREATED:20190917T020221Z
LAST-MODIFIED:20250110T151531Z
UID:10003057-1703183400-1703188800@fayaltwp.org
SUMMARY:Eveleth-Fayal Garden Club
DESCRIPTION:Meeting lengths may vary
URL:https://fayaltwp.org/event/eveleth-fayal-garden-club/2023-12-21/
END:VEVENT
BEGIN:VEVENT
DTSTART;TZID=America/Chicago:20231219T190000
DTEND;TZID=America/Chicago:20231219T203000
DTSTAMP:20260425T183449
CREATED:20230727T144614Z
LAST-MODIFIED:20250115T222032Z
UID:10001247-1703012400-1703017800@fayaltwp.org
SUMMARY:Town Board Meeting
DESCRIPTION:Meeting lengths may vary
URL:https://fayaltwp.org/event/town-board-meeting-2/2023-12-19/
END:VEVENT
BEGIN:VEVENT
DTSTART;TZID=America/Chicago:20231218T161500
DTEND;TZID=America/Chicago:20231218T183000
DTSTAMP:20260425T183449
CREATED:20190917T014302Z
LAST-MODIFIED:20220309T145134Z
UID:10001077-1702916100-1702924200@fayaltwp.org
SUMMARY:T.O.P.S Meeting
DESCRIPTION:Meeting length times may vary
URL:https://fayaltwp.org/event/t-o-p-s-meeting/2023-12-18/
END:VEVENT
BEGIN:VEVENT
DTSTART;TZID=America/Chicago:20231216T180000
DTEND;TZID=America/Chicago:20231216T190000
DTSTAMP:20260425T183449
CREATED:20190917T021048Z
LAST-MODIFIED:20240213T193813Z
UID:10002280-1702749600-1702753200@fayaltwp.org
SUMMARY:Public Utility Meetings
DESCRIPTION:Meeting lengths may vary
URL:https://fayaltwp.org/event/public-utility-meetings-2/2023-12-16/
END:VEVENT
BEGIN:VEVENT
DTSTART;TZID=America/Chicago:20231216T173000
DTEND;TZID=America/Chicago:20231216T173000
DTSTAMP:20260425T183449
CREATED:20190917T020012Z
LAST-MODIFIED:20260317T185333Z
UID:10004101-1702747800-1702747800@fayaltwp.org
SUMMARY:Planning Commission Meeting
DESCRIPTION:Meeting lengths may vary
URL:https://fayaltwp.org/event/fayal-planning-commission/2023-12-16/
END:VEVENT
BEGIN:VEVENT
DTSTART;TZID=America/Chicago:20231211T161500
DTEND;TZID=America/Chicago:20231211T183000
DTSTAMP:20260425T183449
CREATED:20190917T014302Z
LAST-MODIFIED:20220309T145134Z
UID:10001076-1702311300-1702319400@fayaltwp.org
SUMMARY:T.O.P.S Meeting
DESCRIPTION:Meeting length times may vary
URL:https://fayaltwp.org/event/t-o-p-s-meeting/2023-12-11/
END:VEVENT
BEGIN:VEVENT
DTSTART;TZID=America/Chicago:20231211T120000
DTEND;TZID=America/Chicago:20231211T150000
DTSTAMP:20260425T183449
CREATED:20230727T145742Z
LAST-MODIFIED:20230727T145742Z
UID:10001327-1702296000-1702306800@fayaltwp.org
SUMMARY:Town Hall Rented
DESCRIPTION:
URL:https://fayaltwp.org/event/town-hall-rented-33/
END:VEVENT
BEGIN:VEVENT
DTSTART;TZID=America/Chicago:20231205T190000
DTEND;TZID=America/Chicago:20231205T203000
DTSTAMP:20260425T183449
CREATED:20190917T015259Z
LAST-MODIFIED:20220309T144930Z
UID:10001182-1701802800-1701808200@fayaltwp.org
SUMMARY:Town Board Meeting
DESCRIPTION:Meeting lengths may vary
URL:https://fayaltwp.org/event/town-board-meeting/2023-12-05/
END:VEVENT
BEGIN:VEVENT
DTSTART;TZID=America/Chicago:20231204T161500
DTEND;TZID=America/Chicago:20231204T183000
DTSTAMP:20260425T183449
CREATED:20190917T014302Z
LAST-MODIFIED:20220309T145134Z
UID:10001075-1701706500-1701714600@fayaltwp.org
SUMMARY:T.O.P.S Meeting
DESCRIPTION:Meeting length times may vary
URL:https://fayaltwp.org/event/t-o-p-s-meeting/2023-12-04/
END:VEVENT
BEGIN:VEVENT
DTSTART;TZID=America/Chicago:20231203T080000
DTEND;TZID=America/Chicago:20231203T170000
DTSTAMP:20260425T183449
CREATED:20230105T152451Z
LAST-MODIFIED:20230105T152451Z
UID:10001287-1701590400-1701622800@fayaltwp.org
SUMMARY:Hall Rented
DESCRIPTION:
URL:https://fayaltwp.org/event/hall-rented-44/
END:VEVENT
BEGIN:VEVENT
DTSTART;VALUE=DATE:20231203
DTEND;VALUE=DATE:20231205
DTSTAMP:20260425T183449
CREATED:20230727T145710Z
LAST-MODIFIED:20230727T145710Z
UID:10001326-1701579600-1701665999@fayaltwp.org
SUMMARY:Town Hall Rented
DESCRIPTION:
URL:https://fayaltwp.org/event/town-hall-rented-32/
END:VEVENT
BEGIN:VEVENT
DTSTART;TZID=America/Chicago:20231201T080000
DTEND;TZID=America/Chicago:20231201T170000
DTSTAMP:20260425T183449
CREATED:20230105T152432Z
LAST-MODIFIED:20230105T152432Z
UID:10001288-1701417600-1701450000@fayaltwp.org
SUMMARY:Hall Rented
DESCRIPTION:
URL:https://fayaltwp.org/event/hall-rented-43/
END:VEVENT
BEGIN:VEVENT
DTSTART;TZID=America/Chicago:20231127T161500
DTEND;TZID=America/Chicago:20231127T183000
DTSTAMP:20260425T183449
CREATED:20190917T014302Z
LAST-MODIFIED:20220309T145134Z
UID:10001074-1701101700-1701109800@fayaltwp.org
SUMMARY:T.O.P.S Meeting
DESCRIPTION:Meeting length times may vary
URL:https://fayaltwp.org/event/t-o-p-s-meeting/2023-11-27/
END:VEVENT
BEGIN:VEVENT
DTSTART;TZID=America/Chicago:20231123T103000
DTEND;TZID=America/Chicago:20231123T190000
DTSTAMP:20260425T183449
CREATED:20230727T145605Z
LAST-MODIFIED:20230727T151001Z
UID:10001324-1700735400-1700766000@fayaltwp.org
SUMMARY:Town Hall Rented
DESCRIPTION:
URL:https://fayaltwp.org/event/town-hall-rented-31/
END:VEVENT
BEGIN:VEVENT
DTSTART;TZID=America/Chicago:20231121T190000
DTEND;TZID=America/Chicago:20231121T203000
DTSTAMP:20260425T183449
CREATED:20230727T144614Z
LAST-MODIFIED:20250115T222032Z
UID:10001246-1700593200-1700598600@fayaltwp.org
SUMMARY:Town Board Meeting
DESCRIPTION:Meeting lengths may vary
URL:https://fayaltwp.org/event/town-board-meeting-2/2023-11-21/
END:VEVENT
BEGIN:VEVENT
DTSTART;TZID=America/Chicago:20231120T161500
DTEND;TZID=America/Chicago:20231120T183000
DTSTAMP:20260425T183449
CREATED:20190917T014302Z
LAST-MODIFIED:20220309T145134Z
UID:10001073-1700496900-1700505000@fayaltwp.org
SUMMARY:T.O.P.S Meeting
DESCRIPTION:Meeting length times may vary
URL:https://fayaltwp.org/event/t-o-p-s-meeting/2023-11-20/
END:VEVENT
BEGIN:VEVENT
DTSTART;TZID=America/Chicago:20231116T183000
DTEND;TZID=America/Chicago:20231116T200000
DTSTAMP:20260425T183449
CREATED:20190917T020221Z
LAST-MODIFIED:20250110T151531Z
UID:10002941-1700159400-1700164800@fayaltwp.org
SUMMARY:Eveleth-Fayal Garden Club
DESCRIPTION:Meeting lengths may vary
URL:https://fayaltwp.org/event/eveleth-fayal-garden-club/2023-11-16/
END:VEVENT
BEGIN:VEVENT
DTSTART;TZID=America/Chicago:20231116T180000
DTEND;TZID=America/Chicago:20231116T190000
DTSTAMP:20260425T183449
CREATED:20190917T021048Z
LAST-MODIFIED:20240213T193813Z
UID:10002279-1700157600-1700161200@fayaltwp.org
SUMMARY:Public Utility Meetings
DESCRIPTION:Meeting lengths may vary
URL:https://fayaltwp.org/event/public-utility-meetings-2/2023-11-16/
END:VEVENT
BEGIN:VEVENT
DTSTART;TZID=America/Chicago:20231116T173000
DTEND;TZID=America/Chicago:20231116T173000
DTSTAMP:20260425T183449
CREATED:20190917T020012Z
LAST-MODIFIED:20260317T185333Z
UID:10004100-1700155800-1700155800@fayaltwp.org
SUMMARY:Planning Commission Meeting
DESCRIPTION:Meeting lengths may vary
URL:https://fayaltwp.org/event/fayal-planning-commission/2023-11-16/
END:VEVENT
BEGIN:VEVENT
DTSTART;TZID=America/Chicago:20231113T161500
DTEND;TZID=America/Chicago:20231113T183000
DTSTAMP:20260425T183449
CREATED:20190917T014302Z
LAST-MODIFIED:20220309T145134Z
UID:10001072-1699892100-1699900200@fayaltwp.org
SUMMARY:T.O.P.S Meeting
DESCRIPTION:Meeting length times may vary
URL:https://fayaltwp.org/event/t-o-p-s-meeting/2023-11-13/
END:VEVENT
BEGIN:VEVENT
DTSTART;TZID=America/Chicago:20231113T120000
DTEND;TZID=America/Chicago:20231113T150000
DTSTAMP:20260425T183449
CREATED:20230727T145447Z
LAST-MODIFIED:20230727T145447Z
UID:10001323-1699876800-1699887600@fayaltwp.org
SUMMARY:Town Hall Rented
DESCRIPTION:
URL:https://fayaltwp.org/event/town-hall-rented-30/
END:VEVENT
END:VCALENDAR