BEGIN:VCALENDAR
VERSION:2.0
PRODID:-//Fayal Twp - ECPv6.15.17.1//NONSGML v1.0//EN
CALSCALE:GREGORIAN
METHOD:PUBLISH
X-WR-CALNAME:Fayal Twp
X-ORIGINAL-URL:https://fayaltwp.org
X-WR-CALDESC:Events for Fayal Twp
REFRESH-INTERVAL;VALUE=DURATION:PT1H
X-Robots-Tag:noindex
X-PUBLISHED-TTL:PT1H
BEGIN:VTIMEZONE
TZID:America/Chicago
BEGIN:DAYLIGHT
TZOFFSETFROM:-0600
TZOFFSETTO:-0500
TZNAME:CDT
DTSTART:20220313T080000
END:DAYLIGHT
BEGIN:STANDARD
TZOFFSETFROM:-0500
TZOFFSETTO:-0600
TZNAME:CST
DTSTART:20221106T070000
END:STANDARD
BEGIN:DAYLIGHT
TZOFFSETFROM:-0600
TZOFFSETTO:-0500
TZNAME:CDT
DTSTART:20230312T080000
END:DAYLIGHT
BEGIN:STANDARD
TZOFFSETFROM:-0500
TZOFFSETTO:-0600
TZNAME:CST
DTSTART:20231105T070000
END:STANDARD
BEGIN:DAYLIGHT
TZOFFSETFROM:-0600
TZOFFSETTO:-0500
TZNAME:CDT
DTSTART:20240310T080000
END:DAYLIGHT
BEGIN:STANDARD
TZOFFSETFROM:-0500
TZOFFSETTO:-0600
TZNAME:CST
DTSTART:20241103T070000
END:STANDARD
END:VTIMEZONE
BEGIN:VEVENT
DTSTART;VALUE=DATE:20230813
DTEND;VALUE=DATE:20230815
DTSTAMP:20260425T222131
CREATED:20230727T140739Z
LAST-MODIFIED:20230727T140739Z
UID:10001307-1691902800-1691989199@fayaltwp.org
SUMMARY:Town Hall Rented
DESCRIPTION:
URL:https://fayaltwp.org/event/town-hall-rented-20/
END:VEVENT
BEGIN:VEVENT
DTSTART;VALUE=DATE:20230812
DTEND;VALUE=DATE:20230814
DTSTAMP:20260425T222131
CREATED:20230727T140710Z
LAST-MODIFIED:20230727T140710Z
UID:10001306-1691816400-1691902799@fayaltwp.org
SUMMARY:Town Hall Rented
DESCRIPTION:
URL:https://fayaltwp.org/event/town-hall-rented-19/
END:VEVENT
BEGIN:VEVENT
DTSTART;TZID=America/Chicago:20230807T161500
DTEND;TZID=America/Chicago:20230807T183000
DTSTAMP:20260425T222131
CREATED:20190917T014302Z
LAST-MODIFIED:20220309T145134Z
UID:10001058-1691424900-1691433000@fayaltwp.org
SUMMARY:T.O.P.S Meeting
DESCRIPTION:Meeting length times may vary
URL:https://fayaltwp.org/event/t-o-p-s-meeting/2023-08-07/
END:VEVENT
BEGIN:VEVENT
DTSTART;VALUE=DATE:20230806
DTEND;VALUE=DATE:20230808
DTSTAMP:20260425T222131
CREATED:20230727T140643Z
LAST-MODIFIED:20230727T140643Z
UID:10001305-1691298000-1691384399@fayaltwp.org
SUMMARY:Town Hall Rented
DESCRIPTION:
URL:https://fayaltwp.org/event/town-hall-rented-18/
END:VEVENT
BEGIN:VEVENT
DTSTART;VALUE=DATE:20230805
DTEND;VALUE=DATE:20230807
DTSTAMP:20260425T222131
CREATED:20230727T140620Z
LAST-MODIFIED:20230727T140620Z
UID:10001304-1691211600-1691297999@fayaltwp.org
SUMMARY:Town Hall Rented
DESCRIPTION:
URL:https://fayaltwp.org/event/town-hall-rented-17/
END:VEVENT
BEGIN:VEVENT
DTSTART;VALUE=DATE:20230804
DTEND;VALUE=DATE:20230806
DTSTAMP:20260425T222131
CREATED:20230727T140555Z
LAST-MODIFIED:20230727T140555Z
UID:10001303-1691125200-1691211599@fayaltwp.org
SUMMARY:Town Hall Rented- Rummage Sale
DESCRIPTION:
URL:https://fayaltwp.org/event/town-hall-rented-rummage-sale/
END:VEVENT
BEGIN:VEVENT
DTSTART;TZID=America/Chicago:20230801T190000
DTEND;TZID=America/Chicago:20230801T203000
DTSTAMP:20260425T222131
CREATED:20190917T015259Z
LAST-MODIFIED:20220309T144930Z
UID:10001178-1690916400-1690921800@fayaltwp.org
SUMMARY:Town Board Meeting
DESCRIPTION:Meeting lengths may vary
URL:https://fayaltwp.org/event/town-board-meeting/2023-08-01/
END:VEVENT
BEGIN:VEVENT
DTSTART;TZID=America/Chicago:20230801T170000
DTEND;TZID=America/Chicago:20230801T190000
DTSTAMP:20260425T222131
CREATED:20230727T144658Z
LAST-MODIFIED:20230727T144658Z
UID:10001319-1690909200-1690916400@fayaltwp.org
SUMMARY:National Night Out
DESCRIPTION:
URL:https://fayaltwp.org/event/national-night-out/
END:VEVENT
BEGIN:VEVENT
DTSTART;TZID=America/Chicago:20230731T161500
DTEND;TZID=America/Chicago:20230731T183000
DTSTAMP:20260425T222131
CREATED:20190917T014302Z
LAST-MODIFIED:20220309T145134Z
UID:10001057-1690820100-1690828200@fayaltwp.org
SUMMARY:T.O.P.S Meeting
DESCRIPTION:Meeting length times may vary
URL:https://fayaltwp.org/event/t-o-p-s-meeting/2023-07-31/
END:VEVENT
BEGIN:VEVENT
DTSTART;VALUE=DATE:20230730
DTEND;VALUE=DATE:20230801
DTSTAMP:20260425T222131
CREATED:20230727T140324Z
LAST-MODIFIED:20230727T140324Z
UID:10001302-1690693200-1690779599@fayaltwp.org
SUMMARY:Town Hall Rented
DESCRIPTION:
URL:https://fayaltwp.org/event/town-hall-rented-16/
END:VEVENT
BEGIN:VEVENT
DTSTART;TZID=America/Chicago:20230729T130000
DTEND;TZID=America/Chicago:20230729T160000
DTSTAMP:20260425T222131
CREATED:20230727T140213Z
LAST-MODIFIED:20230727T140213Z
UID:10001300-1690635600-1690646400@fayaltwp.org
SUMMARY:Garden Club Flower Show
DESCRIPTION:
URL:https://fayaltwp.org/event/garden-club-flower-show/
END:VEVENT
BEGIN:VEVENT
DTSTART;VALUE=DATE:20230728
DTEND;VALUE=DATE:20230730
DTSTAMP:20260425T222131
CREATED:20230727T140247Z
LAST-MODIFIED:20230727T140247Z
UID:10001301-1690520400-1690606799@fayaltwp.org
SUMMARY:Town Hall Rented
DESCRIPTION:
URL:https://fayaltwp.org/event/town-hall-rented-15/
END:VEVENT
BEGIN:VEVENT
DTSTART;TZID=America/Chicago:20230724T161500
DTEND;TZID=America/Chicago:20230724T183000
DTSTAMP:20260425T222131
CREATED:20190917T014302Z
LAST-MODIFIED:20220309T145134Z
UID:10001056-1690215300-1690223400@fayaltwp.org
SUMMARY:T.O.P.S Meeting
DESCRIPTION:Meeting length times may vary
URL:https://fayaltwp.org/event/t-o-p-s-meeting/2023-07-24/
END:VEVENT
BEGIN:VEVENT
DTSTART;TZID=America/Chicago:20230720T183000
DTEND;TZID=America/Chicago:20230720T200000
DTSTAMP:20260425T222131
CREATED:20190917T020221Z
LAST-MODIFIED:20250110T151531Z
UID:10003053-1689877800-1689883200@fayaltwp.org
SUMMARY:Eveleth-Fayal Garden Club
DESCRIPTION:Meeting lengths may vary
URL:https://fayaltwp.org/event/eveleth-fayal-garden-club/2023-07-20/
END:VEVENT
BEGIN:VEVENT
DTSTART;TZID=America/Chicago:20230717T161500
DTEND;TZID=America/Chicago:20230717T183000
DTSTAMP:20260425T222131
CREATED:20190917T014302Z
LAST-MODIFIED:20220309T145134Z
UID:10001055-1689610500-1689618600@fayaltwp.org
SUMMARY:T.O.P.S Meeting
DESCRIPTION:Meeting length times may vary
URL:https://fayaltwp.org/event/t-o-p-s-meeting/2023-07-17/
END:VEVENT
BEGIN:VEVENT
DTSTART;TZID=America/Chicago:20230716T180000
DTEND;TZID=America/Chicago:20230716T190000
DTSTAMP:20260425T222131
CREATED:20190917T021048Z
LAST-MODIFIED:20240213T193813Z
UID:10002275-1689530400-1689534000@fayaltwp.org
SUMMARY:Public Utility Meetings
DESCRIPTION:Meeting lengths may vary
URL:https://fayaltwp.org/event/public-utility-meetings-2/2023-07-16/
END:VEVENT
BEGIN:VEVENT
DTSTART;TZID=America/Chicago:20230716T173000
DTEND;TZID=America/Chicago:20230716T173000
DTSTAMP:20260425T222131
CREATED:20190917T020012Z
LAST-MODIFIED:20260317T185333Z
UID:10004097-1689528600-1689528600@fayaltwp.org
SUMMARY:Planning Commission Meeting
DESCRIPTION:Meeting lengths may vary
URL:https://fayaltwp.org/event/fayal-planning-commission/2023-07-16/
END:VEVENT
BEGIN:VEVENT
DTSTART;TZID=America/Chicago:20230710T161500
DTEND;TZID=America/Chicago:20230710T183000
DTSTAMP:20260425T222131
CREATED:20190917T014302Z
LAST-MODIFIED:20220309T145134Z
UID:10001054-1689005700-1689013800@fayaltwp.org
SUMMARY:T.O.P.S Meeting
DESCRIPTION:Meeting length times may vary
URL:https://fayaltwp.org/event/t-o-p-s-meeting/2023-07-10/
END:VEVENT
BEGIN:VEVENT
DTSTART;TZID=America/Chicago:20230708T080000
DTEND;TZID=America/Chicago:20230708T170000
DTSTAMP:20260425T222131
CREATED:20230222T175618Z
LAST-MODIFIED:20230222T175618Z
UID:10001299-1688803200-1688835600@fayaltwp.org
SUMMARY:Town Hall Rented
DESCRIPTION:
URL:https://fayaltwp.org/event/town-hall-rented-14/
END:VEVENT
BEGIN:VEVENT
DTSTART;TZID=America/Chicago:20230704T190000
DTEND;TZID=America/Chicago:20230704T203000
DTSTAMP:20260425T222131
CREATED:20190917T015259Z
LAST-MODIFIED:20220309T144930Z
UID:10001177-1688497200-1688502600@fayaltwp.org
SUMMARY:Town Board Meeting
DESCRIPTION:Meeting lengths may vary
URL:https://fayaltwp.org/event/town-board-meeting/2023-07-04/
END:VEVENT
BEGIN:VEVENT
DTSTART;TZID=America/Chicago:20230703T161500
DTEND;TZID=America/Chicago:20230703T183000
DTSTAMP:20260425T222131
CREATED:20190917T014302Z
LAST-MODIFIED:20220309T145134Z
UID:10001053-1688400900-1688409000@fayaltwp.org
SUMMARY:T.O.P.S Meeting
DESCRIPTION:Meeting length times may vary
URL:https://fayaltwp.org/event/t-o-p-s-meeting/2023-07-03/
END:VEVENT
BEGIN:VEVENT
DTSTART;TZID=America/Chicago:20230626T161500
DTEND;TZID=America/Chicago:20230626T183000
DTSTAMP:20260425T222131
CREATED:20190917T014302Z
LAST-MODIFIED:20220309T145134Z
UID:10001052-1687796100-1687804200@fayaltwp.org
SUMMARY:T.O.P.S Meeting
DESCRIPTION:Meeting length times may vary
URL:https://fayaltwp.org/event/t-o-p-s-meeting/2023-06-26/
END:VEVENT
BEGIN:VEVENT
DTSTART;TZID=America/Chicago:20230619T161500
DTEND;TZID=America/Chicago:20230619T183000
DTSTAMP:20260425T222131
CREATED:20190917T014302Z
LAST-MODIFIED:20220309T145134Z
UID:10001051-1687191300-1687199400@fayaltwp.org
SUMMARY:T.O.P.S Meeting
DESCRIPTION:Meeting length times may vary
URL:https://fayaltwp.org/event/t-o-p-s-meeting/2023-06-19/
END:VEVENT
BEGIN:VEVENT
DTSTART;TZID=America/Chicago:20230616T180000
DTEND;TZID=America/Chicago:20230616T190000
DTSTAMP:20260425T222131
CREATED:20190917T021048Z
LAST-MODIFIED:20240213T193813Z
UID:10002274-1686938400-1686942000@fayaltwp.org
SUMMARY:Public Utility Meetings
DESCRIPTION:Meeting lengths may vary
URL:https://fayaltwp.org/event/public-utility-meetings-2/2023-06-16/
END:VEVENT
BEGIN:VEVENT
DTSTART;TZID=America/Chicago:20230616T173000
DTEND;TZID=America/Chicago:20230616T173000
DTSTAMP:20260425T222131
CREATED:20190917T020012Z
LAST-MODIFIED:20260317T185333Z
UID:10004096-1686936600-1686936600@fayaltwp.org
SUMMARY:Planning Commission Meeting
DESCRIPTION:Meeting lengths may vary
URL:https://fayaltwp.org/event/fayal-planning-commission/2023-06-16/
END:VEVENT
BEGIN:VEVENT
DTSTART;TZID=America/Chicago:20230615T183000
DTEND;TZID=America/Chicago:20230615T200000
DTSTAMP:20260425T222131
CREATED:20190917T020221Z
LAST-MODIFIED:20250110T151531Z
UID:10003052-1686853800-1686859200@fayaltwp.org
SUMMARY:Eveleth-Fayal Garden Club
DESCRIPTION:Meeting lengths may vary
URL:https://fayaltwp.org/event/eveleth-fayal-garden-club/2023-06-15/
END:VEVENT
BEGIN:VEVENT
DTSTART;TZID=America/Chicago:20230612T161500
DTEND;TZID=America/Chicago:20230612T183000
DTSTAMP:20260425T222131
CREATED:20190917T014302Z
LAST-MODIFIED:20220309T145134Z
UID:10001050-1686586500-1686594600@fayaltwp.org
SUMMARY:T.O.P.S Meeting
DESCRIPTION:Meeting length times may vary
URL:https://fayaltwp.org/event/t-o-p-s-meeting/2023-06-12/
END:VEVENT
BEGIN:VEVENT
DTSTART;TZID=America/Chicago:20230611T080000
DTEND;TZID=America/Chicago:20230611T170000
DTSTAMP:20260425T222131
CREATED:20230222T175518Z
LAST-MODIFIED:20230222T175518Z
UID:10001298-1686470400-1686502800@fayaltwp.org
SUMMARY:Town Hall Rented
DESCRIPTION:
URL:https://fayaltwp.org/event/town-hall-rented-13/
END:VEVENT
BEGIN:VEVENT
DTSTART;TZID=America/Chicago:20230610T080000
DTEND;TZID=America/Chicago:20230610T170000
DTSTAMP:20260425T222131
CREATED:20230222T175443Z
LAST-MODIFIED:20230222T175443Z
UID:10001297-1686384000-1686416400@fayaltwp.org
SUMMARY:Town Hall Rented
DESCRIPTION:
URL:https://fayaltwp.org/event/town-hall-rented-12/
END:VEVENT
BEGIN:VEVENT
DTSTART;TZID=America/Chicago:20230606T190000
DTEND;TZID=America/Chicago:20230606T203000
DTSTAMP:20260425T222131
CREATED:20190917T015259Z
LAST-MODIFIED:20220309T144930Z
UID:10001176-1686078000-1686083400@fayaltwp.org
SUMMARY:Town Board Meeting
DESCRIPTION:Meeting lengths may vary
URL:https://fayaltwp.org/event/town-board-meeting/2023-06-06/
END:VEVENT
END:VCALENDAR