BEGIN:VCALENDAR
VERSION:2.0
PRODID:-//Fayal Twp - ECPv6.15.17.1//NONSGML v1.0//EN
CALSCALE:GREGORIAN
METHOD:PUBLISH
X-WR-CALNAME:Fayal Twp
X-ORIGINAL-URL:https://fayaltwp.org
X-WR-CALDESC:Events for Fayal Twp
REFRESH-INTERVAL;VALUE=DURATION:PT1H
X-Robots-Tag:noindex
X-PUBLISHED-TTL:PT1H
BEGIN:VTIMEZONE
TZID:America/Chicago
BEGIN:DAYLIGHT
TZOFFSETFROM:-0600
TZOFFSETTO:-0500
TZNAME:CDT
DTSTART:20220313T080000
END:DAYLIGHT
BEGIN:STANDARD
TZOFFSETFROM:-0500
TZOFFSETTO:-0600
TZNAME:CST
DTSTART:20221106T070000
END:STANDARD
BEGIN:DAYLIGHT
TZOFFSETFROM:-0600
TZOFFSETTO:-0500
TZNAME:CDT
DTSTART:20230312T080000
END:DAYLIGHT
BEGIN:STANDARD
TZOFFSETFROM:-0500
TZOFFSETTO:-0600
TZNAME:CST
DTSTART:20231105T070000
END:STANDARD
BEGIN:DAYLIGHT
TZOFFSETFROM:-0600
TZOFFSETTO:-0500
TZNAME:CDT
DTSTART:20240310T080000
END:DAYLIGHT
BEGIN:STANDARD
TZOFFSETFROM:-0500
TZOFFSETTO:-0600
TZNAME:CST
DTSTART:20241103T070000
END:STANDARD
END:VTIMEZONE
BEGIN:VEVENT
DTSTART;TZID=America/Chicago:20231002T161500
DTEND;TZID=America/Chicago:20231002T183000
DTSTAMP:20260425T165133
CREATED:20190917T014302Z
LAST-MODIFIED:20220309T145134Z
UID:10001066-1696263300-1696271400@fayaltwp.org
SUMMARY:T.O.P.S Meeting
DESCRIPTION:Meeting length times may vary
URL:https://fayaltwp.org/event/t-o-p-s-meeting/2023-10-02/
END:VEVENT
BEGIN:VEVENT
DTSTART;TZID=America/Chicago:20231003T190000
DTEND;TZID=America/Chicago:20231003T203000
DTSTAMP:20260425T165133
CREATED:20190917T015259Z
LAST-MODIFIED:20220309T144930Z
UID:10001180-1696359600-1696365000@fayaltwp.org
SUMMARY:Town Board Meeting
DESCRIPTION:Meeting lengths may vary
URL:https://fayaltwp.org/event/town-board-meeting/2023-10-03/
END:VEVENT
BEGIN:VEVENT
DTSTART;TZID=America/Chicago:20231009T120000
DTEND;TZID=America/Chicago:20231009T150000
DTSTAMP:20260425T165133
CREATED:20230727T145405Z
LAST-MODIFIED:20230727T145405Z
UID:10001322-1696852800-1696863600@fayaltwp.org
SUMMARY:Town Hall Rented
DESCRIPTION:
URL:https://fayaltwp.org/event/town-hall-rented-29/
END:VEVENT
BEGIN:VEVENT
DTSTART;TZID=America/Chicago:20231009T161500
DTEND;TZID=America/Chicago:20231009T183000
DTSTAMP:20260425T165133
CREATED:20190917T014302Z
LAST-MODIFIED:20220309T145134Z
UID:10001067-1696868100-1696876200@fayaltwp.org
SUMMARY:T.O.P.S Meeting
DESCRIPTION:Meeting length times may vary
URL:https://fayaltwp.org/event/t-o-p-s-meeting/2023-10-09/
END:VEVENT
BEGIN:VEVENT
DTSTART;TZID=America/Chicago:20231016T161500
DTEND;TZID=America/Chicago:20231016T183000
DTSTAMP:20260425T165133
CREATED:20190917T014302Z
LAST-MODIFIED:20220309T145134Z
UID:10001068-1697472900-1697481000@fayaltwp.org
SUMMARY:T.O.P.S Meeting
DESCRIPTION:Meeting length times may vary
URL:https://fayaltwp.org/event/t-o-p-s-meeting/2023-10-16/
END:VEVENT
BEGIN:VEVENT
DTSTART;TZID=America/Chicago:20231016T173000
DTEND;TZID=America/Chicago:20231016T173000
DTSTAMP:20260425T165133
CREATED:20190917T020012Z
LAST-MODIFIED:20260317T185333Z
UID:10004099-1697477400-1697477400@fayaltwp.org
SUMMARY:Planning Commission Meeting
DESCRIPTION:Meeting lengths may vary
URL:https://fayaltwp.org/event/fayal-planning-commission/2023-10-16/
END:VEVENT
BEGIN:VEVENT
DTSTART;TZID=America/Chicago:20231016T180000
DTEND;TZID=America/Chicago:20231016T190000
DTSTAMP:20260425T165133
CREATED:20190917T021048Z
LAST-MODIFIED:20240213T193813Z
UID:10002278-1697479200-1697482800@fayaltwp.org
SUMMARY:Public Utility Meetings
DESCRIPTION:Meeting lengths may vary
URL:https://fayaltwp.org/event/public-utility-meetings-2/2023-10-16/
END:VEVENT
BEGIN:VEVENT
DTSTART;TZID=America/Chicago:20231017T190000
DTEND;TZID=America/Chicago:20231017T203000
DTSTAMP:20260425T165133
CREATED:20230727T144614Z
LAST-MODIFIED:20250115T222032Z
UID:10001245-1697569200-1697574600@fayaltwp.org
SUMMARY:Town Board Meeting
DESCRIPTION:Meeting lengths may vary
URL:https://fayaltwp.org/event/town-board-meeting-2/2023-10-17/
END:VEVENT
BEGIN:VEVENT
DTSTART;TZID=America/Chicago:20231019T183000
DTEND;TZID=America/Chicago:20231019T200000
DTSTAMP:20260425T165133
CREATED:20190917T020221Z
LAST-MODIFIED:20250110T151531Z
UID:10003056-1697740200-1697745600@fayaltwp.org
SUMMARY:Eveleth-Fayal Garden Club
DESCRIPTION:Meeting lengths may vary
URL:https://fayaltwp.org/event/eveleth-fayal-garden-club/2023-10-19/
END:VEVENT
BEGIN:VEVENT
DTSTART;TZID=America/Chicago:20231023T161500
DTEND;TZID=America/Chicago:20231023T183000
DTSTAMP:20260425T165133
CREATED:20190917T014302Z
LAST-MODIFIED:20220309T145134Z
UID:10001069-1698077700-1698085800@fayaltwp.org
SUMMARY:T.O.P.S Meeting
DESCRIPTION:Meeting length times may vary
URL:https://fayaltwp.org/event/t-o-p-s-meeting/2023-10-23/
END:VEVENT
BEGIN:VEVENT
DTSTART;TZID=America/Chicago:20231030T161500
DTEND;TZID=America/Chicago:20231030T183000
DTSTAMP:20260425T165133
CREATED:20190917T014302Z
LAST-MODIFIED:20220309T145134Z
UID:10001070-1698682500-1698690600@fayaltwp.org
SUMMARY:T.O.P.S Meeting
DESCRIPTION:Meeting length times may vary
URL:https://fayaltwp.org/event/t-o-p-s-meeting/2023-10-30/
END:VEVENT
END:VCALENDAR