BEGIN:VCALENDAR
VERSION:2.0
PRODID:-//Fayal Twp - ECPv6.15.17.1//NONSGML v1.0//EN
CALSCALE:GREGORIAN
METHOD:PUBLISH
X-WR-CALNAME:Fayal Twp
X-ORIGINAL-URL:https://fayaltwp.org
X-WR-CALDESC:Events for Fayal Twp
REFRESH-INTERVAL;VALUE=DURATION:PT1H
X-Robots-Tag:noindex
X-PUBLISHED-TTL:PT1H
BEGIN:VTIMEZONE
TZID:America/Chicago
BEGIN:DAYLIGHT
TZOFFSETFROM:-0600
TZOFFSETTO:-0500
TZNAME:CDT
DTSTART:20250309T080000
END:DAYLIGHT
BEGIN:STANDARD
TZOFFSETFROM:-0500
TZOFFSETTO:-0600
TZNAME:CST
DTSTART:20251102T070000
END:STANDARD
BEGIN:DAYLIGHT
TZOFFSETFROM:-0600
TZOFFSETTO:-0500
TZNAME:CDT
DTSTART:20260308T080000
END:DAYLIGHT
BEGIN:STANDARD
TZOFFSETFROM:-0500
TZOFFSETTO:-0600
TZNAME:CST
DTSTART:20261101T070000
END:STANDARD
BEGIN:DAYLIGHT
TZOFFSETFROM:-0600
TZOFFSETTO:-0500
TZNAME:CDT
DTSTART:20270314T080000
END:DAYLIGHT
BEGIN:STANDARD
TZOFFSETFROM:-0500
TZOFFSETTO:-0600
TZNAME:CST
DTSTART:20271107T070000
END:STANDARD
END:VTIMEZONE
BEGIN:VEVENT
DTSTART;TZID=America/Chicago:20260225T093000
DTEND;TZID=America/Chicago:20260225T103000
DTSTAMP:20260424T043813
CREATED:20240207T174449Z
LAST-MODIFIED:20260317T185548Z
UID:10001651-1772011800-1772015400@fayaltwp.org
SUMMARY:Aerobics
DESCRIPTION:
URL:https://fayaltwp.org/event/aerobics/2026-02-25/
END:VEVENT
BEGIN:VEVENT
DTSTART;TZID=America/Chicago:20260226T093000
DTEND;TZID=America/Chicago:20260226T223000
DTSTAMP:20260424T043813
CREATED:20260112T180331Z
LAST-MODIFIED:20260317T190351Z
UID:10003482-1772098200-1772145000@fayaltwp.org
SUMMARY:Yoga
DESCRIPTION:
URL:https://fayaltwp.org/event/yoga-2-2/2026-02-26/
END:VEVENT
BEGIN:VEVENT
DTSTART;TZID=America/Chicago:20260227T093000
DTEND;TZID=America/Chicago:20260227T103000
DTSTAMP:20260424T043813
CREATED:20240207T174449Z
LAST-MODIFIED:20260317T185548Z
UID:10001652-1772184600-1772188200@fayaltwp.org
SUMMARY:Aerobics
DESCRIPTION:
URL:https://fayaltwp.org/event/aerobics/2026-02-27/
END:VEVENT
BEGIN:VEVENT
DTSTART;TZID=America/Chicago:20260302T093000
DTEND;TZID=America/Chicago:20260302T103000
DTSTAMP:20260424T043813
CREATED:20240207T174449Z
LAST-MODIFIED:20260317T185548Z
UID:10001653-1772443800-1772447400@fayaltwp.org
SUMMARY:Aerobics
DESCRIPTION:
URL:https://fayaltwp.org/event/aerobics/2026-03-02/
END:VEVENT
BEGIN:VEVENT
DTSTART;TZID=America/Chicago:20260302T160000
DTEND;TZID=America/Chicago:20260302T183000
DTSTAMP:20260424T043813
CREATED:20250905T131821Z
LAST-MODIFIED:20250905T131821Z
UID:10003744-1772467200-1772476200@fayaltwp.org
SUMMARY:T.O.P.S.
DESCRIPTION:
URL:https://fayaltwp.org/event/t-o-p-s/2026-03-02/
END:VEVENT
BEGIN:VEVENT
DTSTART;TZID=America/Chicago:20260303T190000
DTEND;TZID=America/Chicago:20260303T203000
DTSTAMP:20260424T043813
CREATED:20240213T194504Z
LAST-MODIFIED:20250318T164658Z
UID:10002413-1772564400-1772569800@fayaltwp.org
SUMMARY:Town Board Meeting
DESCRIPTION:Meeting lengths may vary
URL:https://fayaltwp.org/event/town-board-meeting-3/2026-03-03/
END:VEVENT
BEGIN:VEVENT
DTSTART;TZID=America/Chicago:20260304T093000
DTEND;TZID=America/Chicago:20260304T103000
DTSTAMP:20260424T043813
CREATED:20240207T174449Z
LAST-MODIFIED:20260317T185548Z
UID:10001654-1772616600-1772620200@fayaltwp.org
SUMMARY:Aerobics
DESCRIPTION:
URL:https://fayaltwp.org/event/aerobics/2026-03-04/
END:VEVENT
BEGIN:VEVENT
DTSTART;TZID=America/Chicago:20260306T093000
DTEND;TZID=America/Chicago:20260306T103000
DTSTAMP:20260424T043813
CREATED:20240207T174449Z
LAST-MODIFIED:20260317T185548Z
UID:10001655-1772789400-1772793000@fayaltwp.org
SUMMARY:Aerobics
DESCRIPTION:
URL:https://fayaltwp.org/event/aerobics/2026-03-06/
END:VEVENT
BEGIN:VEVENT
DTSTART;VALUE=DATE:20260307
DTEND;VALUE=DATE:20260309
DTSTAMP:20260424T043813
CREATED:20260212T163945Z
LAST-MODIFIED:20260212T163945Z
UID:10004036-1772859600-1772945999@fayaltwp.org
SUMMARY:Town Hall Rented
DESCRIPTION:
URL:https://fayaltwp.org/event/town-hall-rented-172/
END:VEVENT
BEGIN:VEVENT
DTSTART;TZID=America/Chicago:20260309T093000
DTEND;TZID=America/Chicago:20260309T103000
DTSTAMP:20260424T043814
CREATED:20240207T174449Z
LAST-MODIFIED:20260317T185548Z
UID:10001656-1773048600-1773052200@fayaltwp.org
SUMMARY:Aerobics
DESCRIPTION:
URL:https://fayaltwp.org/event/aerobics/2026-03-09/
END:VEVENT
BEGIN:VEVENT
DTSTART;TZID=America/Chicago:20260309T120000
DTEND;TZID=America/Chicago:20260309T140000
DTSTAMP:20260424T043814
CREATED:20240207T175425Z
LAST-MODIFIED:20240718T172046Z
UID:10002142-1773057600-1773064800@fayaltwp.org
SUMMARY:Sororiety Meeting
DESCRIPTION:
URL:https://fayaltwp.org/event/sororiety-meeting/2026-03-09/
END:VEVENT
BEGIN:VEVENT
DTSTART;TZID=America/Chicago:20260309T160000
DTEND;TZID=America/Chicago:20260309T183000
DTSTAMP:20260424T043814
CREATED:20250905T131821Z
LAST-MODIFIED:20250905T131821Z
UID:10003745-1773072000-1773081000@fayaltwp.org
SUMMARY:T.O.P.S.
DESCRIPTION:
URL:https://fayaltwp.org/event/t-o-p-s/2026-03-09/
END:VEVENT
BEGIN:VEVENT
DTSTART;TZID=America/Chicago:20260310T180000
DTEND;TZID=America/Chicago:20260310T190000
DTSTAMP:20260424T043814
CREATED:20240213T194019Z
LAST-MODIFIED:20240718T171231Z
UID:10002365-1773165600-1773169200@fayaltwp.org
SUMMARY:Public Utility Meetings
DESCRIPTION:Meeting lengths may vary
URL:https://fayaltwp.org/event/public-utility-meetings-2-2/2026-03-10/
END:VEVENT
BEGIN:VEVENT
DTSTART;TZID=America/Chicago:20260310T190000
DTEND;TZID=America/Chicago:20260310T203000
DTSTAMP:20260424T043814
CREATED:20260212T164054Z
LAST-MODIFIED:20260212T164054Z
UID:10004039-1773169200-1773174600@fayaltwp.org
SUMMARY:Town Annual Meeting
DESCRIPTION:
URL:https://fayaltwp.org/event/town-annual-meeting/
END:VEVENT
BEGIN:VEVENT
DTSTART;TZID=America/Chicago:20260311T093000
DTEND;TZID=America/Chicago:20260311T103000
DTSTAMP:20260424T043814
CREATED:20240207T174449Z
LAST-MODIFIED:20260317T185548Z
UID:10001657-1773221400-1773225000@fayaltwp.org
SUMMARY:Aerobics
DESCRIPTION:
URL:https://fayaltwp.org/event/aerobics/2026-03-11/
END:VEVENT
BEGIN:VEVENT
DTSTART;TZID=America/Chicago:20260313T093000
DTEND;TZID=America/Chicago:20260313T103000
DTSTAMP:20260424T043814
CREATED:20240207T174449Z
LAST-MODIFIED:20260317T185548Z
UID:10001658-1773394200-1773397800@fayaltwp.org
SUMMARY:Aerobics
DESCRIPTION:
URL:https://fayaltwp.org/event/aerobics/2026-03-13/
END:VEVENT
BEGIN:VEVENT
DTSTART;VALUE=DATE:20260314
DTEND;VALUE=DATE:20260316
DTSTAMP:20260424T043814
CREATED:20260112T172820Z
LAST-MODIFIED:20260112T172820Z
UID:10004003-1773464400-1773550799@fayaltwp.org
SUMMARY:Town Hall Rented
DESCRIPTION:
URL:https://fayaltwp.org/event/town-hall-rented-161/
END:VEVENT
BEGIN:VEVENT
DTSTART;VALUE=DATE:20260315
DTEND;VALUE=DATE:20260317
DTSTAMP:20260424T043814
CREATED:20260212T164004Z
LAST-MODIFIED:20260212T164004Z
UID:10004037-1773550800-1773637199@fayaltwp.org
SUMMARY:Town Hall Rented
DESCRIPTION:
URL:https://fayaltwp.org/event/town-hall-rented-173/
END:VEVENT
BEGIN:VEVENT
DTSTART;TZID=America/Chicago:20260316T093000
DTEND;TZID=America/Chicago:20260316T103000
DTSTAMP:20260424T043814
CREATED:20240207T174449Z
LAST-MODIFIED:20260317T185548Z
UID:10001659-1773653400-1773657000@fayaltwp.org
SUMMARY:Aerobics
DESCRIPTION:
URL:https://fayaltwp.org/event/aerobics/2026-03-16/
END:VEVENT
BEGIN:VEVENT
DTSTART;TZID=America/Chicago:20260316T160000
DTEND;TZID=America/Chicago:20260316T183000
DTSTAMP:20260424T043814
CREATED:20250905T131821Z
LAST-MODIFIED:20250905T131821Z
UID:10003746-1773676800-1773685800@fayaltwp.org
SUMMARY:T.O.P.S.
DESCRIPTION:
URL:https://fayaltwp.org/event/t-o-p-s/2026-03-16/
END:VEVENT
BEGIN:VEVENT
DTSTART;TZID=America/Chicago:20260316T173000
DTEND;TZID=America/Chicago:20260316T173000
DTSTAMP:20260424T043814
CREATED:20260317T190547Z
LAST-MODIFIED:20260317T190547Z
UID:10004125-1773682200-1773682200@fayaltwp.org
SUMMARY:Planning Commission Meeting
DESCRIPTION:Meeting lengths may vary
URL:https://fayaltwp.org/event/fayal-planning-commission-3/
END:VEVENT
BEGIN:VEVENT
DTSTART;TZID=America/Chicago:20260317T080000
DTEND;TZID=America/Chicago:20260317T170000
DTSTAMP:20260424T043814
CREATED:20260317T190241Z
LAST-MODIFIED:20260317T190241Z
UID:10004363-1773734400-1773766800@fayaltwp.org
SUMMARY:Planning Commission Meeting
DESCRIPTION:Meeting lengths may vary
URL:https://fayaltwp.org/event/fayal-planning-commission-2/2026-03-17/
END:VEVENT
BEGIN:VEVENT
DTSTART;TZID=America/Chicago:20260317T190000
DTEND;TZID=America/Chicago:20260317T203000
DTSTAMP:20260424T043814
CREATED:20230727T144614Z
LAST-MODIFIED:20250115T222032Z
UID:10003354-1773774000-1773779400@fayaltwp.org
SUMMARY:Town Board Meeting
DESCRIPTION:Meeting lengths may vary
URL:https://fayaltwp.org/event/town-board-meeting-2/2026-03-17/
END:VEVENT
BEGIN:VEVENT
DTSTART;TZID=America/Chicago:20260318T093000
DTEND;TZID=America/Chicago:20260318T103000
DTSTAMP:20260424T043814
CREATED:20240207T174449Z
LAST-MODIFIED:20260317T185548Z
UID:10001660-1773826200-1773829800@fayaltwp.org
SUMMARY:Aerobics
DESCRIPTION:
URL:https://fayaltwp.org/event/aerobics/2026-03-18/
END:VEVENT
BEGIN:VEVENT
DTSTART;TZID=America/Chicago:20260319T183000
DTEND;TZID=America/Chicago:20260319T200000
DTSTAMP:20260424T043814
CREATED:20190917T020221Z
LAST-MODIFIED:20250110T151531Z
UID:10003081-1773945000-1773950400@fayaltwp.org
SUMMARY:Eveleth-Fayal Garden Club
DESCRIPTION:Meeting lengths may vary
URL:https://fayaltwp.org/event/eveleth-fayal-garden-club/2026-03-19/
END:VEVENT
BEGIN:VEVENT
DTSTART;TZID=America/Chicago:20260320T093000
DTEND;TZID=America/Chicago:20260320T103000
DTSTAMP:20260424T043814
CREATED:20240207T174449Z
LAST-MODIFIED:20260317T185548Z
UID:10001661-1773999000-1774002600@fayaltwp.org
SUMMARY:Aerobics
DESCRIPTION:
URL:https://fayaltwp.org/event/aerobics/2026-03-20/
END:VEVENT
BEGIN:VEVENT
DTSTART;TZID=America/Chicago:20260323T093000
DTEND;TZID=America/Chicago:20260323T103000
DTSTAMP:20260424T043814
CREATED:20240207T174449Z
LAST-MODIFIED:20260317T185548Z
UID:10001662-1774258200-1774261800@fayaltwp.org
SUMMARY:Aerobics
DESCRIPTION:
URL:https://fayaltwp.org/event/aerobics/2026-03-23/
END:VEVENT
BEGIN:VEVENT
DTSTART;TZID=America/Chicago:20260323T160000
DTEND;TZID=America/Chicago:20260323T183000
DTSTAMP:20260424T043814
CREATED:20250905T131821Z
LAST-MODIFIED:20250905T131821Z
UID:10003747-1774281600-1774290600@fayaltwp.org
SUMMARY:T.O.P.S.
DESCRIPTION:
URL:https://fayaltwp.org/event/t-o-p-s/2026-03-23/
END:VEVENT
BEGIN:VEVENT
DTSTART;TZID=America/Chicago:20260325T093000
DTEND;TZID=America/Chicago:20260325T103000
DTSTAMP:20260424T043814
CREATED:20240207T174449Z
LAST-MODIFIED:20260317T185548Z
UID:10001663-1774431000-1774434600@fayaltwp.org
SUMMARY:Aerobics
DESCRIPTION:
URL:https://fayaltwp.org/event/aerobics/2026-03-25/
END:VEVENT
BEGIN:VEVENT
DTSTART;VALUE=DATE:20260326
DTEND;VALUE=DATE:20260330
DTSTAMP:20260424T043814
CREATED:20260112T172845Z
LAST-MODIFIED:20260112T172845Z
UID:10004004-1774501200-1774760399@fayaltwp.org
SUMMARY:Rummage Sale
DESCRIPTION:
URL:https://fayaltwp.org/event/rummage-sale-12/
END:VEVENT
END:VCALENDAR