BEGIN:VCALENDAR
VERSION:2.0
PRODID:-//Fayal Twp - ECPv6.15.17.1//NONSGML v1.0//EN
CALSCALE:GREGORIAN
METHOD:PUBLISH
X-WR-CALNAME:Fayal Twp
X-ORIGINAL-URL:https://fayaltwp.org
X-WR-CALDESC:Events for Fayal Twp
REFRESH-INTERVAL;VALUE=DURATION:PT1H
X-Robots-Tag:noindex
X-PUBLISHED-TTL:PT1H
BEGIN:VTIMEZONE
TZID:America/Chicago
BEGIN:DAYLIGHT
TZOFFSETFROM:-0600
TZOFFSETTO:-0500
TZNAME:CDT
DTSTART:20190310T080000
END:DAYLIGHT
BEGIN:STANDARD
TZOFFSETFROM:-0500
TZOFFSETTO:-0600
TZNAME:CST
DTSTART:20191103T070000
END:STANDARD
BEGIN:DAYLIGHT
TZOFFSETFROM:-0600
TZOFFSETTO:-0500
TZNAME:CDT
DTSTART:20200308T080000
END:DAYLIGHT
BEGIN:STANDARD
TZOFFSETFROM:-0500
TZOFFSETTO:-0600
TZNAME:CST
DTSTART:20201101T070000
END:STANDARD
BEGIN:DAYLIGHT
TZOFFSETFROM:-0600
TZOFFSETTO:-0500
TZNAME:CDT
DTSTART:20210314T080000
END:DAYLIGHT
BEGIN:STANDARD
TZOFFSETFROM:-0500
TZOFFSETTO:-0600
TZNAME:CST
DTSTART:20211107T070000
END:STANDARD
END:VTIMEZONE
BEGIN:VTIMEZONE
TZID:UTC
BEGIN:STANDARD
TZOFFSETFROM:+0000
TZOFFSETTO:+0000
TZNAME:UTC
DTSTART:20190101T000000
END:STANDARD
END:VTIMEZONE
BEGIN:VEVENT
DTSTART;TZID=America/Chicago:20200516T173000
DTEND;TZID=America/Chicago:20200516T173000
DTSTAMP:20260424T094503
CREATED:20190917T020012Z
LAST-MODIFIED:20260317T185333Z
UID:10004065-1589650200-1589650200@fayaltwp.org
SUMMARY:Planning Commission Meeting
DESCRIPTION:Meeting lengths may vary
URL:https://fayaltwp.org/event/fayal-planning-commission/2020-05-16/
END:VEVENT
BEGIN:VEVENT
DTSTART;TZID=America/Chicago:20200516T180000
DTEND;TZID=America/Chicago:20200516T190000
DTSTAMP:20260424T094503
CREATED:20190917T021048Z
LAST-MODIFIED:20240213T193813Z
UID:10002237-1589652000-1589655600@fayaltwp.org
SUMMARY:Public Utility Meetings
DESCRIPTION:Meeting lengths may vary
URL:https://fayaltwp.org/event/public-utility-meetings-2/2020-05-16/
END:VEVENT
BEGIN:VEVENT
DTSTART;TZID=UTC:20200516T180000
DTEND;TZID=UTC:20200516T190000
DTSTAMP:20260424T094503
CREATED:20190917T015406Z
LAST-MODIFIED:20240207T175555Z
UID:10002186-1589652000-1589655600@fayaltwp.org
SUMMARY:Public Utility Meetings
DESCRIPTION:Meeting lengths may vary
URL:https://fayaltwp.org/event/public-utility-meetings/2020-05-16/
END:VEVENT
BEGIN:VEVENT
DTSTART;TZID=America/Chicago:20200518T161500
DTEND;TZID=America/Chicago:20200518T183000
DTSTAMP:20260424T094503
CREATED:20190917T014302Z
LAST-MODIFIED:20220309T145134Z
UID:10000890-1589818500-1589826600@fayaltwp.org
SUMMARY:T.O.P.S Meeting
DESCRIPTION:Meeting length times may vary
URL:https://fayaltwp.org/event/t-o-p-s-meeting/2020-05-18/
END:VEVENT
BEGIN:VEVENT
DTSTART;TZID=America/Chicago:20200519T063000
DTEND;TZID=America/Chicago:20200519T190000
DTSTAMP:20260424T094503
CREATED:20200427T131714Z
LAST-MODIFIED:20200427T131714Z
UID:10000215-1589869800-1589914800@fayaltwp.org
SUMMARY:Board of Appeal Reconvene
DESCRIPTION:
URL:https://fayaltwp.org/event/board-of-appeal-reconvene/
END:VEVENT
BEGIN:VEVENT
DTSTART;TZID=America/Chicago:20200521T183000
DTEND;TZID=America/Chicago:20200521T200000
DTSTAMP:20260424T094503
CREATED:20190917T020221Z
LAST-MODIFIED:20250110T151531Z
UID:10003021-1590085800-1590091200@fayaltwp.org
SUMMARY:Eveleth-Fayal Garden Club
DESCRIPTION:Meeting lengths may vary
URL:https://fayaltwp.org/event/eveleth-fayal-garden-club/2020-05-21/
END:VEVENT
BEGIN:VEVENT
DTSTART;TZID=America/Chicago:20200525T161500
DTEND;TZID=America/Chicago:20200525T183000
DTSTAMP:20260424T094504
CREATED:20190917T014302Z
LAST-MODIFIED:20220309T145134Z
UID:10000891-1590423300-1590431400@fayaltwp.org
SUMMARY:T.O.P.S Meeting
DESCRIPTION:Meeting length times may vary
URL:https://fayaltwp.org/event/t-o-p-s-meeting/2020-05-25/
END:VEVENT
BEGIN:VEVENT
DTSTART;TZID=America/Chicago:20200601T161500
DTEND;TZID=America/Chicago:20200601T183000
DTSTAMP:20260424T094504
CREATED:20190917T014302Z
LAST-MODIFIED:20220309T145134Z
UID:10000892-1591028100-1591036200@fayaltwp.org
SUMMARY:T.O.P.S Meeting
DESCRIPTION:Meeting length times may vary
URL:https://fayaltwp.org/event/t-o-p-s-meeting/2020-06-01/
END:VEVENT
BEGIN:VEVENT
DTSTART;TZID=America/Chicago:20200602T190000
DTEND;TZID=America/Chicago:20200602T203000
DTSTAMP:20260424T094504
CREATED:20190917T015259Z
LAST-MODIFIED:20220309T144930Z
UID:10001146-1591124400-1591129800@fayaltwp.org
SUMMARY:Town Board Meeting
DESCRIPTION:Meeting lengths may vary
URL:https://fayaltwp.org/event/town-board-meeting/2020-06-02/
END:VEVENT
BEGIN:VEVENT
DTSTART;TZID=America/Chicago:20200608T161500
DTEND;TZID=America/Chicago:20200608T183000
DTSTAMP:20260424T094504
CREATED:20190917T014302Z
LAST-MODIFIED:20220309T145134Z
UID:10000893-1591632900-1591641000@fayaltwp.org
SUMMARY:T.O.P.S Meeting
DESCRIPTION:Meeting length times may vary
URL:https://fayaltwp.org/event/t-o-p-s-meeting/2020-06-08/
END:VEVENT
BEGIN:VEVENT
DTSTART;TZID=America/Chicago:20200615T161500
DTEND;TZID=America/Chicago:20200615T183000
DTSTAMP:20260424T094504
CREATED:20190917T014302Z
LAST-MODIFIED:20220309T145134Z
UID:10000894-1592237700-1592245800@fayaltwp.org
SUMMARY:T.O.P.S Meeting
DESCRIPTION:Meeting length times may vary
URL:https://fayaltwp.org/event/t-o-p-s-meeting/2020-06-15/
END:VEVENT
BEGIN:VEVENT
DTSTART;TZID=America/Chicago:20200616T173000
DTEND;TZID=America/Chicago:20200616T173000
DTSTAMP:20260424T094504
CREATED:20190917T020012Z
LAST-MODIFIED:20260317T185333Z
UID:10004066-1592328600-1592328600@fayaltwp.org
SUMMARY:Planning Commission Meeting
DESCRIPTION:Meeting lengths may vary
URL:https://fayaltwp.org/event/fayal-planning-commission/2020-06-16/
END:VEVENT
BEGIN:VEVENT
DTSTART;TZID=America/Chicago:20200616T180000
DTEND;TZID=America/Chicago:20200616T190000
DTSTAMP:20260424T094504
CREATED:20190917T021048Z
LAST-MODIFIED:20240213T193813Z
UID:10002238-1592330400-1592334000@fayaltwp.org
SUMMARY:Public Utility Meetings
DESCRIPTION:Meeting lengths may vary
URL:https://fayaltwp.org/event/public-utility-meetings-2/2020-06-16/
END:VEVENT
BEGIN:VEVENT
DTSTART;TZID=UTC:20200616T180000
DTEND;TZID=UTC:20200616T190000
DTSTAMP:20260424T094504
CREATED:20190917T015406Z
LAST-MODIFIED:20240207T175555Z
UID:10002187-1592330400-1592334000@fayaltwp.org
SUMMARY:Public Utility Meetings
DESCRIPTION:Meeting lengths may vary
URL:https://fayaltwp.org/event/public-utility-meetings/2020-06-16/
END:VEVENT
BEGIN:VEVENT
DTSTART;TZID=America/Chicago:20200618T183000
DTEND;TZID=America/Chicago:20200618T200000
DTSTAMP:20260424T094504
CREATED:20190917T020221Z
LAST-MODIFIED:20250110T151531Z
UID:10003022-1592505000-1592510400@fayaltwp.org
SUMMARY:Eveleth-Fayal Garden Club
DESCRIPTION:Meeting lengths may vary
URL:https://fayaltwp.org/event/eveleth-fayal-garden-club/2020-06-18/
END:VEVENT
BEGIN:VEVENT
DTSTART;TZID=America/Chicago:20200622T161500
DTEND;TZID=America/Chicago:20200622T183000
DTSTAMP:20260424T094504
CREATED:20190917T014302Z
LAST-MODIFIED:20220309T145134Z
UID:10000895-1592842500-1592850600@fayaltwp.org
SUMMARY:T.O.P.S Meeting
DESCRIPTION:Meeting length times may vary
URL:https://fayaltwp.org/event/t-o-p-s-meeting/2020-06-22/
END:VEVENT
BEGIN:VEVENT
DTSTART;TZID=America/Chicago:20200629T161500
DTEND;TZID=America/Chicago:20200629T183000
DTSTAMP:20260424T094504
CREATED:20190917T014302Z
LAST-MODIFIED:20220309T145134Z
UID:10000896-1593447300-1593455400@fayaltwp.org
SUMMARY:T.O.P.S Meeting
DESCRIPTION:Meeting length times may vary
URL:https://fayaltwp.org/event/t-o-p-s-meeting/2020-06-29/
END:VEVENT
BEGIN:VEVENT
DTSTART;TZID=America/Chicago:20200706T161500
DTEND;TZID=America/Chicago:20200706T183000
DTSTAMP:20260424T094504
CREATED:20190917T014302Z
LAST-MODIFIED:20220309T145134Z
UID:10000897-1594052100-1594060200@fayaltwp.org
SUMMARY:T.O.P.S Meeting
DESCRIPTION:Meeting length times may vary
URL:https://fayaltwp.org/event/t-o-p-s-meeting/2020-07-06/
END:VEVENT
BEGIN:VEVENT
DTSTART;TZID=America/Chicago:20200707T190000
DTEND;TZID=America/Chicago:20200707T203000
DTSTAMP:20260424T094504
CREATED:20190917T015259Z
LAST-MODIFIED:20220309T144930Z
UID:10001147-1594148400-1594153800@fayaltwp.org
SUMMARY:Town Board Meeting
DESCRIPTION:Meeting lengths may vary
URL:https://fayaltwp.org/event/town-board-meeting/2020-07-07/
END:VEVENT
BEGIN:VEVENT
DTSTART;TZID=America/Chicago:20200713T161500
DTEND;TZID=America/Chicago:20200713T183000
DTSTAMP:20260424T094504
CREATED:20190917T014302Z
LAST-MODIFIED:20220309T145134Z
UID:10000898-1594656900-1594665000@fayaltwp.org
SUMMARY:T.O.P.S Meeting
DESCRIPTION:Meeting length times may vary
URL:https://fayaltwp.org/event/t-o-p-s-meeting/2020-07-13/
END:VEVENT
BEGIN:VEVENT
DTSTART;TZID=America/Chicago:20200716T173000
DTEND;TZID=America/Chicago:20200716T173000
DTSTAMP:20260424T094504
CREATED:20190917T020012Z
LAST-MODIFIED:20260317T185333Z
UID:10004067-1594920600-1594920600@fayaltwp.org
SUMMARY:Planning Commission Meeting
DESCRIPTION:Meeting lengths may vary
URL:https://fayaltwp.org/event/fayal-planning-commission/2020-07-16/
END:VEVENT
BEGIN:VEVENT
DTSTART;TZID=America/Chicago:20200716T180000
DTEND;TZID=America/Chicago:20200716T190000
DTSTAMP:20260424T094504
CREATED:20190917T021048Z
LAST-MODIFIED:20240213T193813Z
UID:10002239-1594922400-1594926000@fayaltwp.org
SUMMARY:Public Utility Meetings
DESCRIPTION:Meeting lengths may vary
URL:https://fayaltwp.org/event/public-utility-meetings-2/2020-07-16/
END:VEVENT
BEGIN:VEVENT
DTSTART;TZID=UTC:20200716T180000
DTEND;TZID=UTC:20200716T190000
DTSTAMP:20260424T094504
CREATED:20190917T015406Z
LAST-MODIFIED:20240207T175555Z
UID:10002188-1594922400-1594926000@fayaltwp.org
SUMMARY:Public Utility Meetings
DESCRIPTION:Meeting lengths may vary
URL:https://fayaltwp.org/event/public-utility-meetings/2020-07-16/
END:VEVENT
BEGIN:VEVENT
DTSTART;TZID=America/Chicago:20200716T183000
DTEND;TZID=America/Chicago:20200716T200000
DTSTAMP:20260424T094504
CREATED:20190917T020221Z
LAST-MODIFIED:20250110T151531Z
UID:10002901-1594924200-1594929600@fayaltwp.org
SUMMARY:Eveleth-Fayal Garden Club
DESCRIPTION:Meeting lengths may vary
URL:https://fayaltwp.org/event/eveleth-fayal-garden-club/2020-07-16/
END:VEVENT
BEGIN:VEVENT
DTSTART;TZID=America/Chicago:20200720T161500
DTEND;TZID=America/Chicago:20200720T183000
DTSTAMP:20260424T094504
CREATED:20190917T014302Z
LAST-MODIFIED:20220309T145134Z
UID:10000899-1595261700-1595269800@fayaltwp.org
SUMMARY:T.O.P.S Meeting
DESCRIPTION:Meeting length times may vary
URL:https://fayaltwp.org/event/t-o-p-s-meeting/2020-07-20/
END:VEVENT
BEGIN:VEVENT
DTSTART;TZID=America/Chicago:20200727T161500
DTEND;TZID=America/Chicago:20200727T183000
DTSTAMP:20260424T094504
CREATED:20190917T014302Z
LAST-MODIFIED:20220309T145134Z
UID:10000900-1595866500-1595874600@fayaltwp.org
SUMMARY:T.O.P.S Meeting
DESCRIPTION:Meeting length times may vary
URL:https://fayaltwp.org/event/t-o-p-s-meeting/2020-07-27/
END:VEVENT
BEGIN:VEVENT
DTSTART;TZID=America/Chicago:20200803T161500
DTEND;TZID=America/Chicago:20200803T183000
DTSTAMP:20260424T094504
CREATED:20190917T014302Z
LAST-MODIFIED:20220309T145134Z
UID:10000901-1596471300-1596479400@fayaltwp.org
SUMMARY:T.O.P.S Meeting
DESCRIPTION:Meeting length times may vary
URL:https://fayaltwp.org/event/t-o-p-s-meeting/2020-08-03/
END:VEVENT
BEGIN:VEVENT
DTSTART;TZID=America/Chicago:20200804T190000
DTEND;TZID=America/Chicago:20200804T203000
DTSTAMP:20260424T094504
CREATED:20190917T015259Z
LAST-MODIFIED:20220309T144930Z
UID:10001148-1596567600-1596573000@fayaltwp.org
SUMMARY:Town Board Meeting
DESCRIPTION:Meeting lengths may vary
URL:https://fayaltwp.org/event/town-board-meeting/2020-08-04/
END:VEVENT
BEGIN:VEVENT
DTSTART;TZID=America/Chicago:20200810T161500
DTEND;TZID=America/Chicago:20200810T183000
DTSTAMP:20260424T094504
CREATED:20190917T014302Z
LAST-MODIFIED:20220309T145134Z
UID:10000902-1597076100-1597084200@fayaltwp.org
SUMMARY:T.O.P.S Meeting
DESCRIPTION:Meeting length times may vary
URL:https://fayaltwp.org/event/t-o-p-s-meeting/2020-08-10/
END:VEVENT
BEGIN:VEVENT
DTSTART;TZID=America/Chicago:20200816T173000
DTEND;TZID=America/Chicago:20200816T173000
DTSTAMP:20260424T094504
CREATED:20190917T020012Z
LAST-MODIFIED:20260317T185333Z
UID:10004068-1597599000-1597599000@fayaltwp.org
SUMMARY:Planning Commission Meeting
DESCRIPTION:Meeting lengths may vary
URL:https://fayaltwp.org/event/fayal-planning-commission/2020-08-16/
END:VEVENT
END:VCALENDAR