BEGIN:VCALENDAR
VERSION:2.0
PRODID:-//Fayal Twp - ECPv6.15.17.1//NONSGML v1.0//EN
CALSCALE:GREGORIAN
METHOD:PUBLISH
X-WR-CALNAME:Fayal Twp
X-ORIGINAL-URL:https://fayaltwp.org
X-WR-CALDESC:Events for Fayal Twp
REFRESH-INTERVAL;VALUE=DURATION:PT1H
X-Robots-Tag:noindex
X-PUBLISHED-TTL:PT1H
BEGIN:VTIMEZONE
TZID:America/Chicago
BEGIN:DAYLIGHT
TZOFFSETFROM:-0600
TZOFFSETTO:-0500
TZNAME:CDT
DTSTART:20190310T080000
END:DAYLIGHT
BEGIN:STANDARD
TZOFFSETFROM:-0500
TZOFFSETTO:-0600
TZNAME:CST
DTSTART:20191103T070000
END:STANDARD
BEGIN:DAYLIGHT
TZOFFSETFROM:-0600
TZOFFSETTO:-0500
TZNAME:CDT
DTSTART:20200308T080000
END:DAYLIGHT
BEGIN:STANDARD
TZOFFSETFROM:-0500
TZOFFSETTO:-0600
TZNAME:CST
DTSTART:20201101T070000
END:STANDARD
BEGIN:DAYLIGHT
TZOFFSETFROM:-0600
TZOFFSETTO:-0500
TZNAME:CDT
DTSTART:20210314T080000
END:DAYLIGHT
BEGIN:STANDARD
TZOFFSETFROM:-0500
TZOFFSETTO:-0600
TZNAME:CST
DTSTART:20211107T070000
END:STANDARD
END:VTIMEZONE
BEGIN:VTIMEZONE
TZID:UTC
BEGIN:STANDARD
TZOFFSETFROM:+0000
TZOFFSETTO:+0000
TZNAME:UTC
DTSTART:20190101T000000
END:STANDARD
END:VTIMEZONE
BEGIN:VEVENT
DTSTART;TZID=America/Chicago:20200204T190000
DTEND;TZID=America/Chicago:20200204T203000
DTSTAMP:20260425T070941
CREATED:20190917T015259Z
LAST-MODIFIED:20220309T144930Z
UID:10001144-1580842800-1580848200@fayaltwp.org
SUMMARY:Town Board Meeting
DESCRIPTION:Meeting lengths may vary
URL:https://fayaltwp.org/event/town-board-meeting/2020-02-04/
END:VEVENT
BEGIN:VEVENT
DTSTART;TZID=America/Chicago:20200210T161500
DTEND;TZID=America/Chicago:20200210T183000
DTSTAMP:20260425T070941
CREATED:20190917T014302Z
LAST-MODIFIED:20220309T145134Z
UID:10000876-1581351300-1581359400@fayaltwp.org
SUMMARY:T.O.P.S Meeting
DESCRIPTION:Meeting length times may vary
URL:https://fayaltwp.org/event/t-o-p-s-meeting/2020-02-10/
END:VEVENT
BEGIN:VEVENT
DTSTART;TZID=America/Chicago:20200216T173000
DTEND;TZID=America/Chicago:20200216T173000
DTSTAMP:20260425T070941
CREATED:20190917T020012Z
LAST-MODIFIED:20260317T185333Z
UID:10004062-1581874200-1581874200@fayaltwp.org
SUMMARY:Planning Commission Meeting
DESCRIPTION:Meeting lengths may vary
URL:https://fayaltwp.org/event/fayal-planning-commission/2020-02-16/
END:VEVENT
BEGIN:VEVENT
DTSTART;TZID=America/Chicago:20200216T180000
DTEND;TZID=America/Chicago:20200216T190000
DTSTAMP:20260425T070941
CREATED:20190917T021048Z
LAST-MODIFIED:20240213T193813Z
UID:10002234-1581876000-1581879600@fayaltwp.org
SUMMARY:Public Utility Meetings
DESCRIPTION:Meeting lengths may vary
URL:https://fayaltwp.org/event/public-utility-meetings-2/2020-02-16/
END:VEVENT
BEGIN:VEVENT
DTSTART;TZID=UTC:20200216T180000
DTEND;TZID=UTC:20200216T190000
DTSTAMP:20260425T070941
CREATED:20190917T015406Z
LAST-MODIFIED:20240207T175555Z
UID:10002183-1581876000-1581879600@fayaltwp.org
SUMMARY:Public Utility Meetings
DESCRIPTION:Meeting lengths may vary
URL:https://fayaltwp.org/event/public-utility-meetings/2020-02-16/
END:VEVENT
BEGIN:VEVENT
DTSTART;TZID=America/Chicago:20200217T161500
DTEND;TZID=America/Chicago:20200217T183000
DTSTAMP:20260425T070941
CREATED:20190917T014302Z
LAST-MODIFIED:20220309T145134Z
UID:10000877-1581956100-1581964200@fayaltwp.org
SUMMARY:T.O.P.S Meeting
DESCRIPTION:Meeting length times may vary
URL:https://fayaltwp.org/event/t-o-p-s-meeting/2020-02-17/
END:VEVENT
BEGIN:VEVENT
DTSTART;TZID=America/Chicago:20200220T183000
DTEND;TZID=America/Chicago:20200220T200000
DTSTAMP:20260425T070941
CREATED:20190917T020221Z
LAST-MODIFIED:20250110T151531Z
UID:10003019-1582223400-1582228800@fayaltwp.org
SUMMARY:Eveleth-Fayal Garden Club
DESCRIPTION:Meeting lengths may vary
URL:https://fayaltwp.org/event/eveleth-fayal-garden-club/2020-02-20/
END:VEVENT
BEGIN:VEVENT
DTSTART;TZID=America/Chicago:20200223T090000
DTEND;TZID=America/Chicago:20200223T103000
DTSTAMP:20260425T070941
CREATED:20200219T182046Z
LAST-MODIFIED:20200219T182046Z
UID:10000214-1582448400-1582453800@fayaltwp.org
SUMMARY:Test Event
DESCRIPTION:This is just a test event
URL:https://fayaltwp.org/event/test-event/
END:VEVENT
BEGIN:VEVENT
DTSTART;TZID=America/Chicago:20200224T161500
DTEND;TZID=America/Chicago:20200224T183000
DTSTAMP:20260425T070941
CREATED:20190917T014302Z
LAST-MODIFIED:20220309T145134Z
UID:10000878-1582560900-1582569000@fayaltwp.org
SUMMARY:T.O.P.S Meeting
DESCRIPTION:Meeting length times may vary
URL:https://fayaltwp.org/event/t-o-p-s-meeting/2020-02-24/
END:VEVENT
BEGIN:VEVENT
DTSTART;TZID=America/Chicago:20200302T161500
DTEND;TZID=America/Chicago:20200302T183000
DTSTAMP:20260425T070941
CREATED:20190917T014302Z
LAST-MODIFIED:20220309T145134Z
UID:10000879-1583165700-1583173800@fayaltwp.org
SUMMARY:T.O.P.S Meeting
DESCRIPTION:Meeting length times may vary
URL:https://fayaltwp.org/event/t-o-p-s-meeting/2020-03-02/
END:VEVENT
BEGIN:VEVENT
DTSTART;TZID=America/Chicago:20200309T161500
DTEND;TZID=America/Chicago:20200309T183000
DTSTAMP:20260425T070941
CREATED:20190917T014302Z
LAST-MODIFIED:20220309T145134Z
UID:10000880-1583770500-1583778600@fayaltwp.org
SUMMARY:T.O.P.S Meeting
DESCRIPTION:Meeting length times may vary
URL:https://fayaltwp.org/event/t-o-p-s-meeting/2020-03-09/
END:VEVENT
BEGIN:VEVENT
DTSTART;TZID=America/Chicago:20200310T190000
DTEND;TZID=America/Chicago:20200310T210000
DTSTAMP:20260425T070941
CREATED:20191203T164234Z
LAST-MODIFIED:20191211T030238Z
UID:10000507-1583866800-1583874000@fayaltwp.org
SUMMARY:Annual Township Meeting
DESCRIPTION:
URL:https://fayaltwp.org/event/annual-township-meeting/2020-03-10/
END:VEVENT
BEGIN:VEVENT
DTSTART;TZID=America/Chicago:20200316T161500
DTEND;TZID=America/Chicago:20200316T183000
DTSTAMP:20260425T070941
CREATED:20190917T014302Z
LAST-MODIFIED:20220309T145134Z
UID:10000881-1584375300-1584383400@fayaltwp.org
SUMMARY:T.O.P.S Meeting
DESCRIPTION:Meeting length times may vary
URL:https://fayaltwp.org/event/t-o-p-s-meeting/2020-03-16/
END:VEVENT
BEGIN:VEVENT
DTSTART;TZID=America/Chicago:20200316T173000
DTEND;TZID=America/Chicago:20200316T173000
DTSTAMP:20260425T070941
CREATED:20190917T020012Z
LAST-MODIFIED:20260317T185333Z
UID:10004063-1584379800-1584379800@fayaltwp.org
SUMMARY:Planning Commission Meeting
DESCRIPTION:Meeting lengths may vary
URL:https://fayaltwp.org/event/fayal-planning-commission/2020-03-16/
END:VEVENT
BEGIN:VEVENT
DTSTART;TZID=America/Chicago:20200316T180000
DTEND;TZID=America/Chicago:20200316T190000
DTSTAMP:20260425T070941
CREATED:20190917T021048Z
LAST-MODIFIED:20240213T193813Z
UID:10002235-1584381600-1584385200@fayaltwp.org
SUMMARY:Public Utility Meetings
DESCRIPTION:Meeting lengths may vary
URL:https://fayaltwp.org/event/public-utility-meetings-2/2020-03-16/
END:VEVENT
BEGIN:VEVENT
DTSTART;TZID=UTC:20200316T180000
DTEND;TZID=UTC:20200316T190000
DTSTAMP:20260425T070941
CREATED:20190917T015406Z
LAST-MODIFIED:20240207T175555Z
UID:10002184-1584381600-1584385200@fayaltwp.org
SUMMARY:Public Utility Meetings
DESCRIPTION:Meeting lengths may vary
URL:https://fayaltwp.org/event/public-utility-meetings/2020-03-16/
END:VEVENT
BEGIN:VEVENT
DTSTART;TZID=America/Chicago:20200319T183000
DTEND;TZID=America/Chicago:20200319T200000
DTSTAMP:20260425T070941
CREATED:20190917T020221Z
LAST-MODIFIED:20250110T151531Z
UID:10003020-1584642600-1584648000@fayaltwp.org
SUMMARY:Eveleth-Fayal Garden Club
DESCRIPTION:Meeting lengths may vary
URL:https://fayaltwp.org/event/eveleth-fayal-garden-club/2020-03-19/
END:VEVENT
BEGIN:VEVENT
DTSTART;TZID=America/Chicago:20200323T161500
DTEND;TZID=America/Chicago:20200323T183000
DTSTAMP:20260425T070941
CREATED:20190917T014302Z
LAST-MODIFIED:20220309T145134Z
UID:10000882-1584980100-1584988200@fayaltwp.org
SUMMARY:T.O.P.S Meeting
DESCRIPTION:Meeting length times may vary
URL:https://fayaltwp.org/event/t-o-p-s-meeting/2020-03-23/
END:VEVENT
BEGIN:VEVENT
DTSTART;TZID=America/Chicago:20200330T161500
DTEND;TZID=America/Chicago:20200330T183000
DTSTAMP:20260425T070941
CREATED:20190917T014302Z
LAST-MODIFIED:20220309T145134Z
UID:10000883-1585584900-1585593000@fayaltwp.org
SUMMARY:T.O.P.S Meeting
DESCRIPTION:Meeting length times may vary
URL:https://fayaltwp.org/event/t-o-p-s-meeting/2020-03-30/
END:VEVENT
BEGIN:VEVENT
DTSTART;TZID=America/Chicago:20200406T161500
DTEND;TZID=America/Chicago:20200406T183000
DTSTAMP:20260425T070941
CREATED:20190917T014302Z
LAST-MODIFIED:20220309T145134Z
UID:10000884-1586189700-1586197800@fayaltwp.org
SUMMARY:T.O.P.S Meeting
DESCRIPTION:Meeting length times may vary
URL:https://fayaltwp.org/event/t-o-p-s-meeting/2020-04-06/
END:VEVENT
BEGIN:VEVENT
DTSTART;TZID=America/Chicago:20200413T161500
DTEND;TZID=America/Chicago:20200413T183000
DTSTAMP:20260425T070941
CREATED:20190917T014302Z
LAST-MODIFIED:20220309T145134Z
UID:10000885-1586794500-1586802600@fayaltwp.org
SUMMARY:T.O.P.S Meeting
DESCRIPTION:Meeting length times may vary
URL:https://fayaltwp.org/event/t-o-p-s-meeting/2020-04-13/
END:VEVENT
BEGIN:VEVENT
DTSTART;TZID=America/Chicago:20200416T173000
DTEND;TZID=America/Chicago:20200416T173000
DTSTAMP:20260425T070942
CREATED:20190917T020012Z
LAST-MODIFIED:20260317T185333Z
UID:10004064-1587058200-1587058200@fayaltwp.org
SUMMARY:Planning Commission Meeting
DESCRIPTION:Meeting lengths may vary
URL:https://fayaltwp.org/event/fayal-planning-commission/2020-04-16/
END:VEVENT
BEGIN:VEVENT
DTSTART;TZID=America/Chicago:20200416T180000
DTEND;TZID=America/Chicago:20200416T190000
DTSTAMP:20260425T070942
CREATED:20190917T021048Z
LAST-MODIFIED:20240213T193813Z
UID:10002236-1587060000-1587063600@fayaltwp.org
SUMMARY:Public Utility Meetings
DESCRIPTION:Meeting lengths may vary
URL:https://fayaltwp.org/event/public-utility-meetings-2/2020-04-16/
END:VEVENT
BEGIN:VEVENT
DTSTART;TZID=UTC:20200416T180000
DTEND;TZID=UTC:20200416T190000
DTSTAMP:20260425T070942
CREATED:20190917T015406Z
LAST-MODIFIED:20240207T175555Z
UID:10002185-1587060000-1587063600@fayaltwp.org
SUMMARY:Public Utility Meetings
DESCRIPTION:Meeting lengths may vary
URL:https://fayaltwp.org/event/public-utility-meetings/2020-04-16/
END:VEVENT
BEGIN:VEVENT
DTSTART;TZID=America/Chicago:20200416T183000
DTEND;TZID=America/Chicago:20200416T200000
DTSTAMP:20260425T070942
CREATED:20190917T020221Z
LAST-MODIFIED:20250110T151531Z
UID:10002898-1587061800-1587067200@fayaltwp.org
SUMMARY:Eveleth-Fayal Garden Club
DESCRIPTION:Meeting lengths may vary
URL:https://fayaltwp.org/event/eveleth-fayal-garden-club/2020-04-16/
END:VEVENT
BEGIN:VEVENT
DTSTART;TZID=America/Chicago:20200420T161500
DTEND;TZID=America/Chicago:20200420T183000
DTSTAMP:20260425T070942
CREATED:20190917T014302Z
LAST-MODIFIED:20220309T145134Z
UID:10000886-1587399300-1587407400@fayaltwp.org
SUMMARY:T.O.P.S Meeting
DESCRIPTION:Meeting length times may vary
URL:https://fayaltwp.org/event/t-o-p-s-meeting/2020-04-20/
END:VEVENT
BEGIN:VEVENT
DTSTART;TZID=America/Chicago:20200427T161500
DTEND;TZID=America/Chicago:20200427T183000
DTSTAMP:20260425T070942
CREATED:20190917T014302Z
LAST-MODIFIED:20220309T145134Z
UID:10000887-1588004100-1588012200@fayaltwp.org
SUMMARY:T.O.P.S Meeting
DESCRIPTION:Meeting length times may vary
URL:https://fayaltwp.org/event/t-o-p-s-meeting/2020-04-27/
END:VEVENT
BEGIN:VEVENT
DTSTART;TZID=America/Chicago:20200504T161500
DTEND;TZID=America/Chicago:20200504T183000
DTSTAMP:20260425T070942
CREATED:20190917T014302Z
LAST-MODIFIED:20220309T145134Z
UID:10000888-1588608900-1588617000@fayaltwp.org
SUMMARY:T.O.P.S Meeting
DESCRIPTION:Meeting length times may vary
URL:https://fayaltwp.org/event/t-o-p-s-meeting/2020-05-04/
END:VEVENT
BEGIN:VEVENT
DTSTART;TZID=America/Chicago:20200505T190000
DTEND;TZID=America/Chicago:20200505T203000
DTSTAMP:20260425T070942
CREATED:20190917T015259Z
LAST-MODIFIED:20220309T144930Z
UID:10001145-1588705200-1588710600@fayaltwp.org
SUMMARY:Town Board Meeting
DESCRIPTION:Meeting lengths may vary
URL:https://fayaltwp.org/event/town-board-meeting/2020-05-05/
END:VEVENT
BEGIN:VEVENT
DTSTART;TZID=America/Chicago:20200511T161500
DTEND;TZID=America/Chicago:20200511T183000
DTSTAMP:20260425T070942
CREATED:20190917T014302Z
LAST-MODIFIED:20220309T145134Z
UID:10000889-1589213700-1589221800@fayaltwp.org
SUMMARY:T.O.P.S Meeting
DESCRIPTION:Meeting length times may vary
URL:https://fayaltwp.org/event/t-o-p-s-meeting/2020-05-11/
END:VEVENT
END:VCALENDAR