BEGIN:VCALENDAR
VERSION:2.0
PRODID:-//Fayal Twp - ECPv6.15.17.1//NONSGML v1.0//EN
CALSCALE:GREGORIAN
METHOD:PUBLISH
X-WR-CALNAME:Fayal Twp
X-ORIGINAL-URL:https://fayaltwp.org
X-WR-CALDESC:Events for Fayal Twp
REFRESH-INTERVAL;VALUE=DURATION:PT1H
X-Robots-Tag:noindex
X-PUBLISHED-TTL:PT1H
BEGIN:VTIMEZONE
TZID:America/Chicago
BEGIN:DAYLIGHT
TZOFFSETFROM:-0600
TZOFFSETTO:-0500
TZNAME:CDT
DTSTART:20240310T080000
END:DAYLIGHT
BEGIN:STANDARD
TZOFFSETFROM:-0500
TZOFFSETTO:-0600
TZNAME:CST
DTSTART:20241103T070000
END:STANDARD
BEGIN:DAYLIGHT
TZOFFSETFROM:-0600
TZOFFSETTO:-0500
TZNAME:CDT
DTSTART:20250309T080000
END:DAYLIGHT
BEGIN:STANDARD
TZOFFSETFROM:-0500
TZOFFSETTO:-0600
TZNAME:CST
DTSTART:20251102T070000
END:STANDARD
BEGIN:DAYLIGHT
TZOFFSETFROM:-0600
TZOFFSETTO:-0500
TZNAME:CDT
DTSTART:20260308T080000
END:DAYLIGHT
BEGIN:STANDARD
TZOFFSETFROM:-0500
TZOFFSETTO:-0600
TZNAME:CST
DTSTART:20261101T070000
END:STANDARD
BEGIN:DAYLIGHT
TZOFFSETFROM:-0600
TZOFFSETTO:-0500
TZNAME:CDT
DTSTART:20270314T080000
END:DAYLIGHT
BEGIN:STANDARD
TZOFFSETFROM:-0500
TZOFFSETTO:-0600
TZNAME:CST
DTSTART:20271107T070000
END:STANDARD
END:VTIMEZONE
BEGIN:VEVENT
DTSTART;TZID=America/Chicago:20251229T093000
DTEND;TZID=America/Chicago:20251229T103000
DTSTAMP:20260424T013433
CREATED:20240207T174449Z
LAST-MODIFIED:20260317T185548Z
UID:10001626-1767000600-1767004200@fayaltwp.org
SUMMARY:Aerobics
DESCRIPTION:
URL:https://fayaltwp.org/event/aerobics/2025-12-29/
END:VEVENT
BEGIN:VEVENT
DTSTART;TZID=America/Chicago:20251229T160000
DTEND;TZID=America/Chicago:20251229T183000
DTSTAMP:20260424T013433
CREATED:20250905T131821Z
LAST-MODIFIED:20250905T131821Z
UID:10003735-1767024000-1767033000@fayaltwp.org
SUMMARY:T.O.P.S.
DESCRIPTION:
URL:https://fayaltwp.org/event/t-o-p-s/2025-12-29/
END:VEVENT
BEGIN:VEVENT
DTSTART;TZID=America/Chicago:20251231T093000
DTEND;TZID=America/Chicago:20251231T103000
DTSTAMP:20260424T013433
CREATED:20240207T174449Z
LAST-MODIFIED:20260317T185548Z
UID:10001627-1767173400-1767177000@fayaltwp.org
SUMMARY:Aerobics
DESCRIPTION:
URL:https://fayaltwp.org/event/aerobics/2025-12-31/
END:VEVENT
BEGIN:VEVENT
DTSTART;TZID=America/Chicago:20260102T093000
DTEND;TZID=America/Chicago:20260102T103000
DTSTAMP:20260424T013433
CREATED:20240207T174449Z
LAST-MODIFIED:20260317T185548Z
UID:10001628-1767346200-1767349800@fayaltwp.org
SUMMARY:Aerobics
DESCRIPTION:
URL:https://fayaltwp.org/event/aerobics/2026-01-02/
END:VEVENT
BEGIN:VEVENT
DTSTART;VALUE=DATE:20260103
DTEND;VALUE=DATE:20260105
DTSTAMP:20260424T013433
CREATED:20251208T174131Z
LAST-MODIFIED:20251208T174131Z
UID:10003994-1767416400-1767502799@fayaltwp.org
SUMMARY:Town Hall Rented
DESCRIPTION:
URL:https://fayaltwp.org/event/town-hall-rented-119/
END:VEVENT
BEGIN:VEVENT
DTSTART;TZID=America/Chicago:20260105T093000
DTEND;TZID=America/Chicago:20260105T103000
DTSTAMP:20260424T013433
CREATED:20240207T174449Z
LAST-MODIFIED:20260317T185548Z
UID:10001629-1767605400-1767609000@fayaltwp.org
SUMMARY:Aerobics
DESCRIPTION:
URL:https://fayaltwp.org/event/aerobics/2026-01-05/
END:VEVENT
BEGIN:VEVENT
DTSTART;TZID=America/Chicago:20260105T160000
DTEND;TZID=America/Chicago:20260105T183000
DTSTAMP:20260424T013433
CREATED:20250905T131821Z
LAST-MODIFIED:20250905T131821Z
UID:10003736-1767628800-1767637800@fayaltwp.org
SUMMARY:T.O.P.S.
DESCRIPTION:
URL:https://fayaltwp.org/event/t-o-p-s/2026-01-05/
END:VEVENT
BEGIN:VEVENT
DTSTART;TZID=America/Chicago:20260106T190000
DTEND;TZID=America/Chicago:20260106T203000
DTSTAMP:20260424T013433
CREATED:20240213T194504Z
LAST-MODIFIED:20250318T164658Z
UID:10002411-1767726000-1767731400@fayaltwp.org
SUMMARY:Town Board Meeting
DESCRIPTION:Meeting lengths may vary
URL:https://fayaltwp.org/event/town-board-meeting-3/2026-01-06/
END:VEVENT
BEGIN:VEVENT
DTSTART;TZID=America/Chicago:20260107T093000
DTEND;TZID=America/Chicago:20260107T103000
DTSTAMP:20260424T013433
CREATED:20240207T174449Z
LAST-MODIFIED:20260317T185548Z
UID:10001630-1767778200-1767781800@fayaltwp.org
SUMMARY:Aerobics
DESCRIPTION:
URL:https://fayaltwp.org/event/aerobics/2026-01-07/
END:VEVENT
BEGIN:VEVENT
DTSTART;TZID=America/Chicago:20260108T093000
DTEND;TZID=America/Chicago:20260108T223000
DTSTAMP:20260424T013433
CREATED:20250908T145635Z
LAST-MODIFIED:20250908T145635Z
UID:10003475-1767864600-1767911400@fayaltwp.org
SUMMARY:Yoga
DESCRIPTION:
URL:https://fayaltwp.org/event/yoga-2/2026-01-08/
END:VEVENT
BEGIN:VEVENT
DTSTART;TZID=America/Chicago:20260109T093000
DTEND;TZID=America/Chicago:20260109T103000
DTSTAMP:20260424T013433
CREATED:20240207T174449Z
LAST-MODIFIED:20260317T185548Z
UID:10001631-1767951000-1767954600@fayaltwp.org
SUMMARY:Aerobics
DESCRIPTION:
URL:https://fayaltwp.org/event/aerobics/2026-01-09/
END:VEVENT
BEGIN:VEVENT
DTSTART;VALUE=DATE:20260110
DTEND;VALUE=DATE:20260112
DTSTAMP:20260424T013433
CREATED:20251208T174148Z
LAST-MODIFIED:20251208T174148Z
UID:10003995-1768021200-1768107599@fayaltwp.org
SUMMARY:Town Hall Rented
DESCRIPTION:
URL:https://fayaltwp.org/event/town-hall-rented-155/
END:VEVENT
BEGIN:VEVENT
DTSTART;TZID=America/Chicago:20260112T093000
DTEND;TZID=America/Chicago:20260112T103000
DTSTAMP:20260424T013433
CREATED:20240207T174449Z
LAST-MODIFIED:20260317T185548Z
UID:10001632-1768210200-1768213800@fayaltwp.org
SUMMARY:Aerobics
DESCRIPTION:
URL:https://fayaltwp.org/event/aerobics/2026-01-12/
END:VEVENT
BEGIN:VEVENT
DTSTART;TZID=America/Chicago:20260112T120000
DTEND;TZID=America/Chicago:20260112T140000
DTSTAMP:20260424T013433
CREATED:20240207T175425Z
LAST-MODIFIED:20240718T172046Z
UID:10002140-1768219200-1768226400@fayaltwp.org
SUMMARY:Sororiety Meeting
DESCRIPTION:
URL:https://fayaltwp.org/event/sororiety-meeting/2026-01-12/
END:VEVENT
BEGIN:VEVENT
DTSTART;TZID=America/Chicago:20260112T160000
DTEND;TZID=America/Chicago:20260112T183000
DTSTAMP:20260424T013433
CREATED:20250905T131821Z
LAST-MODIFIED:20250905T131821Z
UID:10003737-1768233600-1768242600@fayaltwp.org
SUMMARY:T.O.P.S.
DESCRIPTION:
URL:https://fayaltwp.org/event/t-o-p-s/2026-01-12/
END:VEVENT
BEGIN:VEVENT
DTSTART;TZID=America/Chicago:20260113T180000
DTEND;TZID=America/Chicago:20260113T190000
DTSTAMP:20260424T013433
CREATED:20240213T194019Z
LAST-MODIFIED:20240718T171231Z
UID:10002363-1768327200-1768330800@fayaltwp.org
SUMMARY:Public Utility Meetings
DESCRIPTION:Meeting lengths may vary
URL:https://fayaltwp.org/event/public-utility-meetings-2-2/2026-01-13/
END:VEVENT
BEGIN:VEVENT
DTSTART;TZID=America/Chicago:20260114T093000
DTEND;TZID=America/Chicago:20260114T103000
DTSTAMP:20260424T013433
CREATED:20240207T174449Z
LAST-MODIFIED:20260317T185548Z
UID:10001633-1768383000-1768386600@fayaltwp.org
SUMMARY:Aerobics
DESCRIPTION:
URL:https://fayaltwp.org/event/aerobics/2026-01-14/
END:VEVENT
BEGIN:VEVENT
DTSTART;TZID=America/Chicago:20260115T093000
DTEND;TZID=America/Chicago:20260115T223000
DTSTAMP:20260424T013433
CREATED:20260112T180331Z
LAST-MODIFIED:20260317T190351Z
UID:10003476-1768469400-1768516200@fayaltwp.org
SUMMARY:Yoga
DESCRIPTION:
URL:https://fayaltwp.org/event/yoga-2-2/2026-01-15/
END:VEVENT
BEGIN:VEVENT
DTSTART;TZID=America/Chicago:20260115T183000
DTEND;TZID=America/Chicago:20260115T200000
DTSTAMP:20260424T013433
CREATED:20190917T020221Z
LAST-MODIFIED:20250110T151531Z
UID:10003079-1768501800-1768507200@fayaltwp.org
SUMMARY:Eveleth-Fayal Garden Club
DESCRIPTION:Meeting lengths may vary
URL:https://fayaltwp.org/event/eveleth-fayal-garden-club/2026-01-15/
END:VEVENT
BEGIN:VEVENT
DTSTART;TZID=America/Chicago:20260116T093000
DTEND;TZID=America/Chicago:20260116T103000
DTSTAMP:20260424T013433
CREATED:20240207T174449Z
LAST-MODIFIED:20260317T185548Z
UID:10001634-1768555800-1768559400@fayaltwp.org
SUMMARY:Aerobics
DESCRIPTION:
URL:https://fayaltwp.org/event/aerobics/2026-01-16/
END:VEVENT
BEGIN:VEVENT
DTSTART;TZID=America/Chicago:20260116T173000
DTEND;TZID=America/Chicago:20260116T173000
DTSTAMP:20260424T013433
CREATED:20190917T020012Z
LAST-MODIFIED:20260317T185333Z
UID:10004123-1768584600-1768584600@fayaltwp.org
SUMMARY:Planning Commission Meeting
DESCRIPTION:Meeting lengths may vary
URL:https://fayaltwp.org/event/fayal-planning-commission/2026-01-16/
END:VEVENT
BEGIN:VEVENT
DTSTART;VALUE=DATE:20260119
DTEND;VALUE=DATE:20260121
DTSTAMP:20260424T013433
CREATED:20260112T172738Z
LAST-MODIFIED:20260112T172738Z
UID:10004002-1768798800-1768885199@fayaltwp.org
SUMMARY:Town Hall Office Closed
DESCRIPTION:
URL:https://fayaltwp.org/event/town-hall-office-closed/
END:VEVENT
BEGIN:VEVENT
DTSTART;TZID=America/Chicago:20260119T093000
DTEND;TZID=America/Chicago:20260119T103000
DTSTAMP:20260424T013433
CREATED:20240207T174449Z
LAST-MODIFIED:20260317T185548Z
UID:10001635-1768815000-1768818600@fayaltwp.org
SUMMARY:Aerobics
DESCRIPTION:
URL:https://fayaltwp.org/event/aerobics/2026-01-19/
END:VEVENT
BEGIN:VEVENT
DTSTART;TZID=America/Chicago:20260119T160000
DTEND;TZID=America/Chicago:20260119T183000
DTSTAMP:20260424T013433
CREATED:20250905T131821Z
LAST-MODIFIED:20250905T131821Z
UID:10003738-1768838400-1768847400@fayaltwp.org
SUMMARY:T.O.P.S.
DESCRIPTION:
URL:https://fayaltwp.org/event/t-o-p-s/2026-01-19/
END:VEVENT
BEGIN:VEVENT
DTSTART;TZID=America/Chicago:20260120T190000
DTEND;TZID=America/Chicago:20260120T203000
DTSTAMP:20260424T013433
CREATED:20230727T144614Z
LAST-MODIFIED:20250115T222032Z
UID:10003352-1768935600-1768941000@fayaltwp.org
SUMMARY:Town Board Meeting
DESCRIPTION:Meeting lengths may vary
URL:https://fayaltwp.org/event/town-board-meeting-2/2026-01-20/
END:VEVENT
BEGIN:VEVENT
DTSTART;TZID=America/Chicago:20260121T093000
DTEND;TZID=America/Chicago:20260121T103000
DTSTAMP:20260424T013433
CREATED:20240207T174449Z
LAST-MODIFIED:20260317T185548Z
UID:10001636-1768987800-1768991400@fayaltwp.org
SUMMARY:Aerobics
DESCRIPTION:
URL:https://fayaltwp.org/event/aerobics/2026-01-21/
END:VEVENT
BEGIN:VEVENT
DTSTART;TZID=America/Chicago:20260122T093000
DTEND;TZID=America/Chicago:20260122T223000
DTSTAMP:20260424T013433
CREATED:20260112T180331Z
LAST-MODIFIED:20260317T190351Z
UID:10003477-1769074200-1769121000@fayaltwp.org
SUMMARY:Yoga
DESCRIPTION:
URL:https://fayaltwp.org/event/yoga-2-2/2026-01-22/
END:VEVENT
BEGIN:VEVENT
DTSTART;TZID=America/Chicago:20260123T093000
DTEND;TZID=America/Chicago:20260123T103000
DTSTAMP:20260424T013433
CREATED:20240207T174449Z
LAST-MODIFIED:20260317T185548Z
UID:10001637-1769160600-1769164200@fayaltwp.org
SUMMARY:Aerobics
DESCRIPTION:
URL:https://fayaltwp.org/event/aerobics/2026-01-23/
END:VEVENT
BEGIN:VEVENT
DTSTART;VALUE=DATE:20260124
DTEND;VALUE=DATE:20260126
DTSTAMP:20260424T013433
CREATED:20251208T174214Z
LAST-MODIFIED:20251208T174214Z
UID:10003996-1769230800-1769317199@fayaltwp.org
SUMMARY:Town Hall Rented
DESCRIPTION:
URL:https://fayaltwp.org/event/town-hall-rented-156/
END:VEVENT
BEGIN:VEVENT
DTSTART;VALUE=DATE:20260125
DTEND;VALUE=DATE:20260127
DTSTAMP:20260424T013433
CREATED:20260112T172025Z
LAST-MODIFIED:20260112T172025Z
UID:10003998-1769317200-1769403599@fayaltwp.org
SUMMARY:Town Hall Rented
DESCRIPTION:
URL:https://fayaltwp.org/event/town-hall-rented-158/
END:VEVENT
END:VCALENDAR