BEGIN:VCALENDAR
VERSION:2.0
PRODID:-//Fayal Twp - ECPv6.15.17.1//NONSGML v1.0//EN
CALSCALE:GREGORIAN
METHOD:PUBLISH
X-WR-CALNAME:Fayal Twp
X-ORIGINAL-URL:https://fayaltwp.org
X-WR-CALDESC:Events for Fayal Twp
REFRESH-INTERVAL;VALUE=DURATION:PT1H
X-Robots-Tag:noindex
X-PUBLISHED-TTL:PT1H
BEGIN:VTIMEZONE
TZID:America/Chicago
BEGIN:DAYLIGHT
TZOFFSETFROM:-0600
TZOFFSETTO:-0500
TZNAME:CDT
DTSTART:20200308T080000
END:DAYLIGHT
BEGIN:STANDARD
TZOFFSETFROM:-0500
TZOFFSETTO:-0600
TZNAME:CST
DTSTART:20201101T070000
END:STANDARD
BEGIN:DAYLIGHT
TZOFFSETFROM:-0600
TZOFFSETTO:-0500
TZNAME:CDT
DTSTART:20210314T080000
END:DAYLIGHT
BEGIN:STANDARD
TZOFFSETFROM:-0500
TZOFFSETTO:-0600
TZNAME:CST
DTSTART:20211107T070000
END:STANDARD
BEGIN:DAYLIGHT
TZOFFSETFROM:-0600
TZOFFSETTO:-0500
TZNAME:CDT
DTSTART:20220313T080000
END:DAYLIGHT
BEGIN:STANDARD
TZOFFSETFROM:-0500
TZOFFSETTO:-0600
TZNAME:CST
DTSTART:20221106T070000
END:STANDARD
END:VTIMEZONE
BEGIN:VTIMEZONE
TZID:UTC
BEGIN:STANDARD
TZOFFSETFROM:+0000
TZOFFSETTO:+0000
TZNAME:UTC
DTSTART:20200101T000000
END:STANDARD
END:VTIMEZONE
BEGIN:VEVENT
DTSTART;TZID=America/Chicago:20210906T161500
DTEND;TZID=America/Chicago:20210906T183000
DTSTAMP:20260425T200151
CREATED:20190917T014302Z
LAST-MODIFIED:20220309T145134Z
UID:10000958-1630944900-1630953000@fayaltwp.org
SUMMARY:T.O.P.S Meeting
DESCRIPTION:Meeting length times may vary
URL:https://fayaltwp.org/event/t-o-p-s-meeting/2021-09-06/
END:VEVENT
BEGIN:VEVENT
DTSTART;TZID=America/Chicago:20210907T190000
DTEND;TZID=America/Chicago:20210907T203000
DTSTAMP:20260425T200151
CREATED:20190917T015259Z
LAST-MODIFIED:20220309T144930Z
UID:10001159-1631041200-1631046600@fayaltwp.org
SUMMARY:Town Board Meeting
DESCRIPTION:Meeting lengths may vary
URL:https://fayaltwp.org/event/town-board-meeting/2021-09-07/
END:VEVENT
BEGIN:VEVENT
DTSTART;TZID=America/Chicago:20210910T080000
DTEND;TZID=America/Chicago:20210910T170000
DTSTAMP:20260425T200151
CREATED:20210908T163048Z
LAST-MODIFIED:20210908T163048Z
UID:10000012-1631260800-1631293200@fayaltwp.org
SUMMARY:Rummage Sale
DESCRIPTION:
URL:https://fayaltwp.org/event/rummage-sale-3/
END:VEVENT
BEGIN:VEVENT
DTSTART;TZID=America/Chicago:20210913T161500
DTEND;TZID=America/Chicago:20210913T183000
DTSTAMP:20260425T200151
CREATED:20190917T014302Z
LAST-MODIFIED:20220309T145134Z
UID:10000959-1631549700-1631557800@fayaltwp.org
SUMMARY:T.O.P.S Meeting
DESCRIPTION:Meeting length times may vary
URL:https://fayaltwp.org/event/t-o-p-s-meeting/2021-09-13/
END:VEVENT
BEGIN:VEVENT
DTSTART;TZID=America/Chicago:20210916T173000
DTEND;TZID=America/Chicago:20210916T173000
DTSTAMP:20260425T200151
CREATED:20190917T020012Z
LAST-MODIFIED:20260317T185333Z
UID:10004078-1631813400-1631813400@fayaltwp.org
SUMMARY:Planning Commission Meeting
DESCRIPTION:Meeting lengths may vary
URL:https://fayaltwp.org/event/fayal-planning-commission/2021-09-16/
END:VEVENT
BEGIN:VEVENT
DTSTART;TZID=America/Chicago:20210916T180000
DTEND;TZID=America/Chicago:20210916T190000
DTSTAMP:20260425T200151
CREATED:20190917T021048Z
LAST-MODIFIED:20240213T193813Z
UID:10002253-1631815200-1631818800@fayaltwp.org
SUMMARY:Public Utility Meetings
DESCRIPTION:Meeting lengths may vary
URL:https://fayaltwp.org/event/public-utility-meetings-2/2021-09-16/
END:VEVENT
BEGIN:VEVENT
DTSTART;TZID=UTC:20210916T180000
DTEND;TZID=UTC:20210916T190000
DTSTAMP:20260425T200151
CREATED:20190917T015406Z
LAST-MODIFIED:20240207T175555Z
UID:10002202-1631815200-1631818800@fayaltwp.org
SUMMARY:Public Utility Meetings
DESCRIPTION:Meeting lengths may vary
URL:https://fayaltwp.org/event/public-utility-meetings/2021-09-16/
END:VEVENT
BEGIN:VEVENT
DTSTART;TZID=America/Chicago:20210916T183000
DTEND;TZID=America/Chicago:20210916T200000
DTSTAMP:20260425T200151
CREATED:20190917T020221Z
LAST-MODIFIED:20250110T151531Z
UID:10002915-1631817000-1631822400@fayaltwp.org
SUMMARY:Eveleth-Fayal Garden Club
DESCRIPTION:Meeting lengths may vary
URL:https://fayaltwp.org/event/eveleth-fayal-garden-club/2021-09-16/
END:VEVENT
BEGIN:VEVENT
DTSTART;TZID=America/Chicago:20210919T080000
DTEND;TZID=America/Chicago:20210919T170000
DTSTAMP:20260425T200151
CREATED:20210908T163112Z
LAST-MODIFIED:20210908T163112Z
UID:10000013-1632038400-1632070800@fayaltwp.org
SUMMARY:Hall Rented
DESCRIPTION:
URL:https://fayaltwp.org/event/hall-rented-16/
END:VEVENT
BEGIN:VEVENT
DTSTART;TZID=America/Chicago:20210920T161500
DTEND;TZID=America/Chicago:20210920T183000
DTSTAMP:20260425T200151
CREATED:20190917T014302Z
LAST-MODIFIED:20220309T145134Z
UID:10000960-1632154500-1632162600@fayaltwp.org
SUMMARY:T.O.P.S Meeting
DESCRIPTION:Meeting length times may vary
URL:https://fayaltwp.org/event/t-o-p-s-meeting/2021-09-20/
END:VEVENT
BEGIN:VEVENT
DTSTART;TZID=America/Chicago:20210927T161500
DTEND;TZID=America/Chicago:20210927T183000
DTSTAMP:20260425T200151
CREATED:20190917T014302Z
LAST-MODIFIED:20220309T145134Z
UID:10000961-1632759300-1632767400@fayaltwp.org
SUMMARY:T.O.P.S Meeting
DESCRIPTION:Meeting length times may vary
URL:https://fayaltwp.org/event/t-o-p-s-meeting/2021-09-27/
END:VEVENT
BEGIN:VEVENT
DTSTART;TZID=America/Chicago:20210930T080000
DTEND;TZID=America/Chicago:20211001T170000
DTSTAMP:20260425T200151
CREATED:20210908T162816Z
LAST-MODIFIED:20210908T163004Z
UID:10000011-1632988800-1633107600@fayaltwp.org
SUMMARY:Rummage Sale
DESCRIPTION:
URL:https://fayaltwp.org/event/hall-rented-15/
END:VEVENT
BEGIN:VEVENT
DTSTART;TZID=America/Chicago:20211002T080000
DTEND;TZID=America/Chicago:20211002T170000
DTSTAMP:20260425T200151
CREATED:20210908T163137Z
LAST-MODIFIED:20210908T163137Z
UID:10000014-1633161600-1633194000@fayaltwp.org
SUMMARY:Hall Rented
DESCRIPTION:
URL:https://fayaltwp.org/event/hall-rented-17/
END:VEVENT
BEGIN:VEVENT
DTSTART;TZID=America/Chicago:20211004T161500
DTEND;TZID=America/Chicago:20211004T183000
DTSTAMP:20260425T200151
CREATED:20190917T014302Z
LAST-MODIFIED:20220309T145134Z
UID:10000962-1633364100-1633372200@fayaltwp.org
SUMMARY:T.O.P.S Meeting
DESCRIPTION:Meeting length times may vary
URL:https://fayaltwp.org/event/t-o-p-s-meeting/2021-10-04/
END:VEVENT
BEGIN:VEVENT
DTSTART;TZID=America/Chicago:20211005T190000
DTEND;TZID=America/Chicago:20211005T203000
DTSTAMP:20260425T200151
CREATED:20190917T015259Z
LAST-MODIFIED:20220309T144930Z
UID:10001160-1633460400-1633465800@fayaltwp.org
SUMMARY:Town Board Meeting
DESCRIPTION:Meeting lengths may vary
URL:https://fayaltwp.org/event/town-board-meeting/2021-10-05/
END:VEVENT
BEGIN:VEVENT
DTSTART;TZID=America/Chicago:20211007T080000
DTEND;TZID=America/Chicago:20211009T170000
DTSTAMP:20260425T200151
CREATED:20210908T162727Z
LAST-MODIFIED:20210908T162949Z
UID:10000015-1633593600-1633798800@fayaltwp.org
SUMMARY:Rummage Sale
DESCRIPTION:
URL:https://fayaltwp.org/event/hall-rented-14/
END:VEVENT
BEGIN:VEVENT
DTSTART;VALUE=DATE:20211011
DTEND;VALUE=DATE:20211013
DTSTAMP:20260425T200151
CREATED:20210506T143134Z
LAST-MODIFIED:20210506T143134Z
UID:10000196-1633928400-1634014799@fayaltwp.org
SUMMARY:Clerk's Office Closed
DESCRIPTION:
URL:https://fayaltwp.org/event/clerks-office-closed-3/
END:VEVENT
BEGIN:VEVENT
DTSTART;TZID=America/Chicago:20211011T161500
DTEND;TZID=America/Chicago:20211011T183000
DTSTAMP:20260425T200151
CREATED:20190917T014302Z
LAST-MODIFIED:20220309T145134Z
UID:10000963-1633968900-1633977000@fayaltwp.org
SUMMARY:T.O.P.S Meeting
DESCRIPTION:Meeting length times may vary
URL:https://fayaltwp.org/event/t-o-p-s-meeting/2021-10-11/
END:VEVENT
BEGIN:VEVENT
DTSTART;TZID=America/Chicago:20211016T173000
DTEND;TZID=America/Chicago:20211016T173000
DTSTAMP:20260425T200151
CREATED:20190917T020012Z
LAST-MODIFIED:20260317T185333Z
UID:10004079-1634405400-1634405400@fayaltwp.org
SUMMARY:Planning Commission Meeting
DESCRIPTION:Meeting lengths may vary
URL:https://fayaltwp.org/event/fayal-planning-commission/2021-10-16/
END:VEVENT
BEGIN:VEVENT
DTSTART;TZID=America/Chicago:20211016T180000
DTEND;TZID=America/Chicago:20211016T190000
DTSTAMP:20260425T200151
CREATED:20190917T021048Z
LAST-MODIFIED:20240213T193813Z
UID:10002254-1634407200-1634410800@fayaltwp.org
SUMMARY:Public Utility Meetings
DESCRIPTION:Meeting lengths may vary
URL:https://fayaltwp.org/event/public-utility-meetings-2/2021-10-16/
END:VEVENT
BEGIN:VEVENT
DTSTART;TZID=UTC:20211016T180000
DTEND;TZID=UTC:20211016T190000
DTSTAMP:20260425T200151
CREATED:20190917T015406Z
LAST-MODIFIED:20240207T175555Z
UID:10002203-1634407200-1634410800@fayaltwp.org
SUMMARY:Public Utility Meetings
DESCRIPTION:Meeting lengths may vary
URL:https://fayaltwp.org/event/public-utility-meetings/2021-10-16/
END:VEVENT
BEGIN:VEVENT
DTSTART;TZID=America/Chicago:20211017T080000
DTEND;TZID=America/Chicago:20211017T170000
DTSTAMP:20260425T200151
CREATED:20210908T163204Z
LAST-MODIFIED:20210908T163204Z
UID:10000511-1634457600-1634490000@fayaltwp.org
SUMMARY:Hall Rented
DESCRIPTION:
URL:https://fayaltwp.org/event/hall-rented-18/
END:VEVENT
BEGIN:VEVENT
DTSTART;TZID=America/Chicago:20211018T161500
DTEND;TZID=America/Chicago:20211018T183000
DTSTAMP:20260425T200151
CREATED:20190917T014302Z
LAST-MODIFIED:20220309T145134Z
UID:10000964-1634573700-1634581800@fayaltwp.org
SUMMARY:T.O.P.S Meeting
DESCRIPTION:Meeting length times may vary
URL:https://fayaltwp.org/event/t-o-p-s-meeting/2021-10-18/
END:VEVENT
BEGIN:VEVENT
DTSTART;TZID=America/Chicago:20211021T183000
DTEND;TZID=America/Chicago:20211021T200000
DTSTAMP:20260425T200151
CREATED:20190917T020221Z
LAST-MODIFIED:20250110T151531Z
UID:10003036-1634841000-1634846400@fayaltwp.org
SUMMARY:Eveleth-Fayal Garden Club
DESCRIPTION:Meeting lengths may vary
URL:https://fayaltwp.org/event/eveleth-fayal-garden-club/2021-10-21/
END:VEVENT
BEGIN:VEVENT
DTSTART;TZID=America/Chicago:20211025T161500
DTEND;TZID=America/Chicago:20211025T183000
DTSTAMP:20260425T200151
CREATED:20190917T014302Z
LAST-MODIFIED:20220309T145134Z
UID:10000965-1635178500-1635186600@fayaltwp.org
SUMMARY:T.O.P.S Meeting
DESCRIPTION:Meeting length times may vary
URL:https://fayaltwp.org/event/t-o-p-s-meeting/2021-10-25/
END:VEVENT
BEGIN:VEVENT
DTSTART;TZID=America/Chicago:20211101T161500
DTEND;TZID=America/Chicago:20211101T183000
DTSTAMP:20260425T200151
CREATED:20190917T014302Z
LAST-MODIFIED:20220309T145134Z
UID:10000966-1635783300-1635791400@fayaltwp.org
SUMMARY:T.O.P.S Meeting
DESCRIPTION:Meeting length times may vary
URL:https://fayaltwp.org/event/t-o-p-s-meeting/2021-11-01/
END:VEVENT
BEGIN:VEVENT
DTSTART;TZID=America/Chicago:20211108T161500
DTEND;TZID=America/Chicago:20211108T183000
DTSTAMP:20260425T200151
CREATED:20190917T014302Z
LAST-MODIFIED:20220309T145134Z
UID:10000967-1636388100-1636396200@fayaltwp.org
SUMMARY:T.O.P.S Meeting
DESCRIPTION:Meeting length times may vary
URL:https://fayaltwp.org/event/t-o-p-s-meeting/2021-11-08/
END:VEVENT
BEGIN:VEVENT
DTSTART;TZID=America/Chicago:20211111T080000
DTEND;TZID=America/Chicago:20211111T170000
DTSTAMP:20260425T200151
CREATED:20210506T143235Z
LAST-MODIFIED:20210506T143235Z
UID:10000200-1636617600-1636650000@fayaltwp.org
SUMMARY:Clerk's Office Closed
DESCRIPTION:
URL:https://fayaltwp.org/event/clerks-office-closed-4/
END:VEVENT
BEGIN:VEVENT
DTSTART;TZID=America/Chicago:20211115T161500
DTEND;TZID=America/Chicago:20211115T183000
DTSTAMP:20260425T200151
CREATED:20190917T014302Z
LAST-MODIFIED:20220309T145134Z
UID:10000968-1636992900-1637001000@fayaltwp.org
SUMMARY:T.O.P.S Meeting
DESCRIPTION:Meeting length times may vary
URL:https://fayaltwp.org/event/t-o-p-s-meeting/2021-11-15/
END:VEVENT
BEGIN:VEVENT
DTSTART;TZID=America/Chicago:20211116T173000
DTEND;TZID=America/Chicago:20211116T173000
DTSTAMP:20260425T200151
CREATED:20190917T020012Z
LAST-MODIFIED:20260317T185333Z
UID:10004080-1637083800-1637083800@fayaltwp.org
SUMMARY:Planning Commission Meeting
DESCRIPTION:Meeting lengths may vary
URL:https://fayaltwp.org/event/fayal-planning-commission/2021-11-16/
END:VEVENT
END:VCALENDAR