BEGIN:VCALENDAR
VERSION:2.0
PRODID:-//Fayal Twp - ECPv6.15.17.1//NONSGML v1.0//EN
CALSCALE:GREGORIAN
METHOD:PUBLISH
X-WR-CALNAME:Fayal Twp
X-ORIGINAL-URL:https://fayaltwp.org
X-WR-CALDESC:Events for Fayal Twp
REFRESH-INTERVAL;VALUE=DURATION:PT1H
X-Robots-Tag:noindex
X-PUBLISHED-TTL:PT1H
BEGIN:VTIMEZONE
TZID:America/Chicago
BEGIN:DAYLIGHT
TZOFFSETFROM:-0600
TZOFFSETTO:-0500
TZNAME:CDT
DTSTART:20200308T080000
END:DAYLIGHT
BEGIN:STANDARD
TZOFFSETFROM:-0500
TZOFFSETTO:-0600
TZNAME:CST
DTSTART:20201101T070000
END:STANDARD
BEGIN:DAYLIGHT
TZOFFSETFROM:-0600
TZOFFSETTO:-0500
TZNAME:CDT
DTSTART:20210314T080000
END:DAYLIGHT
BEGIN:STANDARD
TZOFFSETFROM:-0500
TZOFFSETTO:-0600
TZNAME:CST
DTSTART:20211107T070000
END:STANDARD
BEGIN:DAYLIGHT
TZOFFSETFROM:-0600
TZOFFSETTO:-0500
TZNAME:CDT
DTSTART:20220313T080000
END:DAYLIGHT
BEGIN:STANDARD
TZOFFSETFROM:-0500
TZOFFSETTO:-0600
TZNAME:CST
DTSTART:20221106T070000
END:STANDARD
END:VTIMEZONE
BEGIN:VTIMEZONE
TZID:UTC
BEGIN:STANDARD
TZOFFSETFROM:+0000
TZOFFSETTO:+0000
TZNAME:UTC
DTSTART:20200101T000000
END:STANDARD
END:VTIMEZONE
BEGIN:VEVENT
DTSTART;TZID=America/Chicago:20210705T161500
DTEND;TZID=America/Chicago:20210705T183000
DTSTAMP:20260425T161506
CREATED:20190917T014302Z
LAST-MODIFIED:20220309T145134Z
UID:10000949-1625501700-1625509800@fayaltwp.org
SUMMARY:T.O.P.S Meeting
DESCRIPTION:Meeting length times may vary
URL:https://fayaltwp.org/event/t-o-p-s-meeting/2021-07-05/
END:VEVENT
BEGIN:VEVENT
DTSTART;TZID=America/Chicago:20210712T161500
DTEND;TZID=America/Chicago:20210712T183000
DTSTAMP:20260425T161506
CREATED:20190917T014302Z
LAST-MODIFIED:20220309T145134Z
UID:10000950-1626106500-1626114600@fayaltwp.org
SUMMARY:T.O.P.S Meeting
DESCRIPTION:Meeting length times may vary
URL:https://fayaltwp.org/event/t-o-p-s-meeting/2021-07-12/
END:VEVENT
BEGIN:VEVENT
DTSTART;TZID=America/Chicago:20210715T183000
DTEND;TZID=America/Chicago:20210715T200000
DTSTAMP:20260425T161506
CREATED:20190917T020221Z
LAST-MODIFIED:20250110T151531Z
UID:10003034-1626373800-1626379200@fayaltwp.org
SUMMARY:Eveleth-Fayal Garden Club
DESCRIPTION:Meeting lengths may vary
URL:https://fayaltwp.org/event/eveleth-fayal-garden-club/2021-07-15/
END:VEVENT
BEGIN:VEVENT
DTSTART;TZID=America/Chicago:20210716T173000
DTEND;TZID=America/Chicago:20210716T173000
DTSTAMP:20260425T161506
CREATED:20190917T020012Z
LAST-MODIFIED:20260317T185333Z
UID:10004076-1626456600-1626456600@fayaltwp.org
SUMMARY:Planning Commission Meeting
DESCRIPTION:Meeting lengths may vary
URL:https://fayaltwp.org/event/fayal-planning-commission/2021-07-16/
END:VEVENT
BEGIN:VEVENT
DTSTART;TZID=America/Chicago:20210716T180000
DTEND;TZID=America/Chicago:20210716T190000
DTSTAMP:20260425T161506
CREATED:20190917T021048Z
LAST-MODIFIED:20240213T193813Z
UID:10002251-1626458400-1626462000@fayaltwp.org
SUMMARY:Public Utility Meetings
DESCRIPTION:Meeting lengths may vary
URL:https://fayaltwp.org/event/public-utility-meetings-2/2021-07-16/
END:VEVENT
BEGIN:VEVENT
DTSTART;TZID=UTC:20210716T180000
DTEND;TZID=UTC:20210716T190000
DTSTAMP:20260425T161506
CREATED:20190917T015406Z
LAST-MODIFIED:20240207T175555Z
UID:10002200-1626458400-1626462000@fayaltwp.org
SUMMARY:Public Utility Meetings
DESCRIPTION:Meeting lengths may vary
URL:https://fayaltwp.org/event/public-utility-meetings/2021-07-16/
END:VEVENT
BEGIN:VEVENT
DTSTART;TZID=America/Chicago:20210719T161500
DTEND;TZID=America/Chicago:20210719T183000
DTSTAMP:20260425T161506
CREATED:20190917T014302Z
LAST-MODIFIED:20220309T145134Z
UID:10000951-1626711300-1626719400@fayaltwp.org
SUMMARY:T.O.P.S Meeting
DESCRIPTION:Meeting length times may vary
URL:https://fayaltwp.org/event/t-o-p-s-meeting/2021-07-19/
END:VEVENT
BEGIN:VEVENT
DTSTART;TZID=America/Chicago:20210724T080000
DTEND;TZID=America/Chicago:20210724T170000
DTSTAMP:20260425T161506
CREATED:20210616T182948Z
LAST-MODIFIED:20210616T182948Z
UID:10000185-1627113600-1627146000@fayaltwp.org
SUMMARY:Hall Rented
DESCRIPTION:
URL:https://fayaltwp.org/event/hall-rented-13/
END:VEVENT
BEGIN:VEVENT
DTSTART;TZID=America/Chicago:20210726T161500
DTEND;TZID=America/Chicago:20210726T183000
DTSTAMP:20260425T161506
CREATED:20190917T014302Z
LAST-MODIFIED:20220309T145134Z
UID:10000952-1627316100-1627324200@fayaltwp.org
SUMMARY:T.O.P.S Meeting
DESCRIPTION:Meeting length times may vary
URL:https://fayaltwp.org/event/t-o-p-s-meeting/2021-07-26/
END:VEVENT
BEGIN:VEVENT
DTSTART;TZID=America/Chicago:20210802T161500
DTEND;TZID=America/Chicago:20210802T183000
DTSTAMP:20260425T161506
CREATED:20190917T014302Z
LAST-MODIFIED:20220309T145134Z
UID:10000953-1627920900-1627929000@fayaltwp.org
SUMMARY:T.O.P.S Meeting
DESCRIPTION:Meeting length times may vary
URL:https://fayaltwp.org/event/t-o-p-s-meeting/2021-08-02/
END:VEVENT
BEGIN:VEVENT
DTSTART;TZID=America/Chicago:20210809T161500
DTEND;TZID=America/Chicago:20210809T183000
DTSTAMP:20260425T161506
CREATED:20190917T014302Z
LAST-MODIFIED:20220309T145134Z
UID:10000954-1628525700-1628533800@fayaltwp.org
SUMMARY:T.O.P.S Meeting
DESCRIPTION:Meeting length times may vary
URL:https://fayaltwp.org/event/t-o-p-s-meeting/2021-08-09/
END:VEVENT
BEGIN:VEVENT
DTSTART;TZID=America/Chicago:20210816T161500
DTEND;TZID=America/Chicago:20210816T183000
DTSTAMP:20260425T161506
CREATED:20190917T014302Z
LAST-MODIFIED:20220309T145134Z
UID:10000955-1629130500-1629138600@fayaltwp.org
SUMMARY:T.O.P.S Meeting
DESCRIPTION:Meeting length times may vary
URL:https://fayaltwp.org/event/t-o-p-s-meeting/2021-08-16/
END:VEVENT
BEGIN:VEVENT
DTSTART;TZID=America/Chicago:20210816T173000
DTEND;TZID=America/Chicago:20210816T173000
DTSTAMP:20260425T161506
CREATED:20190917T020012Z
LAST-MODIFIED:20260317T185333Z
UID:10004077-1629135000-1629135000@fayaltwp.org
SUMMARY:Planning Commission Meeting
DESCRIPTION:Meeting lengths may vary
URL:https://fayaltwp.org/event/fayal-planning-commission/2021-08-16/
END:VEVENT
BEGIN:VEVENT
DTSTART;TZID=America/Chicago:20210816T180000
DTEND;TZID=America/Chicago:20210816T190000
DTSTAMP:20260425T161506
CREATED:20190917T021048Z
LAST-MODIFIED:20240213T193813Z
UID:10002252-1629136800-1629140400@fayaltwp.org
SUMMARY:Public Utility Meetings
DESCRIPTION:Meeting lengths may vary
URL:https://fayaltwp.org/event/public-utility-meetings-2/2021-08-16/
END:VEVENT
BEGIN:VEVENT
DTSTART;TZID=UTC:20210816T180000
DTEND;TZID=UTC:20210816T190000
DTSTAMP:20260425T161506
CREATED:20190917T015406Z
LAST-MODIFIED:20240207T175555Z
UID:10002201-1629136800-1629140400@fayaltwp.org
SUMMARY:Public Utility Meetings
DESCRIPTION:Meeting lengths may vary
URL:https://fayaltwp.org/event/public-utility-meetings/2021-08-16/
END:VEVENT
BEGIN:VEVENT
DTSTART;TZID=America/Chicago:20210819T183000
DTEND;TZID=America/Chicago:20210819T200000
DTSTAMP:20260425T161506
CREATED:20190917T020221Z
LAST-MODIFIED:20250110T151531Z
UID:10003035-1629397800-1629403200@fayaltwp.org
SUMMARY:Eveleth-Fayal Garden Club
DESCRIPTION:Meeting lengths may vary
URL:https://fayaltwp.org/event/eveleth-fayal-garden-club/2021-08-19/
END:VEVENT
BEGIN:VEVENT
DTSTART;TZID=America/Chicago:20210823T161500
DTEND;TZID=America/Chicago:20210823T183000
DTSTAMP:20260425T161506
CREATED:20190917T014302Z
LAST-MODIFIED:20220309T145134Z
UID:10000956-1629735300-1629743400@fayaltwp.org
SUMMARY:T.O.P.S Meeting
DESCRIPTION:Meeting length times may vary
URL:https://fayaltwp.org/event/t-o-p-s-meeting/2021-08-23/
END:VEVENT
BEGIN:VEVENT
DTSTART;TZID=America/Chicago:20210825T080000
DTEND;TZID=America/Chicago:20210825T130000
DTSTAMP:20260425T161506
CREATED:20210506T143021Z
LAST-MODIFIED:20210506T143021Z
UID:10000207-1629878400-1629896400@fayaltwp.org
SUMMARY:Hall Rented
DESCRIPTION:
URL:https://fayaltwp.org/event/hall-rented-6/
END:VEVENT
BEGIN:VEVENT
DTSTART;TZID=America/Chicago:20210830T161500
DTEND;TZID=America/Chicago:20210830T183000
DTSTAMP:20260425T161506
CREATED:20190917T014302Z
LAST-MODIFIED:20220309T145134Z
UID:10000957-1630340100-1630348200@fayaltwp.org
SUMMARY:T.O.P.S Meeting
DESCRIPTION:Meeting length times may vary
URL:https://fayaltwp.org/event/t-o-p-s-meeting/2021-08-30/
END:VEVENT
BEGIN:VEVENT
DTSTART;VALUE=DATE:20210906
DTEND;VALUE=DATE:20210908
DTSTAMP:20260425T161506
CREATED:20210506T143104Z
LAST-MODIFIED:20210506T143104Z
UID:10000208-1630904400-1630990799@fayaltwp.org
SUMMARY:Clerk's Office Closed
DESCRIPTION:
URL:https://fayaltwp.org/event/clerks-office-closed-2/
END:VEVENT
BEGIN:VEVENT
DTSTART;TZID=America/Chicago:20210906T161500
DTEND;TZID=America/Chicago:20210906T183000
DTSTAMP:20260425T161506
CREATED:20190917T014302Z
LAST-MODIFIED:20220309T145134Z
UID:10000958-1630944900-1630953000@fayaltwp.org
SUMMARY:T.O.P.S Meeting
DESCRIPTION:Meeting length times may vary
URL:https://fayaltwp.org/event/t-o-p-s-meeting/2021-09-06/
END:VEVENT
BEGIN:VEVENT
DTSTART;TZID=America/Chicago:20210907T190000
DTEND;TZID=America/Chicago:20210907T203000
DTSTAMP:20260425T161506
CREATED:20190917T015259Z
LAST-MODIFIED:20220309T144930Z
UID:10001159-1631041200-1631046600@fayaltwp.org
SUMMARY:Town Board Meeting
DESCRIPTION:Meeting lengths may vary
URL:https://fayaltwp.org/event/town-board-meeting/2021-09-07/
END:VEVENT
BEGIN:VEVENT
DTSTART;TZID=America/Chicago:20210910T080000
DTEND;TZID=America/Chicago:20210910T170000
DTSTAMP:20260425T161506
CREATED:20210908T163048Z
LAST-MODIFIED:20210908T163048Z
UID:10000012-1631260800-1631293200@fayaltwp.org
SUMMARY:Rummage Sale
DESCRIPTION:
URL:https://fayaltwp.org/event/rummage-sale-3/
END:VEVENT
BEGIN:VEVENT
DTSTART;TZID=America/Chicago:20210913T161500
DTEND;TZID=America/Chicago:20210913T183000
DTSTAMP:20260425T161506
CREATED:20190917T014302Z
LAST-MODIFIED:20220309T145134Z
UID:10000959-1631549700-1631557800@fayaltwp.org
SUMMARY:T.O.P.S Meeting
DESCRIPTION:Meeting length times may vary
URL:https://fayaltwp.org/event/t-o-p-s-meeting/2021-09-13/
END:VEVENT
BEGIN:VEVENT
DTSTART;TZID=America/Chicago:20210916T173000
DTEND;TZID=America/Chicago:20210916T173000
DTSTAMP:20260425T161506
CREATED:20190917T020012Z
LAST-MODIFIED:20260317T185333Z
UID:10004078-1631813400-1631813400@fayaltwp.org
SUMMARY:Planning Commission Meeting
DESCRIPTION:Meeting lengths may vary
URL:https://fayaltwp.org/event/fayal-planning-commission/2021-09-16/
END:VEVENT
BEGIN:VEVENT
DTSTART;TZID=America/Chicago:20210916T180000
DTEND;TZID=America/Chicago:20210916T190000
DTSTAMP:20260425T161506
CREATED:20190917T021048Z
LAST-MODIFIED:20240213T193813Z
UID:10002253-1631815200-1631818800@fayaltwp.org
SUMMARY:Public Utility Meetings
DESCRIPTION:Meeting lengths may vary
URL:https://fayaltwp.org/event/public-utility-meetings-2/2021-09-16/
END:VEVENT
BEGIN:VEVENT
DTSTART;TZID=UTC:20210916T180000
DTEND;TZID=UTC:20210916T190000
DTSTAMP:20260425T161506
CREATED:20190917T015406Z
LAST-MODIFIED:20240207T175555Z
UID:10002202-1631815200-1631818800@fayaltwp.org
SUMMARY:Public Utility Meetings
DESCRIPTION:Meeting lengths may vary
URL:https://fayaltwp.org/event/public-utility-meetings/2021-09-16/
END:VEVENT
BEGIN:VEVENT
DTSTART;TZID=America/Chicago:20210916T183000
DTEND;TZID=America/Chicago:20210916T200000
DTSTAMP:20260425T161506
CREATED:20190917T020221Z
LAST-MODIFIED:20250110T151531Z
UID:10002915-1631817000-1631822400@fayaltwp.org
SUMMARY:Eveleth-Fayal Garden Club
DESCRIPTION:Meeting lengths may vary
URL:https://fayaltwp.org/event/eveleth-fayal-garden-club/2021-09-16/
END:VEVENT
BEGIN:VEVENT
DTSTART;TZID=America/Chicago:20210919T080000
DTEND;TZID=America/Chicago:20210919T170000
DTSTAMP:20260425T161506
CREATED:20210908T163112Z
LAST-MODIFIED:20210908T163112Z
UID:10000013-1632038400-1632070800@fayaltwp.org
SUMMARY:Hall Rented
DESCRIPTION:
URL:https://fayaltwp.org/event/hall-rented-16/
END:VEVENT
BEGIN:VEVENT
DTSTART;TZID=America/Chicago:20210920T161500
DTEND;TZID=America/Chicago:20210920T183000
DTSTAMP:20260425T161506
CREATED:20190917T014302Z
LAST-MODIFIED:20220309T145134Z
UID:10000960-1632154500-1632162600@fayaltwp.org
SUMMARY:T.O.P.S Meeting
DESCRIPTION:Meeting length times may vary
URL:https://fayaltwp.org/event/t-o-p-s-meeting/2021-09-20/
END:VEVENT
END:VCALENDAR