BEGIN:VCALENDAR
VERSION:2.0
PRODID:-//Fayal Twp - ECPv6.15.17.1//NONSGML v1.0//EN
CALSCALE:GREGORIAN
METHOD:PUBLISH
X-ORIGINAL-URL:https://fayaltwp.org
X-WR-CALDESC:Events for Fayal Twp
REFRESH-INTERVAL;VALUE=DURATION:PT1H
X-Robots-Tag:noindex
X-PUBLISHED-TTL:PT1H
BEGIN:VTIMEZONE
TZID:America/Chicago
BEGIN:DAYLIGHT
TZOFFSETFROM:-0600
TZOFFSETTO:-0500
TZNAME:CDT
DTSTART:20250309T080000
END:DAYLIGHT
BEGIN:STANDARD
TZOFFSETFROM:-0500
TZOFFSETTO:-0600
TZNAME:CST
DTSTART:20251102T070000
END:STANDARD
BEGIN:DAYLIGHT
TZOFFSETFROM:-0600
TZOFFSETTO:-0500
TZNAME:CDT
DTSTART:20260308T080000
END:DAYLIGHT
BEGIN:STANDARD
TZOFFSETFROM:-0500
TZOFFSETTO:-0600
TZNAME:CST
DTSTART:20261101T070000
END:STANDARD
BEGIN:DAYLIGHT
TZOFFSETFROM:-0600
TZOFFSETTO:-0500
TZNAME:CDT
DTSTART:20270314T080000
END:DAYLIGHT
BEGIN:STANDARD
TZOFFSETFROM:-0500
TZOFFSETTO:-0600
TZNAME:CST
DTSTART:20271107T070000
END:STANDARD
END:VTIMEZONE
BEGIN:VEVENT
DTSTART;TZID=America/Chicago:20261013T180000
DTEND;TZID=America/Chicago:20261013T190000
DTSTAMP:20260425T070938
CREATED:20240213T194019Z
LAST-MODIFIED:20240718T171231Z
UID:10002372-1791914400-1791918000@fayaltwp.org
SUMMARY:Public Utility Meetings
DESCRIPTION:Meeting lengths may vary
URL:https://fayaltwp.org/event/public-utility-meetings-2-2/2026-10-13/
END:VEVENT
BEGIN:VEVENT
DTSTART;TZID=America/Chicago:20261014T093000
DTEND;TZID=America/Chicago:20261014T103000
DTSTAMP:20260425T070938
CREATED:20240207T174449Z
LAST-MODIFIED:20260317T185548Z
UID:10001750-1791970200-1791973800@fayaltwp.org
SUMMARY:Aerobics
DESCRIPTION:
URL:https://fayaltwp.org/event/aerobics/2026-10-14/
END:VEVENT
BEGIN:VEVENT
DTSTART;TZID=America/Chicago:20261015T093000
DTEND;TZID=America/Chicago:20261015T223000
DTSTAMP:20260425T070938
CREATED:20260112T180331Z
LAST-MODIFIED:20260317T190351Z
UID:10003515-1792056600-1792103400@fayaltwp.org
SUMMARY:Yoga
DESCRIPTION:
URL:https://fayaltwp.org/event/yoga-2-2/2026-10-15/
END:VEVENT
BEGIN:VEVENT
DTSTART;TZID=America/Chicago:20261015T183000
DTEND;TZID=America/Chicago:20261015T200000
DTSTAMP:20260425T070938
CREATED:20190917T020221Z
LAST-MODIFIED:20250110T151531Z
UID:10003086-1792089000-1792094400@fayaltwp.org
SUMMARY:Eveleth-Fayal Garden Club
DESCRIPTION:Meeting lengths may vary
URL:https://fayaltwp.org/event/eveleth-fayal-garden-club/2026-10-15/
END:VEVENT
BEGIN:VEVENT
DTSTART;TZID=America/Chicago:20261016T093000
DTEND;TZID=America/Chicago:20261016T103000
DTSTAMP:20260425T070938
CREATED:20240207T174449Z
LAST-MODIFIED:20260317T185548Z
UID:10001751-1792143000-1792146600@fayaltwp.org
SUMMARY:Aerobics
DESCRIPTION:
URL:https://fayaltwp.org/event/aerobics/2026-10-16/
END:VEVENT
BEGIN:VEVENT
DTSTART;TZID=America/Chicago:20261019T093000
DTEND;TZID=America/Chicago:20261019T103000
DTSTAMP:20260425T070938
CREATED:20240207T174449Z
LAST-MODIFIED:20260317T185548Z
UID:10001752-1792402200-1792405800@fayaltwp.org
SUMMARY:Aerobics
DESCRIPTION:
URL:https://fayaltwp.org/event/aerobics/2026-10-19/
END:VEVENT
BEGIN:VEVENT
DTSTART;TZID=America/Chicago:20261019T160000
DTEND;TZID=America/Chicago:20261019T183000
DTSTAMP:20260425T070938
CREATED:20250905T131821Z
LAST-MODIFIED:20250905T131821Z
UID:10003777-1792425600-1792434600@fayaltwp.org
SUMMARY:T.O.P.S.
DESCRIPTION:
URL:https://fayaltwp.org/event/t-o-p-s/2026-10-19/
END:VEVENT
BEGIN:VEVENT
DTSTART;TZID=America/Chicago:20261020T190000
DTEND;TZID=America/Chicago:20261020T203000
DTSTAMP:20260425T070938
CREATED:20230727T144614Z
LAST-MODIFIED:20250115T222032Z
UID:10003361-1792522800-1792528200@fayaltwp.org
SUMMARY:Town Board Meeting
DESCRIPTION:Meeting lengths may vary
URL:https://fayaltwp.org/event/town-board-meeting-2/2026-10-20/
END:VEVENT
BEGIN:VEVENT
DTSTART;TZID=America/Chicago:20261021T093000
DTEND;TZID=America/Chicago:20261021T103000
DTSTAMP:20260425T070938
CREATED:20240207T174449Z
LAST-MODIFIED:20260317T185548Z
UID:10001753-1792575000-1792578600@fayaltwp.org
SUMMARY:Aerobics
DESCRIPTION:
URL:https://fayaltwp.org/event/aerobics/2026-10-21/
END:VEVENT
BEGIN:VEVENT
DTSTART;TZID=America/Chicago:20261022T093000
DTEND;TZID=America/Chicago:20261022T223000
DTSTAMP:20260425T070938
CREATED:20260112T180331Z
LAST-MODIFIED:20260317T190351Z
UID:10003516-1792661400-1792708200@fayaltwp.org
SUMMARY:Yoga
DESCRIPTION:
URL:https://fayaltwp.org/event/yoga-2-2/2026-10-22/
END:VEVENT
BEGIN:VEVENT
DTSTART;TZID=America/Chicago:20261023T093000
DTEND;TZID=America/Chicago:20261023T103000
DTSTAMP:20260425T070938
CREATED:20240207T174449Z
LAST-MODIFIED:20260317T185548Z
UID:10001754-1792747800-1792751400@fayaltwp.org
SUMMARY:Aerobics
DESCRIPTION:
URL:https://fayaltwp.org/event/aerobics/2026-10-23/
END:VEVENT
BEGIN:VEVENT
DTSTART;TZID=America/Chicago:20261026T093000
DTEND;TZID=America/Chicago:20261026T103000
DTSTAMP:20260425T070938
CREATED:20240207T174449Z
LAST-MODIFIED:20260317T185548Z
UID:10001755-1793007000-1793010600@fayaltwp.org
SUMMARY:Aerobics
DESCRIPTION:
URL:https://fayaltwp.org/event/aerobics/2026-10-26/
END:VEVENT
BEGIN:VEVENT
DTSTART;TZID=America/Chicago:20261026T160000
DTEND;TZID=America/Chicago:20261026T183000
DTSTAMP:20260425T070938
CREATED:20250905T131821Z
LAST-MODIFIED:20250905T131821Z
UID:10003778-1793030400-1793039400@fayaltwp.org
SUMMARY:T.O.P.S.
DESCRIPTION:
URL:https://fayaltwp.org/event/t-o-p-s/2026-10-26/
END:VEVENT
BEGIN:VEVENT
DTSTART;TZID=America/Chicago:20261028T093000
DTEND;TZID=America/Chicago:20261028T103000
DTSTAMP:20260425T070938
CREATED:20240207T174449Z
LAST-MODIFIED:20260317T185548Z
UID:10001756-1793179800-1793183400@fayaltwp.org
SUMMARY:Aerobics
DESCRIPTION:
URL:https://fayaltwp.org/event/aerobics/2026-10-28/
END:VEVENT
BEGIN:VEVENT
DTSTART;TZID=America/Chicago:20261029T093000
DTEND;TZID=America/Chicago:20261029T223000
DTSTAMP:20260425T070938
CREATED:20260112T180331Z
LAST-MODIFIED:20260317T190351Z
UID:10003517-1793266200-1793313000@fayaltwp.org
SUMMARY:Yoga
DESCRIPTION:
URL:https://fayaltwp.org/event/yoga-2-2/2026-10-29/
END:VEVENT
BEGIN:VEVENT
DTSTART;TZID=America/Chicago:20261030T093000
DTEND;TZID=America/Chicago:20261030T103000
DTSTAMP:20260425T070938
CREATED:20240207T174449Z
LAST-MODIFIED:20260317T185548Z
UID:10001757-1793352600-1793356200@fayaltwp.org
SUMMARY:Aerobics
DESCRIPTION:
URL:https://fayaltwp.org/event/aerobics/2026-10-30/
END:VEVENT
BEGIN:VEVENT
DTSTART;TZID=America/Chicago:20261102T093000
DTEND;TZID=America/Chicago:20261102T103000
DTSTAMP:20260425T070938
CREATED:20240207T174449Z
LAST-MODIFIED:20260317T185548Z
UID:10001758-1793611800-1793615400@fayaltwp.org
SUMMARY:Aerobics
DESCRIPTION:
URL:https://fayaltwp.org/event/aerobics/2026-11-02/
END:VEVENT
BEGIN:VEVENT
DTSTART;TZID=America/Chicago:20261102T160000
DTEND;TZID=America/Chicago:20261102T183000
DTSTAMP:20260425T070938
CREATED:20250905T131821Z
LAST-MODIFIED:20250905T131821Z
UID:10003779-1793635200-1793644200@fayaltwp.org
SUMMARY:T.O.P.S.
DESCRIPTION:
URL:https://fayaltwp.org/event/t-o-p-s/2026-11-02/
END:VEVENT
BEGIN:VEVENT
DTSTART;TZID=America/Chicago:20261103T190000
DTEND;TZID=America/Chicago:20261103T203000
DTSTAMP:20260425T070938
CREATED:20240213T194504Z
LAST-MODIFIED:20250318T164658Z
UID:10002421-1793732400-1793737800@fayaltwp.org
SUMMARY:Town Board Meeting
DESCRIPTION:Meeting lengths may vary
URL:https://fayaltwp.org/event/town-board-meeting-3/2026-11-03/
END:VEVENT
BEGIN:VEVENT
DTSTART;TZID=America/Chicago:20261104T093000
DTEND;TZID=America/Chicago:20261104T103000
DTSTAMP:20260425T070938
CREATED:20240207T174449Z
LAST-MODIFIED:20260317T185548Z
UID:10001759-1793784600-1793788200@fayaltwp.org
SUMMARY:Aerobics
DESCRIPTION:
URL:https://fayaltwp.org/event/aerobics/2026-11-04/
END:VEVENT
BEGIN:VEVENT
DTSTART;TZID=America/Chicago:20261105T093000
DTEND;TZID=America/Chicago:20261105T223000
DTSTAMP:20260425T070938
CREATED:20260112T180331Z
LAST-MODIFIED:20260317T190351Z
UID:10003518-1793871000-1793917800@fayaltwp.org
SUMMARY:Yoga
DESCRIPTION:
URL:https://fayaltwp.org/event/yoga-2-2/2026-11-05/
END:VEVENT
BEGIN:VEVENT
DTSTART;TZID=America/Chicago:20261106T093000
DTEND;TZID=America/Chicago:20261106T103000
DTSTAMP:20260425T070938
CREATED:20240207T174449Z
LAST-MODIFIED:20260317T185548Z
UID:10001760-1793957400-1793961000@fayaltwp.org
SUMMARY:Aerobics
DESCRIPTION:
URL:https://fayaltwp.org/event/aerobics/2026-11-06/
END:VEVENT
BEGIN:VEVENT
DTSTART;VALUE=DATE:20261107
DTEND;VALUE=DATE:20261109
DTSTAMP:20260425T070938
CREATED:20260317T184751Z
LAST-MODIFIED:20260317T184751Z
UID:10004056-1794027600-1794113999@fayaltwp.org
SUMMARY:Craft Fair
DESCRIPTION:
URL:https://fayaltwp.org/event/craft-fair-2/
END:VEVENT
BEGIN:VEVENT
DTSTART;TZID=America/Chicago:20261109T093000
DTEND;TZID=America/Chicago:20261109T103000
DTSTAMP:20260425T070938
CREATED:20240207T174449Z
LAST-MODIFIED:20260317T185548Z
UID:10001761-1794216600-1794220200@fayaltwp.org
SUMMARY:Aerobics
DESCRIPTION:
URL:https://fayaltwp.org/event/aerobics/2026-11-09/
END:VEVENT
BEGIN:VEVENT
DTSTART;TZID=America/Chicago:20261109T120000
DTEND;TZID=America/Chicago:20261109T140000
DTSTAMP:20260425T070938
CREATED:20240207T175425Z
LAST-MODIFIED:20240718T172046Z
UID:10002150-1794225600-1794232800@fayaltwp.org
SUMMARY:Sororiety Meeting
DESCRIPTION:
URL:https://fayaltwp.org/event/sororiety-meeting/2026-11-09/
END:VEVENT
BEGIN:VEVENT
DTSTART;TZID=America/Chicago:20261109T160000
DTEND;TZID=America/Chicago:20261109T183000
DTSTAMP:20260425T070938
CREATED:20250905T131821Z
LAST-MODIFIED:20250905T131821Z
UID:10003780-1794240000-1794249000@fayaltwp.org
SUMMARY:T.O.P.S.
DESCRIPTION:
URL:https://fayaltwp.org/event/t-o-p-s/2026-11-09/
END:VEVENT
BEGIN:VEVENT
DTSTART;TZID=America/Chicago:20261110T180000
DTEND;TZID=America/Chicago:20261110T190000
DTSTAMP:20260425T070938
CREATED:20240213T194019Z
LAST-MODIFIED:20240718T171231Z
UID:10002373-1794333600-1794337200@fayaltwp.org
SUMMARY:Public Utility Meetings
DESCRIPTION:Meeting lengths may vary
URL:https://fayaltwp.org/event/public-utility-meetings-2-2/2026-11-10/
END:VEVENT
BEGIN:VEVENT
DTSTART;TZID=America/Chicago:20261111T093000
DTEND;TZID=America/Chicago:20261111T103000
DTSTAMP:20260425T070938
CREATED:20240207T174449Z
LAST-MODIFIED:20260317T185548Z
UID:10001762-1794389400-1794393000@fayaltwp.org
SUMMARY:Aerobics
DESCRIPTION:
URL:https://fayaltwp.org/event/aerobics/2026-11-11/
END:VEVENT
BEGIN:VEVENT
DTSTART;TZID=America/Chicago:20261112T093000
DTEND;TZID=America/Chicago:20261112T223000
DTSTAMP:20260425T070938
CREATED:20260112T180331Z
LAST-MODIFIED:20260317T190351Z
UID:10003519-1794475800-1794522600@fayaltwp.org
SUMMARY:Yoga
DESCRIPTION:
URL:https://fayaltwp.org/event/yoga-2-2/2026-11-12/
END:VEVENT
BEGIN:VEVENT
DTSTART;TZID=America/Chicago:20261113T093000
DTEND;TZID=America/Chicago:20261113T103000
DTSTAMP:20260425T070938
CREATED:20240207T174449Z
LAST-MODIFIED:20260317T185548Z
UID:10001763-1794562200-1794565800@fayaltwp.org
SUMMARY:Aerobics
DESCRIPTION:
URL:https://fayaltwp.org/event/aerobics/2026-11-13/
END:VEVENT
END:VCALENDAR