BEGIN:VCALENDAR
VERSION:2.0
PRODID:-//Fayal Twp - ECPv6.15.17.1//NONSGML v1.0//EN
CALSCALE:GREGORIAN
METHOD:PUBLISH
X-ORIGINAL-URL:https://fayaltwp.org
X-WR-CALDESC:Events for Fayal Twp
REFRESH-INTERVAL;VALUE=DURATION:PT1H
X-Robots-Tag:noindex
X-PUBLISHED-TTL:PT1H
BEGIN:VTIMEZONE
TZID:America/Chicago
BEGIN:DAYLIGHT
TZOFFSETFROM:-0600
TZOFFSETTO:-0500
TZNAME:CDT
DTSTART:20230312T080000
END:DAYLIGHT
BEGIN:STANDARD
TZOFFSETFROM:-0500
TZOFFSETTO:-0600
TZNAME:CST
DTSTART:20231105T070000
END:STANDARD
BEGIN:DAYLIGHT
TZOFFSETFROM:-0600
TZOFFSETTO:-0500
TZNAME:CDT
DTSTART:20240310T080000
END:DAYLIGHT
BEGIN:STANDARD
TZOFFSETFROM:-0500
TZOFFSETTO:-0600
TZNAME:CST
DTSTART:20241103T070000
END:STANDARD
BEGIN:DAYLIGHT
TZOFFSETFROM:-0600
TZOFFSETTO:-0500
TZNAME:CDT
DTSTART:20250309T080000
END:DAYLIGHT
BEGIN:STANDARD
TZOFFSETFROM:-0500
TZOFFSETTO:-0600
TZNAME:CST
DTSTART:20251102T070000
END:STANDARD
END:VTIMEZONE
BEGIN:VEVENT
DTSTART;TZID=America/Chicago:20240611T180000
DTEND;TZID=America/Chicago:20240611T190000
DTSTAMP:20260425T104749
CREATED:20240213T194019Z
LAST-MODIFIED:20240718T171231Z
UID:10002344-1718128800-1718132400@fayaltwp.org
SUMMARY:Public Utility Meetings
DESCRIPTION:Meeting lengths may vary
URL:https://fayaltwp.org/event/public-utility-meetings-2-2/2024-06-11/
END:VEVENT
BEGIN:VEVENT
DTSTART;TZID=America/Chicago:20240612T093000
DTEND;TZID=America/Chicago:20240612T103000
DTSTAMP:20260425T104749
CREATED:20240207T174449Z
LAST-MODIFIED:20260317T185548Z
UID:10001384-1718184600-1718188200@fayaltwp.org
SUMMARY:Aerobics
DESCRIPTION:
URL:https://fayaltwp.org/event/aerobics/2024-06-12/
END:VEVENT
BEGIN:VEVENT
DTSTART;VALUE=DATE:20240614
DTEND;VALUE=DATE:20240616
DTSTAMP:20260425T104749
CREATED:20240409T170619Z
LAST-MODIFIED:20240409T171315Z
UID:10002496-1718341200-1718427599@fayaltwp.org
SUMMARY:Town Hall Rented
DESCRIPTION:
URL:https://fayaltwp.org/event/town-hall-rental/
END:VEVENT
BEGIN:VEVENT
DTSTART;VALUE=DATE:20240615
DTEND;VALUE=DATE:20240617
DTSTAMP:20260425T104749
CREATED:20240409T170646Z
LAST-MODIFIED:20240409T171310Z
UID:10002497-1718427600-1718513999@fayaltwp.org
SUMMARY:Town Hall Rented
DESCRIPTION:
URL:https://fayaltwp.org/event/town-hall-rental-2/
END:VEVENT
BEGIN:VEVENT
DTSTART;VALUE=DATE:20240616
DTEND;VALUE=DATE:20240618
DTSTAMP:20260425T104749
CREATED:20240507T171248Z
LAST-MODIFIED:20240507T171248Z
UID:10002736-1718514000-1718600399@fayaltwp.org
SUMMARY:Town Hall Rented
DESCRIPTION:
URL:https://fayaltwp.org/event/town-hall-rented-57/
END:VEVENT
BEGIN:VEVENT
DTSTART;TZID=America/Chicago:20240616T173000
DTEND;TZID=America/Chicago:20240616T173000
DTSTAMP:20260425T104749
CREATED:20190917T020012Z
LAST-MODIFIED:20260317T185333Z
UID:10004107-1718559000-1718559000@fayaltwp.org
SUMMARY:Planning Commission Meeting
DESCRIPTION:Meeting lengths may vary
URL:https://fayaltwp.org/event/fayal-planning-commission/2024-06-16/
END:VEVENT
BEGIN:VEVENT
DTSTART;TZID=America/Chicago:20240617T093000
DTEND;TZID=America/Chicago:20240617T103000
DTSTAMP:20260425T104749
CREATED:20240207T174449Z
LAST-MODIFIED:20260317T185548Z
UID:10001386-1718616600-1718620200@fayaltwp.org
SUMMARY:Aerobics
DESCRIPTION:
URL:https://fayaltwp.org/event/aerobics/2024-06-17/
END:VEVENT
BEGIN:VEVENT
DTSTART;TZID=America/Chicago:20240617T161500
DTEND;TZID=America/Chicago:20240617T183000
DTSTAMP:20260425T104749
CREATED:20190917T014302Z
LAST-MODIFIED:20220309T145134Z
UID:10001103-1718640900-1718649000@fayaltwp.org
SUMMARY:T.O.P.S Meeting
DESCRIPTION:Meeting length times may vary
URL:https://fayaltwp.org/event/t-o-p-s-meeting/2024-06-17/
END:VEVENT
BEGIN:VEVENT
DTSTART;TZID=America/Chicago:20240618T190000
DTEND;TZID=America/Chicago:20240618T203000
DTSTAMP:20260425T104749
CREATED:20230727T144614Z
LAST-MODIFIED:20250115T222032Z
UID:10001253-1718737200-1718742600@fayaltwp.org
SUMMARY:Town Board Meeting
DESCRIPTION:Meeting lengths may vary
URL:https://fayaltwp.org/event/town-board-meeting-2/2024-06-18/
END:VEVENT
BEGIN:VEVENT
DTSTART;VALUE=DATE:20240619
DTEND;VALUE=DATE:20240621
DTSTAMP:20260425T104749
CREATED:20240619T171351Z
LAST-MODIFIED:20240409T172254Z
UID:10002501-1718773200-1718859599@fayaltwp.org
SUMMARY:Clerk's Office Closed- Juneteeth Holiday
DESCRIPTION:
URL:https://fayaltwp.org/event/clerks-office-closed-juneteeth-holiday/
END:VEVENT
BEGIN:VEVENT
DTSTART;TZID=America/Chicago:20240619T093000
DTEND;TZID=America/Chicago:20240619T103000
DTSTAMP:20260425T104749
CREATED:20240207T174449Z
LAST-MODIFIED:20260317T185548Z
UID:10001387-1718789400-1718793000@fayaltwp.org
SUMMARY:Aerobics
DESCRIPTION:
URL:https://fayaltwp.org/event/aerobics/2024-06-19/
END:VEVENT
BEGIN:VEVENT
DTSTART;TZID=America/Chicago:20240620T183000
DTEND;TZID=America/Chicago:20240620T200000
DTSTAMP:20260425T104749
CREATED:20190917T020221Z
LAST-MODIFIED:20250110T151531Z
UID:10003062-1718908200-1718913600@fayaltwp.org
SUMMARY:Eveleth-Fayal Garden Club
DESCRIPTION:Meeting lengths may vary
URL:https://fayaltwp.org/event/eveleth-fayal-garden-club/2024-06-20/
END:VEVENT
BEGIN:VEVENT
DTSTART;TZID=America/Chicago:20240621T093000
DTEND;TZID=America/Chicago:20240621T103000
DTSTAMP:20260425T104749
CREATED:20240207T174449Z
LAST-MODIFIED:20260317T185548Z
UID:10001388-1718962200-1718965800@fayaltwp.org
SUMMARY:Aerobics
DESCRIPTION:
URL:https://fayaltwp.org/event/aerobics/2024-06-21/
END:VEVENT
BEGIN:VEVENT
DTSTART;TZID=America/Chicago:20240621T120000
DTEND;TZID=America/Chicago:20240621T170000
DTSTAMP:20260425T104749
CREATED:20240529T153945Z
LAST-MODIFIED:20240529T162221Z
UID:10002738-1718971200-1718989200@fayaltwp.org
SUMMARY:Town Hall Rented
DESCRIPTION:
URL:https://fayaltwp.org/event/town-hall-rented-64/
END:VEVENT
BEGIN:VEVENT
DTSTART;VALUE=DATE:20240622
DTEND;VALUE=DATE:20240624
DTSTAMP:20260425T104749
CREATED:20240409T170747Z
LAST-MODIFIED:20240409T171305Z
UID:10002498-1719032400-1719118799@fayaltwp.org
SUMMARY:Town Hall Rented
DESCRIPTION:
URL:https://fayaltwp.org/event/town-hall-rental-3/
END:VEVENT
BEGIN:VEVENT
DTSTART;VALUE=DATE:20240623
DTEND;VALUE=DATE:20240625
DTSTAMP:20260425T104749
CREATED:20240409T170815Z
LAST-MODIFIED:20240409T171300Z
UID:10002499-1719118800-1719205199@fayaltwp.org
SUMMARY:Town Hall Rented
DESCRIPTION:
URL:https://fayaltwp.org/event/town-hall-rental-4/
END:VEVENT
BEGIN:VEVENT
DTSTART;TZID=America/Chicago:20240624T093000
DTEND;TZID=America/Chicago:20240624T103000
DTSTAMP:20260425T104749
CREATED:20240207T174449Z
LAST-MODIFIED:20260317T185548Z
UID:10001389-1719221400-1719225000@fayaltwp.org
SUMMARY:Aerobics
DESCRIPTION:
URL:https://fayaltwp.org/event/aerobics/2024-06-24/
END:VEVENT
BEGIN:VEVENT
DTSTART;TZID=America/Chicago:20240624T161500
DTEND;TZID=America/Chicago:20240624T183000
DTSTAMP:20260425T104749
CREATED:20190917T014302Z
LAST-MODIFIED:20220309T145134Z
UID:10001104-1719245700-1719253800@fayaltwp.org
SUMMARY:T.O.P.S Meeting
DESCRIPTION:Meeting length times may vary
URL:https://fayaltwp.org/event/t-o-p-s-meeting/2024-06-24/
END:VEVENT
BEGIN:VEVENT
DTSTART;TZID=America/Chicago:20240626T093000
DTEND;TZID=America/Chicago:20240626T103000
DTSTAMP:20260425T104749
CREATED:20240207T174449Z
LAST-MODIFIED:20260317T185548Z
UID:10001390-1719394200-1719397800@fayaltwp.org
SUMMARY:Aerobics
DESCRIPTION:
URL:https://fayaltwp.org/event/aerobics/2024-06-26/
END:VEVENT
BEGIN:VEVENT
DTSTART;TZID=America/Chicago:20240628T093000
DTEND;TZID=America/Chicago:20240628T103000
DTSTAMP:20260425T104749
CREATED:20240207T174449Z
LAST-MODIFIED:20260317T185548Z
UID:10001391-1719567000-1719570600@fayaltwp.org
SUMMARY:Aerobics
DESCRIPTION:
URL:https://fayaltwp.org/event/aerobics/2024-06-28/
END:VEVENT
BEGIN:VEVENT
DTSTART;VALUE=DATE:20240629
DTEND;VALUE=DATE:20240701
DTSTAMP:20260425T104749
CREATED:20240409T170843Z
LAST-MODIFIED:20240409T171253Z
UID:10002500-1719637200-1719723599@fayaltwp.org
SUMMARY:Town Hall Rented
DESCRIPTION:
URL:https://fayaltwp.org/event/town-hall-rental-5/
END:VEVENT
BEGIN:VEVENT
DTSTART;TZID=America/Chicago:20240701T093000
DTEND;TZID=America/Chicago:20240701T103000
DTSTAMP:20260425T104749
CREATED:20240207T174449Z
LAST-MODIFIED:20260317T185548Z
UID:10001392-1719826200-1719829800@fayaltwp.org
SUMMARY:Aerobics
DESCRIPTION:
URL:https://fayaltwp.org/event/aerobics/2024-07-01/
END:VEVENT
BEGIN:VEVENT
DTSTART;TZID=America/Chicago:20240701T161500
DTEND;TZID=America/Chicago:20240701T183000
DTSTAMP:20260425T104749
CREATED:20190917T014302Z
LAST-MODIFIED:20220309T145134Z
UID:10001105-1719850500-1719858600@fayaltwp.org
SUMMARY:T.O.P.S Meeting
DESCRIPTION:Meeting length times may vary
URL:https://fayaltwp.org/event/t-o-p-s-meeting/2024-07-01/
END:VEVENT
BEGIN:VEVENT
DTSTART;TZID=America/Chicago:20240702T190000
DTEND;TZID=America/Chicago:20240702T203000
DTSTAMP:20260425T104749
CREATED:20240213T194504Z
LAST-MODIFIED:20250318T164658Z
UID:10001189-1719946800-1719952200@fayaltwp.org
SUMMARY:Town Board Meeting
DESCRIPTION:Meeting lengths may vary
URL:https://fayaltwp.org/event/town-board-meeting-3/2024-07-02/
END:VEVENT
BEGIN:VEVENT
DTSTART;TZID=America/Chicago:20240703T093000
DTEND;TZID=America/Chicago:20240703T103000
DTSTAMP:20260425T104749
CREATED:20240207T174449Z
LAST-MODIFIED:20260317T185548Z
UID:10001393-1719999000-1720002600@fayaltwp.org
SUMMARY:Aerobics
DESCRIPTION:
URL:https://fayaltwp.org/event/aerobics/2024-07-03/
END:VEVENT
BEGIN:VEVENT
DTSTART;VALUE=DATE:20240704
DTEND;VALUE=DATE:20240706
DTSTAMP:20260425T104749
CREATED:20240409T171724Z
LAST-MODIFIED:20240409T171724Z
UID:10002720-1720069200-1720155599@fayaltwp.org
SUMMARY:Clerk's Office Closed- Independence Day
DESCRIPTION:
URL:https://fayaltwp.org/event/clerks-office-closed-independence-day/
END:VEVENT
BEGIN:VEVENT
DTSTART;TZID=America/Chicago:20240705T093000
DTEND;TZID=America/Chicago:20240705T103000
DTSTAMP:20260425T104749
CREATED:20240207T174449Z
LAST-MODIFIED:20260317T185548Z
UID:10001394-1720171800-1720175400@fayaltwp.org
SUMMARY:Aerobics
DESCRIPTION:
URL:https://fayaltwp.org/event/aerobics/2024-07-05/
END:VEVENT
BEGIN:VEVENT
DTSTART;TZID=America/Chicago:20240708T093000
DTEND;TZID=America/Chicago:20240708T103000
DTSTAMP:20260425T104749
CREATED:20240207T174449Z
LAST-MODIFIED:20260317T185548Z
UID:10001395-1720431000-1720434600@fayaltwp.org
SUMMARY:Aerobics
DESCRIPTION:
URL:https://fayaltwp.org/event/aerobics/2024-07-08/
END:VEVENT
BEGIN:VEVENT
DTSTART;TZID=America/Chicago:20240708T120000
DTEND;TZID=America/Chicago:20240708T140000
DTSTAMP:20260425T104749
CREATED:20240207T175425Z
LAST-MODIFIED:20240718T172046Z
UID:10002122-1720440000-1720447200@fayaltwp.org
SUMMARY:Sororiety Meeting
DESCRIPTION:
URL:https://fayaltwp.org/event/sororiety-meeting/2024-07-08/
END:VEVENT
BEGIN:VEVENT
DTSTART;TZID=America/Chicago:20240708T161500
DTEND;TZID=America/Chicago:20240708T183000
DTSTAMP:20260425T104749
CREATED:20190917T014302Z
LAST-MODIFIED:20220309T145134Z
UID:10001106-1720455300-1720463400@fayaltwp.org
SUMMARY:T.O.P.S Meeting
DESCRIPTION:Meeting length times may vary
URL:https://fayaltwp.org/event/t-o-p-s-meeting/2024-07-08/
END:VEVENT
END:VCALENDAR