BEGIN:VCALENDAR
VERSION:2.0
PRODID:-//Fayal Twp - ECPv6.15.17.1//NONSGML v1.0//EN
CALSCALE:GREGORIAN
METHOD:PUBLISH
X-WR-CALNAME:Fayal Twp
X-ORIGINAL-URL:https://fayaltwp.org
X-WR-CALDESC:Events for Fayal Twp
REFRESH-INTERVAL;VALUE=DURATION:PT1H
X-Robots-Tag:noindex
X-PUBLISHED-TTL:PT1H
BEGIN:VTIMEZONE
TZID:America/Chicago
BEGIN:DAYLIGHT
TZOFFSETFROM:-0600
TZOFFSETTO:-0500
TZNAME:CDT
DTSTART:20180311T080000
END:DAYLIGHT
BEGIN:STANDARD
TZOFFSETFROM:-0500
TZOFFSETTO:-0600
TZNAME:CST
DTSTART:20181104T070000
END:STANDARD
BEGIN:DAYLIGHT
TZOFFSETFROM:-0600
TZOFFSETTO:-0500
TZNAME:CDT
DTSTART:20190310T080000
END:DAYLIGHT
BEGIN:STANDARD
TZOFFSETFROM:-0500
TZOFFSETTO:-0600
TZNAME:CST
DTSTART:20191103T070000
END:STANDARD
BEGIN:DAYLIGHT
TZOFFSETFROM:-0600
TZOFFSETTO:-0500
TZNAME:CDT
DTSTART:20200308T080000
END:DAYLIGHT
BEGIN:STANDARD
TZOFFSETFROM:-0500
TZOFFSETTO:-0600
TZNAME:CST
DTSTART:20201101T070000
END:STANDARD
BEGIN:DAYLIGHT
TZOFFSETFROM:-0600
TZOFFSETTO:-0500
TZNAME:CDT
DTSTART:20210314T080000
END:DAYLIGHT
BEGIN:STANDARD
TZOFFSETFROM:-0500
TZOFFSETTO:-0600
TZNAME:CST
DTSTART:20211107T070000
END:STANDARD
END:VTIMEZONE
BEGIN:VTIMEZONE
TZID:UTC
BEGIN:STANDARD
TZOFFSETFROM:+0000
TZOFFSETTO:+0000
TZNAME:UTC
DTSTART:20180101T000000
END:STANDARD
END:VTIMEZONE
BEGIN:VEVENT
DTSTART;TZID=America/Chicago:20191001T190000
DTEND;TZID=America/Chicago:20191001T203000
DTSTAMP:20260424T094321
CREATED:20190917T015259Z
LAST-MODIFIED:20220309T144930Z
UID:10001141-1569956400-1569961800@fayaltwp.org
SUMMARY:Town Board Meeting
DESCRIPTION:Meeting lengths may vary
URL:https://fayaltwp.org/event/town-board-meeting/2019-10-01/
END:VEVENT
BEGIN:VEVENT
DTSTART;TZID=America/Chicago:20191016T173000
DTEND;TZID=America/Chicago:20191016T173000
DTSTAMP:20260424T094321
CREATED:20190917T020012Z
LAST-MODIFIED:20260317T185333Z
UID:10000557-1571247000-1571247000@fayaltwp.org
SUMMARY:Planning Commission Meeting
DESCRIPTION:Meeting lengths may vary
URL:https://fayaltwp.org/event/fayal-planning-commission/2019-10-16/
END:VEVENT
BEGIN:VEVENT
DTSTART;TZID=America/Chicago:20191016T180000
DTEND;TZID=America/Chicago:20191016T190000
DTSTAMP:20260424T094321
CREATED:20190917T021048Z
LAST-MODIFIED:20240213T193813Z
UID:10002230-1571248800-1571252400@fayaltwp.org
SUMMARY:Public Utility Meetings
DESCRIPTION:Meeting lengths may vary
URL:https://fayaltwp.org/event/public-utility-meetings-2/2019-10-16/
END:VEVENT
BEGIN:VEVENT
DTSTART;TZID=UTC:20191016T180000
DTEND;TZID=UTC:20191016T190000
DTSTAMP:20260424T094321
CREATED:20190917T015406Z
LAST-MODIFIED:20240207T175555Z
UID:10002179-1571248800-1571252400@fayaltwp.org
SUMMARY:Public Utility Meetings
DESCRIPTION:Meeting lengths may vary
URL:https://fayaltwp.org/event/public-utility-meetings/2019-10-16/
END:VEVENT
BEGIN:VEVENT
DTSTART;TZID=America/Chicago:20191017T183000
DTEND;TZID=America/Chicago:20191017T200000
DTSTAMP:20260424T094321
CREATED:20190917T020221Z
LAST-MODIFIED:20250110T151531Z
UID:10003016-1571337000-1571342400@fayaltwp.org
SUMMARY:Eveleth-Fayal Garden Club
DESCRIPTION:Meeting lengths may vary
URL:https://fayaltwp.org/event/eveleth-fayal-garden-club/2019-10-17/
END:VEVENT
BEGIN:VEVENT
DTSTART;TZID=America/Chicago:20191116T173000
DTEND;TZID=America/Chicago:20191116T173000
DTSTAMP:20260424T094321
CREATED:20190917T020012Z
LAST-MODIFIED:20260317T185333Z
UID:10004059-1573925400-1573925400@fayaltwp.org
SUMMARY:Planning Commission Meeting
DESCRIPTION:Meeting lengths may vary
URL:https://fayaltwp.org/event/fayal-planning-commission/2019-11-16/
END:VEVENT
BEGIN:VEVENT
DTSTART;TZID=America/Chicago:20191116T180000
DTEND;TZID=America/Chicago:20191116T190000
DTSTAMP:20260424T094321
CREATED:20190917T021048Z
LAST-MODIFIED:20240213T193813Z
UID:10002231-1573927200-1573930800@fayaltwp.org
SUMMARY:Public Utility Meetings
DESCRIPTION:Meeting lengths may vary
URL:https://fayaltwp.org/event/public-utility-meetings-2/2019-11-16/
END:VEVENT
BEGIN:VEVENT
DTSTART;TZID=UTC:20191116T180000
DTEND;TZID=UTC:20191116T190000
DTSTAMP:20260424T094321
CREATED:20190917T015406Z
LAST-MODIFIED:20240207T175555Z
UID:10002180-1573927200-1573930800@fayaltwp.org
SUMMARY:Public Utility Meetings
DESCRIPTION:Meeting lengths may vary
URL:https://fayaltwp.org/event/public-utility-meetings/2019-11-16/
END:VEVENT
BEGIN:VEVENT
DTSTART;TZID=America/Chicago:20191121T183000
DTEND;TZID=America/Chicago:20191121T200000
DTSTAMP:20260424T094321
CREATED:20190917T020221Z
LAST-MODIFIED:20250110T151531Z
UID:10003017-1574361000-1574366400@fayaltwp.org
SUMMARY:Eveleth-Fayal Garden Club
DESCRIPTION:Meeting lengths may vary
URL:https://fayaltwp.org/event/eveleth-fayal-garden-club/2019-11-21/
END:VEVENT
BEGIN:VEVENT
DTSTART;TZID=America/Chicago:20191203T190000
DTEND;TZID=America/Chicago:20191203T203000
DTSTAMP:20260424T094321
CREATED:20190917T015259Z
LAST-MODIFIED:20220309T144930Z
UID:10001142-1575399600-1575405000@fayaltwp.org
SUMMARY:Town Board Meeting
DESCRIPTION:Meeting lengths may vary
URL:https://fayaltwp.org/event/town-board-meeting/2019-12-03/
END:VEVENT
BEGIN:VEVENT
DTSTART;TZID=America/Chicago:20191216T173000
DTEND;TZID=America/Chicago:20191216T173000
DTSTAMP:20260424T094321
CREATED:20190917T020012Z
LAST-MODIFIED:20260317T185333Z
UID:10004060-1576517400-1576517400@fayaltwp.org
SUMMARY:Planning Commission Meeting
DESCRIPTION:Meeting lengths may vary
URL:https://fayaltwp.org/event/fayal-planning-commission/2019-12-16/
END:VEVENT
BEGIN:VEVENT
DTSTART;TZID=America/Chicago:20191216T180000
DTEND;TZID=America/Chicago:20191216T190000
DTSTAMP:20260424T094321
CREATED:20190917T021048Z
LAST-MODIFIED:20240213T193813Z
UID:10002232-1576519200-1576522800@fayaltwp.org
SUMMARY:Public Utility Meetings
DESCRIPTION:Meeting lengths may vary
URL:https://fayaltwp.org/event/public-utility-meetings-2/2019-12-16/
END:VEVENT
BEGIN:VEVENT
DTSTART;TZID=UTC:20191216T180000
DTEND;TZID=UTC:20191216T190000
DTSTAMP:20260424T094321
CREATED:20190917T015406Z
LAST-MODIFIED:20240207T175555Z
UID:10002181-1576519200-1576522800@fayaltwp.org
SUMMARY:Public Utility Meetings
DESCRIPTION:Meeting lengths may vary
URL:https://fayaltwp.org/event/public-utility-meetings/2019-12-16/
END:VEVENT
BEGIN:VEVENT
DTSTART;TZID=America/Chicago:20191219T183000
DTEND;TZID=America/Chicago:20191219T200000
DTSTAMP:20260424T094321
CREATED:20190917T020221Z
LAST-MODIFIED:20250110T151531Z
UID:10003018-1576780200-1576785600@fayaltwp.org
SUMMARY:Eveleth-Fayal Garden Club
DESCRIPTION:Meeting lengths may vary
URL:https://fayaltwp.org/event/eveleth-fayal-garden-club/2019-12-19/
END:VEVENT
BEGIN:VEVENT
DTSTART;TZID=America/Chicago:20200107T190000
DTEND;TZID=America/Chicago:20200107T203000
DTSTAMP:20260424T094321
CREATED:20190917T015259Z
LAST-MODIFIED:20220309T144930Z
UID:10001143-1578423600-1578429000@fayaltwp.org
SUMMARY:Town Board Meeting
DESCRIPTION:Meeting lengths may vary
URL:https://fayaltwp.org/event/town-board-meeting/2020-01-07/
END:VEVENT
BEGIN:VEVENT
DTSTART;TZID=America/Chicago:20200116T173000
DTEND;TZID=America/Chicago:20200116T173000
DTSTAMP:20260424T094321
CREATED:20190917T020012Z
LAST-MODIFIED:20260317T185333Z
UID:10004061-1579195800-1579195800@fayaltwp.org
SUMMARY:Planning Commission Meeting
DESCRIPTION:Meeting lengths may vary
URL:https://fayaltwp.org/event/fayal-planning-commission/2020-01-16/
END:VEVENT
BEGIN:VEVENT
DTSTART;TZID=America/Chicago:20200116T180000
DTEND;TZID=America/Chicago:20200116T190000
DTSTAMP:20260424T094321
CREATED:20190917T021048Z
LAST-MODIFIED:20240213T193813Z
UID:10002233-1579197600-1579201200@fayaltwp.org
SUMMARY:Public Utility Meetings
DESCRIPTION:Meeting lengths may vary
URL:https://fayaltwp.org/event/public-utility-meetings-2/2020-01-16/
END:VEVENT
BEGIN:VEVENT
DTSTART;TZID=UTC:20200116T180000
DTEND;TZID=UTC:20200116T190000
DTSTAMP:20260424T094321
CREATED:20190917T015406Z
LAST-MODIFIED:20240207T175555Z
UID:10002182-1579197600-1579201200@fayaltwp.org
SUMMARY:Public Utility Meetings
DESCRIPTION:Meeting lengths may vary
URL:https://fayaltwp.org/event/public-utility-meetings/2020-01-16/
END:VEVENT
BEGIN:VEVENT
DTSTART;TZID=America/Chicago:20200116T183000
DTEND;TZID=America/Chicago:20200116T200000
DTSTAMP:20260424T094321
CREATED:20190917T020221Z
LAST-MODIFIED:20250110T151531Z
UID:10002895-1579199400-1579204800@fayaltwp.org
SUMMARY:Eveleth-Fayal Garden Club
DESCRIPTION:Meeting lengths may vary
URL:https://fayaltwp.org/event/eveleth-fayal-garden-club/2020-01-16/
END:VEVENT
BEGIN:VEVENT
DTSTART;TZID=America/Chicago:20200203T161500
DTEND;TZID=America/Chicago:20200203T183000
DTSTAMP:20260424T094321
CREATED:20190917T014302Z
LAST-MODIFIED:20220309T145134Z
UID:10000875-1580746500-1580754600@fayaltwp.org
SUMMARY:T.O.P.S Meeting
DESCRIPTION:Meeting length times may vary
URL:https://fayaltwp.org/event/t-o-p-s-meeting/2020-02-03/
END:VEVENT
BEGIN:VEVENT
DTSTART;TZID=America/Chicago:20200204T190000
DTEND;TZID=America/Chicago:20200204T203000
DTSTAMP:20260424T094321
CREATED:20190917T015259Z
LAST-MODIFIED:20220309T144930Z
UID:10001144-1580842800-1580848200@fayaltwp.org
SUMMARY:Town Board Meeting
DESCRIPTION:Meeting lengths may vary
URL:https://fayaltwp.org/event/town-board-meeting/2020-02-04/
END:VEVENT
BEGIN:VEVENT
DTSTART;TZID=America/Chicago:20200210T161500
DTEND;TZID=America/Chicago:20200210T183000
DTSTAMP:20260424T094321
CREATED:20190917T014302Z
LAST-MODIFIED:20220309T145134Z
UID:10000876-1581351300-1581359400@fayaltwp.org
SUMMARY:T.O.P.S Meeting
DESCRIPTION:Meeting length times may vary
URL:https://fayaltwp.org/event/t-o-p-s-meeting/2020-02-10/
END:VEVENT
BEGIN:VEVENT
DTSTART;TZID=America/Chicago:20200216T173000
DTEND;TZID=America/Chicago:20200216T173000
DTSTAMP:20260424T094321
CREATED:20190917T020012Z
LAST-MODIFIED:20260317T185333Z
UID:10004062-1581874200-1581874200@fayaltwp.org
SUMMARY:Planning Commission Meeting
DESCRIPTION:Meeting lengths may vary
URL:https://fayaltwp.org/event/fayal-planning-commission/2020-02-16/
END:VEVENT
BEGIN:VEVENT
DTSTART;TZID=America/Chicago:20200216T180000
DTEND;TZID=America/Chicago:20200216T190000
DTSTAMP:20260424T094321
CREATED:20190917T021048Z
LAST-MODIFIED:20240213T193813Z
UID:10002234-1581876000-1581879600@fayaltwp.org
SUMMARY:Public Utility Meetings
DESCRIPTION:Meeting lengths may vary
URL:https://fayaltwp.org/event/public-utility-meetings-2/2020-02-16/
END:VEVENT
BEGIN:VEVENT
DTSTART;TZID=UTC:20200216T180000
DTEND;TZID=UTC:20200216T190000
DTSTAMP:20260424T094321
CREATED:20190917T015406Z
LAST-MODIFIED:20240207T175555Z
UID:10002183-1581876000-1581879600@fayaltwp.org
SUMMARY:Public Utility Meetings
DESCRIPTION:Meeting lengths may vary
URL:https://fayaltwp.org/event/public-utility-meetings/2020-02-16/
END:VEVENT
BEGIN:VEVENT
DTSTART;TZID=America/Chicago:20200217T161500
DTEND;TZID=America/Chicago:20200217T183000
DTSTAMP:20260424T094321
CREATED:20190917T014302Z
LAST-MODIFIED:20220309T145134Z
UID:10000877-1581956100-1581964200@fayaltwp.org
SUMMARY:T.O.P.S Meeting
DESCRIPTION:Meeting length times may vary
URL:https://fayaltwp.org/event/t-o-p-s-meeting/2020-02-17/
END:VEVENT
BEGIN:VEVENT
DTSTART;TZID=America/Chicago:20200220T183000
DTEND;TZID=America/Chicago:20200220T200000
DTSTAMP:20260424T094321
CREATED:20190917T020221Z
LAST-MODIFIED:20250110T151531Z
UID:10003019-1582223400-1582228800@fayaltwp.org
SUMMARY:Eveleth-Fayal Garden Club
DESCRIPTION:Meeting lengths may vary
URL:https://fayaltwp.org/event/eveleth-fayal-garden-club/2020-02-20/
END:VEVENT
BEGIN:VEVENT
DTSTART;TZID=America/Chicago:20200223T090000
DTEND;TZID=America/Chicago:20200223T103000
DTSTAMP:20260424T094321
CREATED:20200219T182046Z
LAST-MODIFIED:20200219T182046Z
UID:10000214-1582448400-1582453800@fayaltwp.org
SUMMARY:Test Event
DESCRIPTION:This is just a test event
URL:https://fayaltwp.org/event/test-event/
END:VEVENT
BEGIN:VEVENT
DTSTART;TZID=America/Chicago:20200224T161500
DTEND;TZID=America/Chicago:20200224T183000
DTSTAMP:20260424T094321
CREATED:20190917T014302Z
LAST-MODIFIED:20220309T145134Z
UID:10000878-1582560900-1582569000@fayaltwp.org
SUMMARY:T.O.P.S Meeting
DESCRIPTION:Meeting length times may vary
URL:https://fayaltwp.org/event/t-o-p-s-meeting/2020-02-24/
END:VEVENT
BEGIN:VEVENT
DTSTART;TZID=America/Chicago:20200302T161500
DTEND;TZID=America/Chicago:20200302T183000
DTSTAMP:20260424T094321
CREATED:20190917T014302Z
LAST-MODIFIED:20220309T145134Z
UID:10000879-1583165700-1583173800@fayaltwp.org
SUMMARY:T.O.P.S Meeting
DESCRIPTION:Meeting length times may vary
URL:https://fayaltwp.org/event/t-o-p-s-meeting/2020-03-02/
END:VEVENT
END:VCALENDAR