BEGIN:VCALENDAR
VERSION:2.0
PRODID:-//Fayal Twp - ECPv6.15.17.1//NONSGML v1.0//EN
CALSCALE:GREGORIAN
METHOD:PUBLISH
X-WR-CALNAME:Fayal Twp
X-ORIGINAL-URL:https://fayaltwp.org
X-WR-CALDESC:Events for Fayal Twp
REFRESH-INTERVAL;VALUE=DURATION:PT1H
X-Robots-Tag:noindex
X-PUBLISHED-TTL:PT1H
BEGIN:VTIMEZONE
TZID:America/Chicago
BEGIN:DAYLIGHT
TZOFFSETFROM:-0600
TZOFFSETTO:-0500
TZNAME:CDT
DTSTART:20200308T080000
END:DAYLIGHT
BEGIN:STANDARD
TZOFFSETFROM:-0500
TZOFFSETTO:-0600
TZNAME:CST
DTSTART:20201101T070000
END:STANDARD
BEGIN:DAYLIGHT
TZOFFSETFROM:-0600
TZOFFSETTO:-0500
TZNAME:CDT
DTSTART:20210314T080000
END:DAYLIGHT
BEGIN:STANDARD
TZOFFSETFROM:-0500
TZOFFSETTO:-0600
TZNAME:CST
DTSTART:20211107T070000
END:STANDARD
BEGIN:DAYLIGHT
TZOFFSETFROM:-0600
TZOFFSETTO:-0500
TZNAME:CDT
DTSTART:20220313T080000
END:DAYLIGHT
BEGIN:STANDARD
TZOFFSETFROM:-0500
TZOFFSETTO:-0600
TZNAME:CST
DTSTART:20221106T070000
END:STANDARD
END:VTIMEZONE
BEGIN:VTIMEZONE
TZID:UTC
BEGIN:STANDARD
TZOFFSETFROM:+0000
TZOFFSETTO:+0000
TZNAME:UTC
DTSTART:20200101T000000
END:STANDARD
END:VTIMEZONE
BEGIN:VEVENT
DTSTART;TZID=America/Chicago:20210322T161500
DTEND;TZID=America/Chicago:20210322T183000
DTSTAMP:20260425T070953
CREATED:20190917T014302Z
LAST-MODIFIED:20220309T145134Z
UID:10000934-1616429700-1616437800@fayaltwp.org
SUMMARY:T.O.P.S Meeting
DESCRIPTION:Meeting length times may vary
URL:https://fayaltwp.org/event/t-o-p-s-meeting/2021-03-22/
END:VEVENT
BEGIN:VEVENT
DTSTART;TZID=America/Chicago:20210329T161500
DTEND;TZID=America/Chicago:20210329T183000
DTSTAMP:20260425T070953
CREATED:20190917T014302Z
LAST-MODIFIED:20220309T145134Z
UID:10000935-1617034500-1617042600@fayaltwp.org
SUMMARY:T.O.P.S Meeting
DESCRIPTION:Meeting length times may vary
URL:https://fayaltwp.org/event/t-o-p-s-meeting/2021-03-29/
END:VEVENT
BEGIN:VEVENT
DTSTART;TZID=America/Chicago:20210405T161500
DTEND;TZID=America/Chicago:20210405T183000
DTSTAMP:20260425T070953
CREATED:20190917T014302Z
LAST-MODIFIED:20220309T145134Z
UID:10000936-1617639300-1617647400@fayaltwp.org
SUMMARY:T.O.P.S Meeting
DESCRIPTION:Meeting length times may vary
URL:https://fayaltwp.org/event/t-o-p-s-meeting/2021-04-05/
END:VEVENT
BEGIN:VEVENT
DTSTART;TZID=America/Chicago:20210406T190000
DTEND;TZID=America/Chicago:20210406T203000
DTSTAMP:20260425T070953
CREATED:20190917T015259Z
LAST-MODIFIED:20220309T144930Z
UID:10001156-1617735600-1617741000@fayaltwp.org
SUMMARY:Town Board Meeting
DESCRIPTION:Meeting lengths may vary
URL:https://fayaltwp.org/event/town-board-meeting/2021-04-06/
END:VEVENT
BEGIN:VEVENT
DTSTART;TZID=America/Chicago:20210412T161500
DTEND;TZID=America/Chicago:20210412T183000
DTSTAMP:20260425T070953
CREATED:20190917T014302Z
LAST-MODIFIED:20220309T145134Z
UID:10000937-1618244100-1618252200@fayaltwp.org
SUMMARY:T.O.P.S Meeting
DESCRIPTION:Meeting length times may vary
URL:https://fayaltwp.org/event/t-o-p-s-meeting/2021-04-12/
END:VEVENT
BEGIN:VEVENT
DTSTART;TZID=America/Chicago:20210415T183000
DTEND;TZID=America/Chicago:20210415T200000
DTSTAMP:20260425T070953
CREATED:20190917T020221Z
LAST-MODIFIED:20250110T151531Z
UID:10003031-1618511400-1618516800@fayaltwp.org
SUMMARY:Eveleth-Fayal Garden Club
DESCRIPTION:Meeting lengths may vary
URL:https://fayaltwp.org/event/eveleth-fayal-garden-club/2021-04-15/
END:VEVENT
BEGIN:VEVENT
DTSTART;TZID=America/Chicago:20210416T173000
DTEND;TZID=America/Chicago:20210416T173000
DTSTAMP:20260425T070953
CREATED:20190917T020012Z
LAST-MODIFIED:20260317T185333Z
UID:10004074-1618594200-1618594200@fayaltwp.org
SUMMARY:Planning Commission Meeting
DESCRIPTION:Meeting lengths may vary
URL:https://fayaltwp.org/event/fayal-planning-commission/2021-04-16/
END:VEVENT
BEGIN:VEVENT
DTSTART;TZID=America/Chicago:20210416T180000
DTEND;TZID=America/Chicago:20210416T190000
DTSTAMP:20260425T070953
CREATED:20190917T021048Z
LAST-MODIFIED:20240213T193813Z
UID:10002248-1618596000-1618599600@fayaltwp.org
SUMMARY:Public Utility Meetings
DESCRIPTION:Meeting lengths may vary
URL:https://fayaltwp.org/event/public-utility-meetings-2/2021-04-16/
END:VEVENT
BEGIN:VEVENT
DTSTART;TZID=UTC:20210416T180000
DTEND;TZID=UTC:20210416T190000
DTSTAMP:20260425T070953
CREATED:20190917T015406Z
LAST-MODIFIED:20240207T175555Z
UID:10002197-1618596000-1618599600@fayaltwp.org
SUMMARY:Public Utility Meetings
DESCRIPTION:Meeting lengths may vary
URL:https://fayaltwp.org/event/public-utility-meetings/2021-04-16/
END:VEVENT
BEGIN:VEVENT
DTSTART;TZID=America/Chicago:20210419T161500
DTEND;TZID=America/Chicago:20210419T183000
DTSTAMP:20260425T070953
CREATED:20190917T014302Z
LAST-MODIFIED:20220309T145134Z
UID:10000938-1618848900-1618857000@fayaltwp.org
SUMMARY:T.O.P.S Meeting
DESCRIPTION:Meeting length times may vary
URL:https://fayaltwp.org/event/t-o-p-s-meeting/2021-04-19/
END:VEVENT
BEGIN:VEVENT
DTSTART;TZID=America/Chicago:20210426T161500
DTEND;TZID=America/Chicago:20210426T183000
DTSTAMP:20260425T070953
CREATED:20190917T014302Z
LAST-MODIFIED:20220309T145134Z
UID:10000939-1619453700-1619461800@fayaltwp.org
SUMMARY:T.O.P.S Meeting
DESCRIPTION:Meeting length times may vary
URL:https://fayaltwp.org/event/t-o-p-s-meeting/2021-04-26/
END:VEVENT
BEGIN:VEVENT
DTSTART;TZID=America/Chicago:20210503T161500
DTEND;TZID=America/Chicago:20210503T183000
DTSTAMP:20260425T070953
CREATED:20190917T014302Z
LAST-MODIFIED:20220309T145134Z
UID:10000940-1620058500-1620066600@fayaltwp.org
SUMMARY:T.O.P.S Meeting
DESCRIPTION:Meeting length times may vary
URL:https://fayaltwp.org/event/t-o-p-s-meeting/2021-05-03/
END:VEVENT
BEGIN:VEVENT
DTSTART;TZID=America/Chicago:20210504T190000
DTEND;TZID=America/Chicago:20210504T203000
DTSTAMP:20260425T070953
CREATED:20190917T015259Z
LAST-MODIFIED:20220309T144930Z
UID:10001157-1620154800-1620160200@fayaltwp.org
SUMMARY:Town Board Meeting
DESCRIPTION:Meeting lengths may vary
URL:https://fayaltwp.org/event/town-board-meeting/2021-05-04/
END:VEVENT
BEGIN:VEVENT
DTSTART;TZID=America/Chicago:20210507T080000
DTEND;TZID=America/Chicago:20210507T170000
DTSTAMP:20260425T070953
CREATED:20210506T141908Z
LAST-MODIFIED:20210506T141908Z
UID:10000217-1620374400-1620406800@fayaltwp.org
SUMMARY:Rummage Sale
DESCRIPTION:
URL:https://fayaltwp.org/event/rummage-sale/
END:VEVENT
BEGIN:VEVENT
DTSTART;TZID=America/Chicago:20210508T080000
DTEND;TZID=America/Chicago:20210508T150000
DTSTAMP:20260425T070953
CREATED:20210506T141936Z
LAST-MODIFIED:20210506T141936Z
UID:10000210-1620460800-1620486000@fayaltwp.org
SUMMARY:Rummage Sale
DESCRIPTION:
URL:https://fayaltwp.org/event/rummage-sale-2/
END:VEVENT
BEGIN:VEVENT
DTSTART;TZID=America/Chicago:20210510T161500
DTEND;TZID=America/Chicago:20210510T183000
DTSTAMP:20260425T070953
CREATED:20190917T014302Z
LAST-MODIFIED:20220309T145134Z
UID:10000941-1620663300-1620671400@fayaltwp.org
SUMMARY:T.O.P.S Meeting
DESCRIPTION:Meeting length times may vary
URL:https://fayaltwp.org/event/t-o-p-s-meeting/2021-05-10/
END:VEVENT
BEGIN:VEVENT
DTSTART;TZID=America/Chicago:20210516T173000
DTEND;TZID=America/Chicago:20210516T173000
DTSTAMP:20260425T070953
CREATED:20190917T020012Z
LAST-MODIFIED:20260317T185333Z
UID:10004075-1621186200-1621186200@fayaltwp.org
SUMMARY:Planning Commission Meeting
DESCRIPTION:Meeting lengths may vary
URL:https://fayaltwp.org/event/fayal-planning-commission/2021-05-16/
END:VEVENT
BEGIN:VEVENT
DTSTART;TZID=America/Chicago:20210516T180000
DTEND;TZID=America/Chicago:20210516T190000
DTSTAMP:20260425T070953
CREATED:20190917T021048Z
LAST-MODIFIED:20240213T193813Z
UID:10002249-1621188000-1621191600@fayaltwp.org
SUMMARY:Public Utility Meetings
DESCRIPTION:Meeting lengths may vary
URL:https://fayaltwp.org/event/public-utility-meetings-2/2021-05-16/
END:VEVENT
BEGIN:VEVENT
DTSTART;TZID=UTC:20210516T180000
DTEND;TZID=UTC:20210516T190000
DTSTAMP:20260425T070953
CREATED:20190917T015406Z
LAST-MODIFIED:20240207T175555Z
UID:10002198-1621188000-1621191600@fayaltwp.org
SUMMARY:Public Utility Meetings
DESCRIPTION:Meeting lengths may vary
URL:https://fayaltwp.org/event/public-utility-meetings/2021-05-16/
END:VEVENT
BEGIN:VEVENT
DTSTART;TZID=America/Chicago:20210517T161500
DTEND;TZID=America/Chicago:20210517T183000
DTSTAMP:20260425T070953
CREATED:20190917T014302Z
LAST-MODIFIED:20220309T145134Z
UID:10000942-1621268100-1621276200@fayaltwp.org
SUMMARY:T.O.P.S Meeting
DESCRIPTION:Meeting length times may vary
URL:https://fayaltwp.org/event/t-o-p-s-meeting/2021-05-17/
END:VEVENT
BEGIN:VEVENT
DTSTART;TZID=America/Chicago:20210520T183000
DTEND;TZID=America/Chicago:20210520T200000
DTSTAMP:20260425T070953
CREATED:20190917T020221Z
LAST-MODIFIED:20250110T151531Z
UID:10003032-1621535400-1621540800@fayaltwp.org
SUMMARY:Eveleth-Fayal Garden Club
DESCRIPTION:Meeting lengths may vary
URL:https://fayaltwp.org/event/eveleth-fayal-garden-club/2021-05-20/
END:VEVENT
BEGIN:VEVENT
DTSTART;TZID=America/Chicago:20210523T080000
DTEND;TZID=America/Chicago:20210523T170000
DTSTAMP:20260425T070953
CREATED:20210506T141652Z
LAST-MODIFIED:20210506T141652Z
UID:10000216-1621756800-1621789200@fayaltwp.org
SUMMARY:Hall Rented
DESCRIPTION:
URL:https://fayaltwp.org/event/hall-rented/
END:VEVENT
BEGIN:VEVENT
DTSTART;TZID=America/Chicago:20210524T161500
DTEND;TZID=America/Chicago:20210524T183000
DTSTAMP:20260425T070953
CREATED:20190917T014302Z
LAST-MODIFIED:20220309T145134Z
UID:10000943-1621872900-1621881000@fayaltwp.org
SUMMARY:T.O.P.S Meeting
DESCRIPTION:Meeting length times may vary
URL:https://fayaltwp.org/event/t-o-p-s-meeting/2021-05-24/
END:VEVENT
BEGIN:VEVENT
DTSTART;TZID=America/Chicago:20210531T161500
DTEND;TZID=America/Chicago:20210531T183000
DTSTAMP:20260425T070953
CREATED:20190917T014302Z
LAST-MODIFIED:20220309T145134Z
UID:10000944-1622477700-1622485800@fayaltwp.org
SUMMARY:T.O.P.S Meeting
DESCRIPTION:Meeting length times may vary
URL:https://fayaltwp.org/event/t-o-p-s-meeting/2021-05-31/
END:VEVENT
BEGIN:VEVENT
DTSTART;TZID=America/Chicago:20210601T190000
DTEND;TZID=America/Chicago:20210601T203000
DTSTAMP:20260425T070953
CREATED:20190917T015259Z
LAST-MODIFIED:20220309T144930Z
UID:10001158-1622574000-1622579400@fayaltwp.org
SUMMARY:Town Board Meeting
DESCRIPTION:Meeting lengths may vary
URL:https://fayaltwp.org/event/town-board-meeting/2021-06-01/
END:VEVENT
BEGIN:VEVENT
DTSTART;VALUE=DATE:20210605
DTEND;VALUE=DATE:20210607
DTSTAMP:20260425T070953
CREATED:20210506T142029Z
LAST-MODIFIED:20210506T142029Z
UID:10000211-1622869200-1622955599@fayaltwp.org
SUMMARY:Hall Rented
DESCRIPTION:
URL:https://fayaltwp.org/event/hall-rented-2/
END:VEVENT
BEGIN:VEVENT
DTSTART;TZID=America/Chicago:20210607T161500
DTEND;TZID=America/Chicago:20210607T183000
DTSTAMP:20260425T070953
CREATED:20190917T014302Z
LAST-MODIFIED:20220309T145134Z
UID:10000945-1623082500-1623090600@fayaltwp.org
SUMMARY:T.O.P.S Meeting
DESCRIPTION:Meeting length times may vary
URL:https://fayaltwp.org/event/t-o-p-s-meeting/2021-06-07/
END:VEVENT
BEGIN:VEVENT
DTSTART;TZID=America/Chicago:20210610T163000
DTEND;TZID=America/Chicago:20210610T200000
DTSTAMP:20260425T070953
CREATED:20210506T142847Z
LAST-MODIFIED:20210506T142847Z
UID:10000205-1623342600-1623355200@fayaltwp.org
SUMMARY:Hall Rented
DESCRIPTION:
URL:https://fayaltwp.org/event/hall-rented-5/
END:VEVENT
BEGIN:VEVENT
DTSTART;VALUE=DATE:20210612
DTEND;VALUE=DATE:20210614
DTSTAMP:20260425T070953
CREATED:20210506T142055Z
LAST-MODIFIED:20210506T142055Z
UID:10000212-1623474000-1623560399@fayaltwp.org
SUMMARY:Hall Rented
DESCRIPTION:
URL:https://fayaltwp.org/event/hall-rented-3/
END:VEVENT
BEGIN:VEVENT
DTSTART;TZID=America/Chicago:20210614T161500
DTEND;TZID=America/Chicago:20210614T183000
DTSTAMP:20260425T070953
CREATED:20190917T014302Z
LAST-MODIFIED:20220309T145134Z
UID:10000946-1623687300-1623695400@fayaltwp.org
SUMMARY:T.O.P.S Meeting
DESCRIPTION:Meeting length times may vary
URL:https://fayaltwp.org/event/t-o-p-s-meeting/2021-06-14/
END:VEVENT
END:VCALENDAR