BEGIN:VCALENDAR
VERSION:2.0
PRODID:-//Fayal Twp - ECPv6.15.17.1//NONSGML v1.0//EN
CALSCALE:GREGORIAN
METHOD:PUBLISH
X-ORIGINAL-URL:https://fayaltwp.org
X-WR-CALDESC:Events for Fayal Twp
REFRESH-INTERVAL;VALUE=DURATION:PT1H
X-Robots-Tag:noindex
X-PUBLISHED-TTL:PT1H
BEGIN:VTIMEZONE
TZID:America/Chicago
BEGIN:DAYLIGHT
TZOFFSETFROM:-0600
TZOFFSETTO:-0500
TZNAME:CDT
DTSTART:20250309T080000
END:DAYLIGHT
BEGIN:STANDARD
TZOFFSETFROM:-0500
TZOFFSETTO:-0600
TZNAME:CST
DTSTART:20251102T070000
END:STANDARD
BEGIN:DAYLIGHT
TZOFFSETFROM:-0600
TZOFFSETTO:-0500
TZNAME:CDT
DTSTART:20260308T080000
END:DAYLIGHT
BEGIN:STANDARD
TZOFFSETFROM:-0500
TZOFFSETTO:-0600
TZNAME:CST
DTSTART:20261101T070000
END:STANDARD
BEGIN:DAYLIGHT
TZOFFSETFROM:-0600
TZOFFSETTO:-0500
TZNAME:CDT
DTSTART:20270314T080000
END:DAYLIGHT
BEGIN:STANDARD
TZOFFSETFROM:-0500
TZOFFSETTO:-0600
TZNAME:CST
DTSTART:20271107T070000
END:STANDARD
END:VTIMEZONE
BEGIN:VEVENT
DTSTART;VALUE=DATE:20260430
DTEND;VALUE=DATE:20260504
DTSTAMP:20260425T112251
CREATED:20260112T175829Z
LAST-MODIFIED:20260112T175829Z
UID:10004006-1777525200-1777784399@fayaltwp.org
SUMMARY:Rummage Sale
DESCRIPTION:
URL:https://fayaltwp.org/event/rummage-sale-13/
END:VEVENT
BEGIN:VEVENT
DTSTART;TZID=America/Chicago:20260501T093000
DTEND;TZID=America/Chicago:20260501T103000
DTSTAMP:20260425T112251
CREATED:20240207T174449Z
LAST-MODIFIED:20260317T185548Z
UID:10001679-1777627800-1777631400@fayaltwp.org
SUMMARY:Aerobics
DESCRIPTION:
URL:https://fayaltwp.org/event/aerobics/2026-05-01/
END:VEVENT
BEGIN:VEVENT
DTSTART;TZID=America/Chicago:20260504T093000
DTEND;TZID=America/Chicago:20260504T103000
DTSTAMP:20260425T112251
CREATED:20240207T174449Z
LAST-MODIFIED:20260317T185548Z
UID:10001680-1777887000-1777890600@fayaltwp.org
SUMMARY:Aerobics
DESCRIPTION:
URL:https://fayaltwp.org/event/aerobics/2026-05-04/
END:VEVENT
BEGIN:VEVENT
DTSTART;TZID=America/Chicago:20260504T160000
DTEND;TZID=America/Chicago:20260504T183000
DTSTAMP:20260425T112251
CREATED:20250905T131821Z
LAST-MODIFIED:20250905T131821Z
UID:10003753-1777910400-1777919400@fayaltwp.org
SUMMARY:T.O.P.S.
DESCRIPTION:
URL:https://fayaltwp.org/event/t-o-p-s/2026-05-04/
END:VEVENT
BEGIN:VEVENT
DTSTART;TZID=America/Chicago:20260505T190000
DTEND;TZID=America/Chicago:20260505T203000
DTSTAMP:20260425T112251
CREATED:20240213T194504Z
LAST-MODIFIED:20250318T164658Z
UID:10002415-1778007600-1778013000@fayaltwp.org
SUMMARY:Town Board Meeting
DESCRIPTION:Meeting lengths may vary
URL:https://fayaltwp.org/event/town-board-meeting-3/2026-05-05/
END:VEVENT
BEGIN:VEVENT
DTSTART;TZID=America/Chicago:20260506T093000
DTEND;TZID=America/Chicago:20260506T103000
DTSTAMP:20260425T112251
CREATED:20240207T174449Z
LAST-MODIFIED:20260317T185548Z
UID:10001681-1778059800-1778063400@fayaltwp.org
SUMMARY:Aerobics
DESCRIPTION:
URL:https://fayaltwp.org/event/aerobics/2026-05-06/
END:VEVENT
BEGIN:VEVENT
DTSTART;TZID=America/Chicago:20260506T130000
DTEND;TZID=America/Chicago:20260506T140000
DTSTAMP:20260425T112251
CREATED:20260212T172855Z
LAST-MODIFIED:20260212T172855Z
UID:10004047-1778072400-1778076000@fayaltwp.org
SUMMARY:Local Board of Appeal and Equalization
DESCRIPTION:
URL:https://fayaltwp.org/event/local-board-of-appeal-and-equalization-2/
END:VEVENT
BEGIN:VEVENT
DTSTART;TZID=America/Chicago:20260507T093000
DTEND;TZID=America/Chicago:20260507T223000
DTSTAMP:20260425T112251
CREATED:20260112T180331Z
LAST-MODIFIED:20260317T190351Z
UID:10003492-1778146200-1778193000@fayaltwp.org
SUMMARY:Yoga
DESCRIPTION:
URL:https://fayaltwp.org/event/yoga-2-2/2026-05-07/
END:VEVENT
BEGIN:VEVENT
DTSTART;TZID=America/Chicago:20260508T093000
DTEND;TZID=America/Chicago:20260508T103000
DTSTAMP:20260425T112251
CREATED:20240207T174449Z
LAST-MODIFIED:20260317T185548Z
UID:10001682-1778232600-1778236200@fayaltwp.org
SUMMARY:Aerobics
DESCRIPTION:
URL:https://fayaltwp.org/event/aerobics/2026-05-08/
END:VEVENT
BEGIN:VEVENT
DTSTART;VALUE=DATE:20260509
DTEND;VALUE=DATE:20260511
DTSTAMP:20260425T112251
CREATED:20260212T172632Z
LAST-MODIFIED:20260212T172632Z
UID:10004043-1778302800-1778389199@fayaltwp.org
SUMMARY:Town Hall Rented
DESCRIPTION:
URL:https://fayaltwp.org/event/town-hall-rented-178/
END:VEVENT
BEGIN:VEVENT
DTSTART;VALUE=DATE:20260510
DTEND;VALUE=DATE:20260512
DTSTAMP:20260425T112251
CREATED:20260401T163240Z
LAST-MODIFIED:20260401T163240Z
UID:10004374-1778389200-1778475599@fayaltwp.org
SUMMARY:Town Hall Rented
DESCRIPTION:
URL:https://fayaltwp.org/event/town-hall-rented-184/
END:VEVENT
BEGIN:VEVENT
DTSTART;TZID=America/Chicago:20260511T093000
DTEND;TZID=America/Chicago:20260511T103000
DTSTAMP:20260425T112251
CREATED:20240207T174449Z
LAST-MODIFIED:20260317T185548Z
UID:10001683-1778491800-1778495400@fayaltwp.org
SUMMARY:Aerobics
DESCRIPTION:
URL:https://fayaltwp.org/event/aerobics/2026-05-11/
END:VEVENT
BEGIN:VEVENT
DTSTART;TZID=America/Chicago:20260511T120000
DTEND;TZID=America/Chicago:20260511T140000
DTSTAMP:20260425T112251
CREATED:20240207T175425Z
LAST-MODIFIED:20240718T172046Z
UID:10002144-1778500800-1778508000@fayaltwp.org
SUMMARY:Sororiety Meeting
DESCRIPTION:
URL:https://fayaltwp.org/event/sororiety-meeting/2026-05-11/
END:VEVENT
BEGIN:VEVENT
DTSTART;TZID=America/Chicago:20260511T160000
DTEND;TZID=America/Chicago:20260511T183000
DTSTAMP:20260425T112251
CREATED:20250905T131821Z
LAST-MODIFIED:20250905T131821Z
UID:10003754-1778515200-1778524200@fayaltwp.org
SUMMARY:T.O.P.S.
DESCRIPTION:
URL:https://fayaltwp.org/event/t-o-p-s/2026-05-11/
END:VEVENT
BEGIN:VEVENT
DTSTART;TZID=America/Chicago:20260512T180000
DTEND;TZID=America/Chicago:20260512T190000
DTSTAMP:20260425T112251
CREATED:20240213T194019Z
LAST-MODIFIED:20240718T171231Z
UID:10002367-1778608800-1778612400@fayaltwp.org
SUMMARY:Public Utility Meetings
DESCRIPTION:Meeting lengths may vary
URL:https://fayaltwp.org/event/public-utility-meetings-2-2/2026-05-12/
END:VEVENT
BEGIN:VEVENT
DTSTART;TZID=America/Chicago:20260513T093000
DTEND;TZID=America/Chicago:20260513T103000
DTSTAMP:20260425T112251
CREATED:20240207T174449Z
LAST-MODIFIED:20260317T185548Z
UID:10001684-1778664600-1778668200@fayaltwp.org
SUMMARY:Aerobics
DESCRIPTION:
URL:https://fayaltwp.org/event/aerobics/2026-05-13/
END:VEVENT
BEGIN:VEVENT
DTSTART;TZID=America/Chicago:20260514T093000
DTEND;TZID=America/Chicago:20260514T223000
DTSTAMP:20260425T112251
CREATED:20260112T180331Z
LAST-MODIFIED:20260317T190351Z
UID:10003493-1778751000-1778797800@fayaltwp.org
SUMMARY:Yoga
DESCRIPTION:
URL:https://fayaltwp.org/event/yoga-2-2/2026-05-14/
END:VEVENT
BEGIN:VEVENT
DTSTART;TZID=America/Chicago:20260515T093000
DTEND;TZID=America/Chicago:20260515T103000
DTSTAMP:20260425T112251
CREATED:20240207T174449Z
LAST-MODIFIED:20260317T185548Z
UID:10001685-1778837400-1778841000@fayaltwp.org
SUMMARY:Aerobics
DESCRIPTION:
URL:https://fayaltwp.org/event/aerobics/2026-05-15/
END:VEVENT
BEGIN:VEVENT
DTSTART;VALUE=DATE:20260516
DTEND;VALUE=DATE:20260518
DTSTAMP:20260425T112251
CREATED:20260212T172716Z
LAST-MODIFIED:20260212T172716Z
UID:10004044-1778907600-1778993999@fayaltwp.org
SUMMARY:Town Hall Rented
DESCRIPTION:
URL:https://fayaltwp.org/event/town-hall-rented-179/
END:VEVENT
BEGIN:VEVENT
DTSTART;VALUE=DATE:20260517
DTEND;VALUE=DATE:20260519
DTSTAMP:20260425T112251
CREATED:20260401T163255Z
LAST-MODIFIED:20260401T163255Z
UID:10004375-1778994000-1779080399@fayaltwp.org
SUMMARY:Town Hall Rented
DESCRIPTION:
URL:https://fayaltwp.org/event/town-hall-rented-191/
END:VEVENT
BEGIN:VEVENT
DTSTART;TZID=America/Chicago:20260518T093000
DTEND;TZID=America/Chicago:20260518T103000
DTSTAMP:20260425T112251
CREATED:20240207T174449Z
LAST-MODIFIED:20260317T185548Z
UID:10001686-1779096600-1779100200@fayaltwp.org
SUMMARY:Aerobics
DESCRIPTION:
URL:https://fayaltwp.org/event/aerobics/2026-05-18/
END:VEVENT
BEGIN:VEVENT
DTSTART;TZID=America/Chicago:20260518T160000
DTEND;TZID=America/Chicago:20260518T183000
DTSTAMP:20260425T112251
CREATED:20250905T131821Z
LAST-MODIFIED:20250905T131821Z
UID:10003755-1779120000-1779129000@fayaltwp.org
SUMMARY:T.O.P.S.
DESCRIPTION:
URL:https://fayaltwp.org/event/t-o-p-s/2026-05-18/
END:VEVENT
BEGIN:VEVENT
DTSTART;TZID=America/Chicago:20260519T190000
DTEND;TZID=America/Chicago:20260519T203000
DTSTAMP:20260425T112251
CREATED:20230727T144614Z
LAST-MODIFIED:20250115T222032Z
UID:10003356-1779217200-1779222600@fayaltwp.org
SUMMARY:Town Board Meeting
DESCRIPTION:Meeting lengths may vary
URL:https://fayaltwp.org/event/town-board-meeting-2/2026-05-19/
END:VEVENT
BEGIN:VEVENT
DTSTART;TZID=America/Chicago:20260520T093000
DTEND;TZID=America/Chicago:20260520T103000
DTSTAMP:20260425T112251
CREATED:20240207T174449Z
LAST-MODIFIED:20260317T185548Z
UID:10001687-1779269400-1779273000@fayaltwp.org
SUMMARY:Aerobics
DESCRIPTION:
URL:https://fayaltwp.org/event/aerobics/2026-05-20/
END:VEVENT
BEGIN:VEVENT
DTSTART;TZID=America/Chicago:20260521T093000
DTEND;TZID=America/Chicago:20260521T223000
DTSTAMP:20260425T112251
CREATED:20260112T180331Z
LAST-MODIFIED:20260317T190351Z
UID:10003494-1779355800-1779402600@fayaltwp.org
SUMMARY:Yoga
DESCRIPTION:
URL:https://fayaltwp.org/event/yoga-2-2/2026-05-21/
END:VEVENT
BEGIN:VEVENT
DTSTART;TZID=America/Chicago:20260521T183000
DTEND;TZID=America/Chicago:20260521T200000
DTSTAMP:20260425T112251
CREATED:20190917T020221Z
LAST-MODIFIED:20250110T151531Z
UID:10003082-1779388200-1779393600@fayaltwp.org
SUMMARY:Eveleth-Fayal Garden Club
DESCRIPTION:Meeting lengths may vary
URL:https://fayaltwp.org/event/eveleth-fayal-garden-club/2026-05-21/
END:VEVENT
BEGIN:VEVENT
DTSTART;TZID=America/Chicago:20260522T093000
DTEND;TZID=America/Chicago:20260522T103000
DTSTAMP:20260425T112251
CREATED:20240207T174449Z
LAST-MODIFIED:20260317T185548Z
UID:10001688-1779442200-1779445800@fayaltwp.org
SUMMARY:Aerobics
DESCRIPTION:
URL:https://fayaltwp.org/event/aerobics/2026-05-22/
END:VEVENT
BEGIN:VEVENT
DTSTART;VALUE=DATE:20260523
DTEND;VALUE=DATE:20260525
DTSTAMP:20260425T112251
CREATED:20260317T184413Z
LAST-MODIFIED:20260317T184413Z
UID:10004053-1779512400-1779598799@fayaltwp.org
SUMMARY:Town Hall Rented
DESCRIPTION:
URL:https://fayaltwp.org/event/town-hall-rented-186/
END:VEVENT
BEGIN:VEVENT
DTSTART;VALUE=DATE:20260524
DTEND;VALUE=DATE:20260526
DTSTAMP:20260425T112251
CREATED:20260212T172739Z
LAST-MODIFIED:20260212T172739Z
UID:10004045-1779598800-1779685199@fayaltwp.org
SUMMARY:Town Hall Rented
DESCRIPTION:
URL:https://fayaltwp.org/event/town-hall-rented-180/
END:VEVENT
BEGIN:VEVENT
DTSTART;TZID=America/Chicago:20260525T093000
DTEND;TZID=America/Chicago:20260525T103000
DTSTAMP:20260425T112251
CREATED:20240207T174449Z
LAST-MODIFIED:20260317T185548Z
UID:10001689-1779701400-1779705000@fayaltwp.org
SUMMARY:Aerobics
DESCRIPTION:
URL:https://fayaltwp.org/event/aerobics/2026-05-25/
END:VEVENT
END:VCALENDAR