BEGIN:VCALENDAR
VERSION:2.0
PRODID:-//Fayal Twp - ECPv6.15.17.1//NONSGML v1.0//EN
CALSCALE:GREGORIAN
METHOD:PUBLISH
X-WR-CALNAME:Fayal Twp
X-ORIGINAL-URL:https://fayaltwp.org
X-WR-CALDESC:Events for Fayal Twp
REFRESH-INTERVAL;VALUE=DURATION:PT1H
X-Robots-Tag:noindex
X-PUBLISHED-TTL:PT1H
BEGIN:VTIMEZONE
TZID:America/Chicago
BEGIN:DAYLIGHT
TZOFFSETFROM:-0600
TZOFFSETTO:-0500
TZNAME:CDT
DTSTART:20260308T080000
END:DAYLIGHT
BEGIN:STANDARD
TZOFFSETFROM:-0500
TZOFFSETTO:-0600
TZNAME:CST
DTSTART:20261101T070000
END:STANDARD
BEGIN:DAYLIGHT
TZOFFSETFROM:-0600
TZOFFSETTO:-0500
TZNAME:CDT
DTSTART:20270314T080000
END:DAYLIGHT
BEGIN:STANDARD
TZOFFSETFROM:-0500
TZOFFSETTO:-0600
TZNAME:CST
DTSTART:20271107T070000
END:STANDARD
BEGIN:DAYLIGHT
TZOFFSETFROM:-0600
TZOFFSETTO:-0500
TZNAME:CDT
DTSTART:20280312T080000
END:DAYLIGHT
BEGIN:STANDARD
TZOFFSETFROM:-0500
TZOFFSETTO:-0600
TZNAME:CST
DTSTART:20281105T070000
END:STANDARD
END:VTIMEZONE
BEGIN:VEVENT
DTSTART;TZID=America/Chicago:20270205T093000
DTEND;TZID=America/Chicago:20270205T103000
DTSTAMP:20260425T111210
CREATED:20240207T174449Z
LAST-MODIFIED:20260317T185548Z
UID:10001799-1801819800-1801823400@fayaltwp.org
SUMMARY:Aerobics
DESCRIPTION:
URL:https://fayaltwp.org/event/aerobics/2027-02-05/
END:VEVENT
BEGIN:VEVENT
DTSTART;TZID=America/Chicago:20270208T093000
DTEND;TZID=America/Chicago:20270208T103000
DTSTAMP:20260425T111210
CREATED:20240207T174449Z
LAST-MODIFIED:20260317T185548Z
UID:10001800-1802079000-1802082600@fayaltwp.org
SUMMARY:Aerobics
DESCRIPTION:
URL:https://fayaltwp.org/event/aerobics/2027-02-08/
END:VEVENT
BEGIN:VEVENT
DTSTART;TZID=America/Chicago:20270208T120000
DTEND;TZID=America/Chicago:20270208T140000
DTSTAMP:20260425T111210
CREATED:20240207T175425Z
LAST-MODIFIED:20240718T172046Z
UID:10002153-1802088000-1802095200@fayaltwp.org
SUMMARY:Sororiety Meeting
DESCRIPTION:
URL:https://fayaltwp.org/event/sororiety-meeting/2027-02-08/
END:VEVENT
BEGIN:VEVENT
DTSTART;TZID=America/Chicago:20270208T160000
DTEND;TZID=America/Chicago:20270208T183000
DTSTAMP:20260425T111210
CREATED:20250905T131821Z
LAST-MODIFIED:20250905T131821Z
UID:10003793-1802102400-1802111400@fayaltwp.org
SUMMARY:T.O.P.S.
DESCRIPTION:
URL:https://fayaltwp.org/event/t-o-p-s/2027-02-08/
END:VEVENT
BEGIN:VEVENT
DTSTART;TZID=America/Chicago:20270209T180000
DTEND;TZID=America/Chicago:20270209T190000
DTSTAMP:20260425T111210
CREATED:20240213T194019Z
LAST-MODIFIED:20240718T171231Z
UID:10002376-1802196000-1802199600@fayaltwp.org
SUMMARY:Public Utility Meetings
DESCRIPTION:Meeting lengths may vary
URL:https://fayaltwp.org/event/public-utility-meetings-2-2/2027-02-09/
END:VEVENT
BEGIN:VEVENT
DTSTART;TZID=America/Chicago:20270210T093000
DTEND;TZID=America/Chicago:20270210T103000
DTSTAMP:20260425T111210
CREATED:20240207T174449Z
LAST-MODIFIED:20260317T185548Z
UID:10001801-1802251800-1802255400@fayaltwp.org
SUMMARY:Aerobics
DESCRIPTION:
URL:https://fayaltwp.org/event/aerobics/2027-02-10/
END:VEVENT
BEGIN:VEVENT
DTSTART;TZID=America/Chicago:20270211T093000
DTEND;TZID=America/Chicago:20270211T223000
DTSTAMP:20260425T111210
CREATED:20260112T180331Z
LAST-MODIFIED:20260317T190351Z
UID:10003532-1802338200-1802385000@fayaltwp.org
SUMMARY:Yoga
DESCRIPTION:
URL:https://fayaltwp.org/event/yoga-2-2/2027-02-11/
END:VEVENT
BEGIN:VEVENT
DTSTART;TZID=America/Chicago:20270212T093000
DTEND;TZID=America/Chicago:20270212T103000
DTSTAMP:20260425T111210
CREATED:20240207T174449Z
LAST-MODIFIED:20260317T185548Z
UID:10001802-1802424600-1802428200@fayaltwp.org
SUMMARY:Aerobics
DESCRIPTION:
URL:https://fayaltwp.org/event/aerobics/2027-02-12/
END:VEVENT
BEGIN:VEVENT
DTSTART;TZID=America/Chicago:20270215T093000
DTEND;TZID=America/Chicago:20270215T103000
DTSTAMP:20260425T111210
CREATED:20240207T174449Z
LAST-MODIFIED:20260317T185548Z
UID:10001803-1802683800-1802687400@fayaltwp.org
SUMMARY:Aerobics
DESCRIPTION:
URL:https://fayaltwp.org/event/aerobics/2027-02-15/
END:VEVENT
BEGIN:VEVENT
DTSTART;TZID=America/Chicago:20270215T160000
DTEND;TZID=America/Chicago:20270215T183000
DTSTAMP:20260425T111210
CREATED:20250905T131821Z
LAST-MODIFIED:20250905T131821Z
UID:10003794-1802707200-1802716200@fayaltwp.org
SUMMARY:T.O.P.S.
DESCRIPTION:
URL:https://fayaltwp.org/event/t-o-p-s/2027-02-15/
END:VEVENT
BEGIN:VEVENT
DTSTART;TZID=America/Chicago:20270216T190000
DTEND;TZID=America/Chicago:20270216T203000
DTSTAMP:20260425T111210
CREATED:20230727T144614Z
LAST-MODIFIED:20250115T222032Z
UID:10003365-1802804400-1802809800@fayaltwp.org
SUMMARY:Town Board Meeting
DESCRIPTION:Meeting lengths may vary
URL:https://fayaltwp.org/event/town-board-meeting-2/2027-02-16/
END:VEVENT
BEGIN:VEVENT
DTSTART;TZID=America/Chicago:20270217T093000
DTEND;TZID=America/Chicago:20270217T103000
DTSTAMP:20260425T111210
CREATED:20240207T174449Z
LAST-MODIFIED:20260317T185548Z
UID:10001804-1802856600-1802860200@fayaltwp.org
SUMMARY:Aerobics
DESCRIPTION:
URL:https://fayaltwp.org/event/aerobics/2027-02-17/
END:VEVENT
BEGIN:VEVENT
DTSTART;TZID=America/Chicago:20270218T093000
DTEND;TZID=America/Chicago:20270218T223000
DTSTAMP:20260425T111210
CREATED:20260112T180331Z
LAST-MODIFIED:20260317T190351Z
UID:10003533-1802943000-1802989800@fayaltwp.org
SUMMARY:Yoga
DESCRIPTION:
URL:https://fayaltwp.org/event/yoga-2-2/2027-02-18/
END:VEVENT
BEGIN:VEVENT
DTSTART;TZID=America/Chicago:20270218T183000
DTEND;TZID=America/Chicago:20270218T200000
DTSTAMP:20260425T111210
CREATED:20190917T020221Z
LAST-MODIFIED:20250110T151531Z
UID:10003090-1802975400-1802980800@fayaltwp.org
SUMMARY:Eveleth-Fayal Garden Club
DESCRIPTION:Meeting lengths may vary
URL:https://fayaltwp.org/event/eveleth-fayal-garden-club/2027-02-18/
END:VEVENT
BEGIN:VEVENT
DTSTART;TZID=America/Chicago:20270219T093000
DTEND;TZID=America/Chicago:20270219T103000
DTSTAMP:20260425T111210
CREATED:20240207T174449Z
LAST-MODIFIED:20260317T185548Z
UID:10001805-1803029400-1803033000@fayaltwp.org
SUMMARY:Aerobics
DESCRIPTION:
URL:https://fayaltwp.org/event/aerobics/2027-02-19/
END:VEVENT
BEGIN:VEVENT
DTSTART;TZID=America/Chicago:20270222T093000
DTEND;TZID=America/Chicago:20270222T103000
DTSTAMP:20260425T111210
CREATED:20240207T174449Z
LAST-MODIFIED:20260317T185548Z
UID:10001806-1803288600-1803292200@fayaltwp.org
SUMMARY:Aerobics
DESCRIPTION:
URL:https://fayaltwp.org/event/aerobics/2027-02-22/
END:VEVENT
BEGIN:VEVENT
DTSTART;TZID=America/Chicago:20270222T160000
DTEND;TZID=America/Chicago:20270222T183000
DTSTAMP:20260425T111210
CREATED:20250905T131821Z
LAST-MODIFIED:20250905T131821Z
UID:10003795-1803312000-1803321000@fayaltwp.org
SUMMARY:T.O.P.S.
DESCRIPTION:
URL:https://fayaltwp.org/event/t-o-p-s/2027-02-22/
END:VEVENT
BEGIN:VEVENT
DTSTART;TZID=America/Chicago:20270224T093000
DTEND;TZID=America/Chicago:20270224T103000
DTSTAMP:20260425T111210
CREATED:20240207T174449Z
LAST-MODIFIED:20260317T185548Z
UID:10001807-1803461400-1803465000@fayaltwp.org
SUMMARY:Aerobics
DESCRIPTION:
URL:https://fayaltwp.org/event/aerobics/2027-02-24/
END:VEVENT
BEGIN:VEVENT
DTSTART;TZID=America/Chicago:20270225T093000
DTEND;TZID=America/Chicago:20270225T223000
DTSTAMP:20260425T111210
CREATED:20260112T180331Z
LAST-MODIFIED:20260317T190351Z
UID:10003534-1803547800-1803594600@fayaltwp.org
SUMMARY:Yoga
DESCRIPTION:
URL:https://fayaltwp.org/event/yoga-2-2/2027-02-25/
END:VEVENT
BEGIN:VEVENT
DTSTART;TZID=America/Chicago:20270226T093000
DTEND;TZID=America/Chicago:20270226T103000
DTSTAMP:20260425T111210
CREATED:20240207T174449Z
LAST-MODIFIED:20260317T185548Z
UID:10001808-1803634200-1803637800@fayaltwp.org
SUMMARY:Aerobics
DESCRIPTION:
URL:https://fayaltwp.org/event/aerobics/2027-02-26/
END:VEVENT
BEGIN:VEVENT
DTSTART;TZID=America/Chicago:20270301T093000
DTEND;TZID=America/Chicago:20270301T103000
DTSTAMP:20260425T111210
CREATED:20240207T174449Z
LAST-MODIFIED:20260317T185548Z
UID:10001809-1803893400-1803897000@fayaltwp.org
SUMMARY:Aerobics
DESCRIPTION:
URL:https://fayaltwp.org/event/aerobics/2027-03-01/
END:VEVENT
BEGIN:VEVENT
DTSTART;TZID=America/Chicago:20270301T160000
DTEND;TZID=America/Chicago:20270301T183000
DTSTAMP:20260425T111210
CREATED:20250905T131821Z
LAST-MODIFIED:20250905T131821Z
UID:10003796-1803916800-1803925800@fayaltwp.org
SUMMARY:T.O.P.S.
DESCRIPTION:
URL:https://fayaltwp.org/event/t-o-p-s/2027-03-01/
END:VEVENT
BEGIN:VEVENT
DTSTART;TZID=America/Chicago:20270302T190000
DTEND;TZID=America/Chicago:20270302T203000
DTSTAMP:20260425T111210
CREATED:20240213T194504Z
LAST-MODIFIED:20250318T164658Z
UID:10002425-1804014000-1804019400@fayaltwp.org
SUMMARY:Town Board Meeting
DESCRIPTION:Meeting lengths may vary
URL:https://fayaltwp.org/event/town-board-meeting-3/2027-03-02/
END:VEVENT
BEGIN:VEVENT
DTSTART;TZID=America/Chicago:20270303T093000
DTEND;TZID=America/Chicago:20270303T103000
DTSTAMP:20260425T111210
CREATED:20240207T174449Z
LAST-MODIFIED:20260317T185548Z
UID:10001810-1804066200-1804069800@fayaltwp.org
SUMMARY:Aerobics
DESCRIPTION:
URL:https://fayaltwp.org/event/aerobics/2027-03-03/
END:VEVENT
BEGIN:VEVENT
DTSTART;TZID=America/Chicago:20270304T093000
DTEND;TZID=America/Chicago:20270304T223000
DTSTAMP:20260425T111210
CREATED:20260112T180331Z
LAST-MODIFIED:20260317T190351Z
UID:10003535-1804152600-1804199400@fayaltwp.org
SUMMARY:Yoga
DESCRIPTION:
URL:https://fayaltwp.org/event/yoga-2-2/2027-03-04/
END:VEVENT
BEGIN:VEVENT
DTSTART;TZID=America/Chicago:20270305T093000
DTEND;TZID=America/Chicago:20270305T103000
DTSTAMP:20260425T111210
CREATED:20240207T174449Z
LAST-MODIFIED:20260317T185548Z
UID:10001811-1804239000-1804242600@fayaltwp.org
SUMMARY:Aerobics
DESCRIPTION:
URL:https://fayaltwp.org/event/aerobics/2027-03-05/
END:VEVENT
BEGIN:VEVENT
DTSTART;TZID=America/Chicago:20270308T093000
DTEND;TZID=America/Chicago:20270308T103000
DTSTAMP:20260425T111210
CREATED:20240207T174449Z
LAST-MODIFIED:20260317T185548Z
UID:10001812-1804498200-1804501800@fayaltwp.org
SUMMARY:Aerobics
DESCRIPTION:
URL:https://fayaltwp.org/event/aerobics/2027-03-08/
END:VEVENT
BEGIN:VEVENT
DTSTART;TZID=America/Chicago:20270308T120000
DTEND;TZID=America/Chicago:20270308T140000
DTSTAMP:20260425T111210
CREATED:20240207T175425Z
LAST-MODIFIED:20240718T172046Z
UID:10002154-1804507200-1804514400@fayaltwp.org
SUMMARY:Sororiety Meeting
DESCRIPTION:
URL:https://fayaltwp.org/event/sororiety-meeting/2027-03-08/
END:VEVENT
BEGIN:VEVENT
DTSTART;TZID=America/Chicago:20270308T160000
DTEND;TZID=America/Chicago:20270308T183000
DTSTAMP:20260425T111210
CREATED:20250905T131821Z
LAST-MODIFIED:20250905T131821Z
UID:10003797-1804521600-1804530600@fayaltwp.org
SUMMARY:T.O.P.S.
DESCRIPTION:
URL:https://fayaltwp.org/event/t-o-p-s/2027-03-08/
END:VEVENT
BEGIN:VEVENT
DTSTART;TZID=America/Chicago:20270309T180000
DTEND;TZID=America/Chicago:20270309T190000
DTSTAMP:20260425T111210
CREATED:20240213T194019Z
LAST-MODIFIED:20240718T171231Z
UID:10002377-1804615200-1804618800@fayaltwp.org
SUMMARY:Public Utility Meetings
DESCRIPTION:Meeting lengths may vary
URL:https://fayaltwp.org/event/public-utility-meetings-2-2/2027-03-09/
END:VEVENT
END:VCALENDAR