BEGIN:VCALENDAR
VERSION:2.0
PRODID:-//Fayal Twp - ECPv6.15.17.1//NONSGML v1.0//EN
CALSCALE:GREGORIAN
METHOD:PUBLISH
X-WR-CALNAME:Fayal Twp
X-ORIGINAL-URL:https://fayaltwp.org
X-WR-CALDESC:Events for Fayal Twp
REFRESH-INTERVAL;VALUE=DURATION:PT1H
X-Robots-Tag:noindex
X-PUBLISHED-TTL:PT1H
BEGIN:VTIMEZONE
TZID:America/Chicago
BEGIN:DAYLIGHT
TZOFFSETFROM:-0600
TZOFFSETTO:-0500
TZNAME:CDT
DTSTART:20190310T080000
END:DAYLIGHT
BEGIN:STANDARD
TZOFFSETFROM:-0500
TZOFFSETTO:-0600
TZNAME:CST
DTSTART:20191103T070000
END:STANDARD
BEGIN:DAYLIGHT
TZOFFSETFROM:-0600
TZOFFSETTO:-0500
TZNAME:CDT
DTSTART:20200308T080000
END:DAYLIGHT
BEGIN:STANDARD
TZOFFSETFROM:-0500
TZOFFSETTO:-0600
TZNAME:CST
DTSTART:20201101T070000
END:STANDARD
BEGIN:DAYLIGHT
TZOFFSETFROM:-0600
TZOFFSETTO:-0500
TZNAME:CDT
DTSTART:20210314T080000
END:DAYLIGHT
BEGIN:STANDARD
TZOFFSETFROM:-0500
TZOFFSETTO:-0600
TZNAME:CST
DTSTART:20211107T070000
END:STANDARD
BEGIN:DAYLIGHT
TZOFFSETFROM:-0600
TZOFFSETTO:-0500
TZNAME:CDT
DTSTART:20220313T080000
END:DAYLIGHT
BEGIN:STANDARD
TZOFFSETFROM:-0500
TZOFFSETTO:-0600
TZNAME:CST
DTSTART:20221106T070000
END:STANDARD
END:VTIMEZONE
BEGIN:VTIMEZONE
TZID:UTC
BEGIN:STANDARD
TZOFFSETFROM:+0000
TZOFFSETTO:+0000
TZNAME:UTC
DTSTART:20200101T000000
END:STANDARD
END:VTIMEZONE
BEGIN:VEVENT
DTSTART;TZID=America/Chicago:20201217T183000
DTEND;TZID=America/Chicago:20201217T200000
DTSTAMP:20260425T053839
CREATED:20190917T020221Z
LAST-MODIFIED:20250110T151531Z
UID:10003027-1608229800-1608235200@fayaltwp.org
SUMMARY:Eveleth-Fayal Garden Club
DESCRIPTION:Meeting lengths may vary
URL:https://fayaltwp.org/event/eveleth-fayal-garden-club/2020-12-17/
END:VEVENT
BEGIN:VEVENT
DTSTART;TZID=America/Chicago:20201221T161500
DTEND;TZID=America/Chicago:20201221T183000
DTSTAMP:20260425T053839
CREATED:20190917T014302Z
LAST-MODIFIED:20220309T145134Z
UID:10000921-1608567300-1608575400@fayaltwp.org
SUMMARY:T.O.P.S Meeting
DESCRIPTION:Meeting length times may vary
URL:https://fayaltwp.org/event/t-o-p-s-meeting/2020-12-21/
END:VEVENT
BEGIN:VEVENT
DTSTART;TZID=America/Chicago:20201228T161500
DTEND;TZID=America/Chicago:20201228T183000
DTSTAMP:20260425T053839
CREATED:20190917T014302Z
LAST-MODIFIED:20220309T145134Z
UID:10000922-1609172100-1609180200@fayaltwp.org
SUMMARY:T.O.P.S Meeting
DESCRIPTION:Meeting length times may vary
URL:https://fayaltwp.org/event/t-o-p-s-meeting/2020-12-28/
END:VEVENT
BEGIN:VEVENT
DTSTART;TZID=America/Chicago:20210104T161500
DTEND;TZID=America/Chicago:20210104T183000
DTSTAMP:20260425T053839
CREATED:20190917T014302Z
LAST-MODIFIED:20220309T145134Z
UID:10000923-1609776900-1609785000@fayaltwp.org
SUMMARY:T.O.P.S Meeting
DESCRIPTION:Meeting length times may vary
URL:https://fayaltwp.org/event/t-o-p-s-meeting/2021-01-04/
END:VEVENT
BEGIN:VEVENT
DTSTART;TZID=America/Chicago:20210105T190000
DTEND;TZID=America/Chicago:20210105T203000
DTSTAMP:20260425T053839
CREATED:20190917T015259Z
LAST-MODIFIED:20220309T144930Z
UID:10001153-1609873200-1609878600@fayaltwp.org
SUMMARY:Town Board Meeting
DESCRIPTION:Meeting lengths may vary
URL:https://fayaltwp.org/event/town-board-meeting/2021-01-05/
END:VEVENT
BEGIN:VEVENT
DTSTART;TZID=America/Chicago:20210111T161500
DTEND;TZID=America/Chicago:20210111T183000
DTSTAMP:20260425T053839
CREATED:20190917T014302Z
LAST-MODIFIED:20220309T145134Z
UID:10000924-1610381700-1610389800@fayaltwp.org
SUMMARY:T.O.P.S Meeting
DESCRIPTION:Meeting length times may vary
URL:https://fayaltwp.org/event/t-o-p-s-meeting/2021-01-11/
END:VEVENT
BEGIN:VEVENT
DTSTART;TZID=America/Chicago:20210116T173000
DTEND;TZID=America/Chicago:20210116T173000
DTSTAMP:20260425T053839
CREATED:20190917T020012Z
LAST-MODIFIED:20260317T185333Z
UID:10004071-1610818200-1610818200@fayaltwp.org
SUMMARY:Planning Commission Meeting
DESCRIPTION:Meeting lengths may vary
URL:https://fayaltwp.org/event/fayal-planning-commission/2021-01-16/
END:VEVENT
BEGIN:VEVENT
DTSTART;TZID=America/Chicago:20210116T180000
DTEND;TZID=America/Chicago:20210116T190000
DTSTAMP:20260425T053839
CREATED:20190917T021048Z
LAST-MODIFIED:20240213T193813Z
UID:10002245-1610820000-1610823600@fayaltwp.org
SUMMARY:Public Utility Meetings
DESCRIPTION:Meeting lengths may vary
URL:https://fayaltwp.org/event/public-utility-meetings-2/2021-01-16/
END:VEVENT
BEGIN:VEVENT
DTSTART;TZID=UTC:20210116T180000
DTEND;TZID=UTC:20210116T190000
DTSTAMP:20260425T053839
CREATED:20190917T015406Z
LAST-MODIFIED:20240207T175555Z
UID:10002194-1610820000-1610823600@fayaltwp.org
SUMMARY:Public Utility Meetings
DESCRIPTION:Meeting lengths may vary
URL:https://fayaltwp.org/event/public-utility-meetings/2021-01-16/
END:VEVENT
BEGIN:VEVENT
DTSTART;TZID=America/Chicago:20210118T161500
DTEND;TZID=America/Chicago:20210118T183000
DTSTAMP:20260425T053839
CREATED:20190917T014302Z
LAST-MODIFIED:20220309T145134Z
UID:10000925-1610986500-1610994600@fayaltwp.org
SUMMARY:T.O.P.S Meeting
DESCRIPTION:Meeting length times may vary
URL:https://fayaltwp.org/event/t-o-p-s-meeting/2021-01-18/
END:VEVENT
BEGIN:VEVENT
DTSTART;TZID=America/Chicago:20210121T183000
DTEND;TZID=America/Chicago:20210121T200000
DTSTAMP:20260425T053839
CREATED:20190917T020221Z
LAST-MODIFIED:20250110T151531Z
UID:10003028-1611253800-1611259200@fayaltwp.org
SUMMARY:Eveleth-Fayal Garden Club
DESCRIPTION:Meeting lengths may vary
URL:https://fayaltwp.org/event/eveleth-fayal-garden-club/2021-01-21/
END:VEVENT
BEGIN:VEVENT
DTSTART;TZID=America/Chicago:20210125T161500
DTEND;TZID=America/Chicago:20210125T183000
DTSTAMP:20260425T053839
CREATED:20190917T014302Z
LAST-MODIFIED:20220309T145134Z
UID:10000926-1611591300-1611599400@fayaltwp.org
SUMMARY:T.O.P.S Meeting
DESCRIPTION:Meeting length times may vary
URL:https://fayaltwp.org/event/t-o-p-s-meeting/2021-01-25/
END:VEVENT
BEGIN:VEVENT
DTSTART;TZID=America/Chicago:20210201T161500
DTEND;TZID=America/Chicago:20210201T183000
DTSTAMP:20260425T053839
CREATED:20190917T014302Z
LAST-MODIFIED:20220309T145134Z
UID:10000927-1612196100-1612204200@fayaltwp.org
SUMMARY:T.O.P.S Meeting
DESCRIPTION:Meeting length times may vary
URL:https://fayaltwp.org/event/t-o-p-s-meeting/2021-02-01/
END:VEVENT
BEGIN:VEVENT
DTSTART;TZID=America/Chicago:20210202T190000
DTEND;TZID=America/Chicago:20210202T203000
DTSTAMP:20260425T053839
CREATED:20190917T015259Z
LAST-MODIFIED:20220309T144930Z
UID:10001154-1612292400-1612297800@fayaltwp.org
SUMMARY:Town Board Meeting
DESCRIPTION:Meeting lengths may vary
URL:https://fayaltwp.org/event/town-board-meeting/2021-02-02/
END:VEVENT
BEGIN:VEVENT
DTSTART;TZID=America/Chicago:20210208T161500
DTEND;TZID=America/Chicago:20210208T183000
DTSTAMP:20260425T053839
CREATED:20190917T014302Z
LAST-MODIFIED:20220309T145134Z
UID:10000928-1612800900-1612809000@fayaltwp.org
SUMMARY:T.O.P.S Meeting
DESCRIPTION:Meeting length times may vary
URL:https://fayaltwp.org/event/t-o-p-s-meeting/2021-02-08/
END:VEVENT
BEGIN:VEVENT
DTSTART;TZID=America/Chicago:20210215T161500
DTEND;TZID=America/Chicago:20210215T183000
DTSTAMP:20260425T053839
CREATED:20190917T014302Z
LAST-MODIFIED:20220309T145134Z
UID:10000929-1613405700-1613413800@fayaltwp.org
SUMMARY:T.O.P.S Meeting
DESCRIPTION:Meeting length times may vary
URL:https://fayaltwp.org/event/t-o-p-s-meeting/2021-02-15/
END:VEVENT
BEGIN:VEVENT
DTSTART;TZID=America/Chicago:20210216T173000
DTEND;TZID=America/Chicago:20210216T173000
DTSTAMP:20260425T053839
CREATED:20190917T020012Z
LAST-MODIFIED:20260317T185333Z
UID:10004072-1613496600-1613496600@fayaltwp.org
SUMMARY:Planning Commission Meeting
DESCRIPTION:Meeting lengths may vary
URL:https://fayaltwp.org/event/fayal-planning-commission/2021-02-16/
END:VEVENT
BEGIN:VEVENT
DTSTART;TZID=America/Chicago:20210216T180000
DTEND;TZID=America/Chicago:20210216T190000
DTSTAMP:20260425T053839
CREATED:20190917T021048Z
LAST-MODIFIED:20240213T193813Z
UID:10002246-1613498400-1613502000@fayaltwp.org
SUMMARY:Public Utility Meetings
DESCRIPTION:Meeting lengths may vary
URL:https://fayaltwp.org/event/public-utility-meetings-2/2021-02-16/
END:VEVENT
BEGIN:VEVENT
DTSTART;TZID=UTC:20210216T180000
DTEND;TZID=UTC:20210216T190000
DTSTAMP:20260425T053839
CREATED:20190917T015406Z
LAST-MODIFIED:20240207T175555Z
UID:10002195-1613498400-1613502000@fayaltwp.org
SUMMARY:Public Utility Meetings
DESCRIPTION:Meeting lengths may vary
URL:https://fayaltwp.org/event/public-utility-meetings/2021-02-16/
END:VEVENT
BEGIN:VEVENT
DTSTART;TZID=America/Chicago:20210218T183000
DTEND;TZID=America/Chicago:20210218T200000
DTSTAMP:20260425T053839
CREATED:20190917T020221Z
LAST-MODIFIED:20250110T151531Z
UID:10003029-1613673000-1613678400@fayaltwp.org
SUMMARY:Eveleth-Fayal Garden Club
DESCRIPTION:Meeting lengths may vary
URL:https://fayaltwp.org/event/eveleth-fayal-garden-club/2021-02-18/
END:VEVENT
BEGIN:VEVENT
DTSTART;TZID=America/Chicago:20210222T161500
DTEND;TZID=America/Chicago:20210222T183000
DTSTAMP:20260425T053839
CREATED:20190917T014302Z
LAST-MODIFIED:20220309T145134Z
UID:10000930-1614010500-1614018600@fayaltwp.org
SUMMARY:T.O.P.S Meeting
DESCRIPTION:Meeting length times may vary
URL:https://fayaltwp.org/event/t-o-p-s-meeting/2021-02-22/
END:VEVENT
BEGIN:VEVENT
DTSTART;TZID=America/Chicago:20210301T161500
DTEND;TZID=America/Chicago:20210301T183000
DTSTAMP:20260425T053839
CREATED:20190917T014302Z
LAST-MODIFIED:20220309T145134Z
UID:10000931-1614615300-1614623400@fayaltwp.org
SUMMARY:T.O.P.S Meeting
DESCRIPTION:Meeting length times may vary
URL:https://fayaltwp.org/event/t-o-p-s-meeting/2021-03-01/
END:VEVENT
BEGIN:VEVENT
DTSTART;TZID=America/Chicago:20210302T190000
DTEND;TZID=America/Chicago:20210302T203000
DTSTAMP:20260425T053839
CREATED:20190917T015259Z
LAST-MODIFIED:20220309T144930Z
UID:10001155-1614711600-1614717000@fayaltwp.org
SUMMARY:Town Board Meeting
DESCRIPTION:Meeting lengths may vary
URL:https://fayaltwp.org/event/town-board-meeting/2021-03-02/
END:VEVENT
BEGIN:VEVENT
DTSTART;TZID=America/Chicago:20210308T161500
DTEND;TZID=America/Chicago:20210308T183000
DTSTAMP:20260425T053839
CREATED:20190917T014302Z
LAST-MODIFIED:20220309T145134Z
UID:10000932-1615220100-1615228200@fayaltwp.org
SUMMARY:T.O.P.S Meeting
DESCRIPTION:Meeting length times may vary
URL:https://fayaltwp.org/event/t-o-p-s-meeting/2021-03-08/
END:VEVENT
BEGIN:VEVENT
DTSTART;TZID=America/Chicago:20210309T190000
DTEND;TZID=America/Chicago:20210309T210000
DTSTAMP:20260425T053839
CREATED:20191203T164234Z
LAST-MODIFIED:20191211T030238Z
UID:10000508-1615316400-1615323600@fayaltwp.org
SUMMARY:Annual Township Meeting
DESCRIPTION:
URL:https://fayaltwp.org/event/annual-township-meeting/2021-03-09/
END:VEVENT
BEGIN:VEVENT
DTSTART;TZID=America/Chicago:20210315T161500
DTEND;TZID=America/Chicago:20210315T183000
DTSTAMP:20260425T053839
CREATED:20190917T014302Z
LAST-MODIFIED:20220309T145134Z
UID:10000933-1615824900-1615833000@fayaltwp.org
SUMMARY:T.O.P.S Meeting
DESCRIPTION:Meeting length times may vary
URL:https://fayaltwp.org/event/t-o-p-s-meeting/2021-03-15/
END:VEVENT
BEGIN:VEVENT
DTSTART;TZID=America/Chicago:20210316T173000
DTEND;TZID=America/Chicago:20210316T173000
DTSTAMP:20260425T053839
CREATED:20190917T020012Z
LAST-MODIFIED:20260317T185333Z
UID:10004073-1615915800-1615915800@fayaltwp.org
SUMMARY:Planning Commission Meeting
DESCRIPTION:Meeting lengths may vary
URL:https://fayaltwp.org/event/fayal-planning-commission/2021-03-16/
END:VEVENT
BEGIN:VEVENT
DTSTART;TZID=America/Chicago:20210316T180000
DTEND;TZID=America/Chicago:20210316T190000
DTSTAMP:20260425T053839
CREATED:20190917T021048Z
LAST-MODIFIED:20240213T193813Z
UID:10002247-1615917600-1615921200@fayaltwp.org
SUMMARY:Public Utility Meetings
DESCRIPTION:Meeting lengths may vary
URL:https://fayaltwp.org/event/public-utility-meetings-2/2021-03-16/
END:VEVENT
BEGIN:VEVENT
DTSTART;TZID=UTC:20210316T180000
DTEND;TZID=UTC:20210316T190000
DTSTAMP:20260425T053839
CREATED:20190917T015406Z
LAST-MODIFIED:20240207T175555Z
UID:10002196-1615917600-1615921200@fayaltwp.org
SUMMARY:Public Utility Meetings
DESCRIPTION:Meeting lengths may vary
URL:https://fayaltwp.org/event/public-utility-meetings/2021-03-16/
END:VEVENT
BEGIN:VEVENT
DTSTART;TZID=America/Chicago:20210318T183000
DTEND;TZID=America/Chicago:20210318T200000
DTSTAMP:20260425T053839
CREATED:20190917T020221Z
LAST-MODIFIED:20250110T151531Z
UID:10003030-1616092200-1616097600@fayaltwp.org
SUMMARY:Eveleth-Fayal Garden Club
DESCRIPTION:Meeting lengths may vary
URL:https://fayaltwp.org/event/eveleth-fayal-garden-club/2021-03-18/
END:VEVENT
END:VCALENDAR