BEGIN:VCALENDAR
VERSION:2.0
PRODID:-//Fayal Twp - ECPv6.15.17.1//NONSGML v1.0//EN
CALSCALE:GREGORIAN
METHOD:PUBLISH
X-WR-CALNAME:Fayal Twp
X-ORIGINAL-URL:https://fayaltwp.org
X-WR-CALDESC:Events for Fayal Twp
REFRESH-INTERVAL;VALUE=DURATION:PT1H
X-Robots-Tag:noindex
X-PUBLISHED-TTL:PT1H
BEGIN:VTIMEZONE
TZID:America/Chicago
BEGIN:DAYLIGHT
TZOFFSETFROM:-0600
TZOFFSETTO:-0500
TZNAME:CDT
DTSTART:20190310T080000
END:DAYLIGHT
BEGIN:STANDARD
TZOFFSETFROM:-0500
TZOFFSETTO:-0600
TZNAME:CST
DTSTART:20191103T070000
END:STANDARD
BEGIN:DAYLIGHT
TZOFFSETFROM:-0600
TZOFFSETTO:-0500
TZNAME:CDT
DTSTART:20200308T080000
END:DAYLIGHT
BEGIN:STANDARD
TZOFFSETFROM:-0500
TZOFFSETTO:-0600
TZNAME:CST
DTSTART:20201101T070000
END:STANDARD
BEGIN:DAYLIGHT
TZOFFSETFROM:-0600
TZOFFSETTO:-0500
TZNAME:CDT
DTSTART:20210314T080000
END:DAYLIGHT
BEGIN:STANDARD
TZOFFSETFROM:-0500
TZOFFSETTO:-0600
TZNAME:CST
DTSTART:20211107T070000
END:STANDARD
END:VTIMEZONE
BEGIN:VTIMEZONE
TZID:UTC
BEGIN:STANDARD
TZOFFSETFROM:+0000
TZOFFSETTO:+0000
TZNAME:UTC
DTSTART:20190101T000000
END:STANDARD
END:VTIMEZONE
BEGIN:VEVENT
DTSTART;TZID=America/Chicago:20200916T180000
DTEND;TZID=America/Chicago:20200916T190000
DTSTAMP:20260425T102527
CREATED:20190917T021048Z
LAST-MODIFIED:20240213T193813Z
UID:10002241-1600279200-1600282800@fayaltwp.org
SUMMARY:Public Utility Meetings
DESCRIPTION:Meeting lengths may vary
URL:https://fayaltwp.org/event/public-utility-meetings-2/2020-09-16/
END:VEVENT
BEGIN:VEVENT
DTSTART;TZID=UTC:20200916T180000
DTEND;TZID=UTC:20200916T190000
DTSTAMP:20260425T102527
CREATED:20190917T015406Z
LAST-MODIFIED:20240207T175555Z
UID:10002190-1600279200-1600282800@fayaltwp.org
SUMMARY:Public Utility Meetings
DESCRIPTION:Meeting lengths may vary
URL:https://fayaltwp.org/event/public-utility-meetings/2020-09-16/
END:VEVENT
BEGIN:VEVENT
DTSTART;TZID=America/Chicago:20200917T183000
DTEND;TZID=America/Chicago:20200917T200000
DTSTAMP:20260425T102527
CREATED:20190917T020221Z
LAST-MODIFIED:20250110T151531Z
UID:10003024-1600367400-1600372800@fayaltwp.org
SUMMARY:Eveleth-Fayal Garden Club
DESCRIPTION:Meeting lengths may vary
URL:https://fayaltwp.org/event/eveleth-fayal-garden-club/2020-09-17/
END:VEVENT
BEGIN:VEVENT
DTSTART;TZID=America/Chicago:20200921T161500
DTEND;TZID=America/Chicago:20200921T183000
DTSTAMP:20260425T102527
CREATED:20190917T014302Z
LAST-MODIFIED:20220309T145134Z
UID:10000908-1600704900-1600713000@fayaltwp.org
SUMMARY:T.O.P.S Meeting
DESCRIPTION:Meeting length times may vary
URL:https://fayaltwp.org/event/t-o-p-s-meeting/2020-09-21/
END:VEVENT
BEGIN:VEVENT
DTSTART;TZID=America/Chicago:20200928T161500
DTEND;TZID=America/Chicago:20200928T183000
DTSTAMP:20260425T102527
CREATED:20190917T014302Z
LAST-MODIFIED:20220309T145134Z
UID:10000909-1601309700-1601317800@fayaltwp.org
SUMMARY:T.O.P.S Meeting
DESCRIPTION:Meeting length times may vary
URL:https://fayaltwp.org/event/t-o-p-s-meeting/2020-09-28/
END:VEVENT
BEGIN:VEVENT
DTSTART;TZID=America/Chicago:20201005T161500
DTEND;TZID=America/Chicago:20201005T183000
DTSTAMP:20260425T102527
CREATED:20190917T014302Z
LAST-MODIFIED:20220309T145134Z
UID:10000910-1601914500-1601922600@fayaltwp.org
SUMMARY:T.O.P.S Meeting
DESCRIPTION:Meeting length times may vary
URL:https://fayaltwp.org/event/t-o-p-s-meeting/2020-10-05/
END:VEVENT
BEGIN:VEVENT
DTSTART;TZID=America/Chicago:20201006T190000
DTEND;TZID=America/Chicago:20201006T203000
DTSTAMP:20260425T102527
CREATED:20190917T015259Z
LAST-MODIFIED:20220309T144930Z
UID:10001150-1602010800-1602016200@fayaltwp.org
SUMMARY:Town Board Meeting
DESCRIPTION:Meeting lengths may vary
URL:https://fayaltwp.org/event/town-board-meeting/2020-10-06/
END:VEVENT
BEGIN:VEVENT
DTSTART;TZID=America/Chicago:20201012T161500
DTEND;TZID=America/Chicago:20201012T183000
DTSTAMP:20260425T102527
CREATED:20190917T014302Z
LAST-MODIFIED:20220309T145134Z
UID:10000911-1602519300-1602527400@fayaltwp.org
SUMMARY:T.O.P.S Meeting
DESCRIPTION:Meeting length times may vary
URL:https://fayaltwp.org/event/t-o-p-s-meeting/2020-10-12/
END:VEVENT
BEGIN:VEVENT
DTSTART;TZID=America/Chicago:20201015T183000
DTEND;TZID=America/Chicago:20201015T200000
DTSTAMP:20260425T102527
CREATED:20190917T020221Z
LAST-MODIFIED:20250110T151531Z
UID:10003025-1602786600-1602792000@fayaltwp.org
SUMMARY:Eveleth-Fayal Garden Club
DESCRIPTION:Meeting lengths may vary
URL:https://fayaltwp.org/event/eveleth-fayal-garden-club/2020-10-15/
END:VEVENT
BEGIN:VEVENT
DTSTART;TZID=America/Chicago:20201016T173000
DTEND;TZID=America/Chicago:20201016T173000
DTSTAMP:20260425T102527
CREATED:20190917T020012Z
LAST-MODIFIED:20260317T185333Z
UID:10004069-1602869400-1602869400@fayaltwp.org
SUMMARY:Planning Commission Meeting
DESCRIPTION:Meeting lengths may vary
URL:https://fayaltwp.org/event/fayal-planning-commission/2020-10-16/
END:VEVENT
BEGIN:VEVENT
DTSTART;TZID=America/Chicago:20201016T180000
DTEND;TZID=America/Chicago:20201016T190000
DTSTAMP:20260425T102527
CREATED:20190917T021048Z
LAST-MODIFIED:20240213T193813Z
UID:10002242-1602871200-1602874800@fayaltwp.org
SUMMARY:Public Utility Meetings
DESCRIPTION:Meeting lengths may vary
URL:https://fayaltwp.org/event/public-utility-meetings-2/2020-10-16/
END:VEVENT
BEGIN:VEVENT
DTSTART;TZID=UTC:20201016T180000
DTEND;TZID=UTC:20201016T190000
DTSTAMP:20260425T102527
CREATED:20190917T015406Z
LAST-MODIFIED:20240207T175555Z
UID:10002191-1602871200-1602874800@fayaltwp.org
SUMMARY:Public Utility Meetings
DESCRIPTION:Meeting lengths may vary
URL:https://fayaltwp.org/event/public-utility-meetings/2020-10-16/
END:VEVENT
BEGIN:VEVENT
DTSTART;TZID=America/Chicago:20201019T161500
DTEND;TZID=America/Chicago:20201019T183000
DTSTAMP:20260425T102527
CREATED:20190917T014302Z
LAST-MODIFIED:20220309T145134Z
UID:10000912-1603124100-1603132200@fayaltwp.org
SUMMARY:T.O.P.S Meeting
DESCRIPTION:Meeting length times may vary
URL:https://fayaltwp.org/event/t-o-p-s-meeting/2020-10-19/
END:VEVENT
BEGIN:VEVENT
DTSTART;TZID=America/Chicago:20201026T161500
DTEND;TZID=America/Chicago:20201026T183000
DTSTAMP:20260425T102527
CREATED:20190917T014302Z
LAST-MODIFIED:20220309T145134Z
UID:10000913-1603728900-1603737000@fayaltwp.org
SUMMARY:T.O.P.S Meeting
DESCRIPTION:Meeting length times may vary
URL:https://fayaltwp.org/event/t-o-p-s-meeting/2020-10-26/
END:VEVENT
BEGIN:VEVENT
DTSTART;TZID=America/Chicago:20201102T161500
DTEND;TZID=America/Chicago:20201102T183000
DTSTAMP:20260425T102527
CREATED:20190917T014302Z
LAST-MODIFIED:20220309T145134Z
UID:10000914-1604333700-1604341800@fayaltwp.org
SUMMARY:T.O.P.S Meeting
DESCRIPTION:Meeting length times may vary
URL:https://fayaltwp.org/event/t-o-p-s-meeting/2020-11-02/
END:VEVENT
BEGIN:VEVENT
DTSTART;TZID=America/Chicago:20201103T190000
DTEND;TZID=America/Chicago:20201103T203000
DTSTAMP:20260425T102527
CREATED:20190917T015259Z
LAST-MODIFIED:20220309T144930Z
UID:10001151-1604430000-1604435400@fayaltwp.org
SUMMARY:Town Board Meeting
DESCRIPTION:Meeting lengths may vary
URL:https://fayaltwp.org/event/town-board-meeting/2020-11-03/
END:VEVENT
BEGIN:VEVENT
DTSTART;TZID=America/Chicago:20201109T161500
DTEND;TZID=America/Chicago:20201109T183000
DTSTAMP:20260425T102527
CREATED:20190917T014302Z
LAST-MODIFIED:20220309T145134Z
UID:10000915-1604938500-1604946600@fayaltwp.org
SUMMARY:T.O.P.S Meeting
DESCRIPTION:Meeting length times may vary
URL:https://fayaltwp.org/event/t-o-p-s-meeting/2020-11-09/
END:VEVENT
BEGIN:VEVENT
DTSTART;TZID=America/Chicago:20201116T161500
DTEND;TZID=America/Chicago:20201116T183000
DTSTAMP:20260425T102527
CREATED:20190917T014302Z
LAST-MODIFIED:20220309T145134Z
UID:10000916-1605543300-1605551400@fayaltwp.org
SUMMARY:T.O.P.S Meeting
DESCRIPTION:Meeting length times may vary
URL:https://fayaltwp.org/event/t-o-p-s-meeting/2020-11-16/
END:VEVENT
BEGIN:VEVENT
DTSTART;TZID=America/Chicago:20201116T173000
DTEND;TZID=America/Chicago:20201116T173000
DTSTAMP:20260425T102527
CREATED:20190917T020012Z
LAST-MODIFIED:20260317T185333Z
UID:10004070-1605547800-1605547800@fayaltwp.org
SUMMARY:Planning Commission Meeting
DESCRIPTION:Meeting lengths may vary
URL:https://fayaltwp.org/event/fayal-planning-commission/2020-11-16/
END:VEVENT
BEGIN:VEVENT
DTSTART;TZID=America/Chicago:20201116T180000
DTEND;TZID=America/Chicago:20201116T190000
DTSTAMP:20260425T102527
CREATED:20190917T021048Z
LAST-MODIFIED:20240213T193813Z
UID:10002243-1605549600-1605553200@fayaltwp.org
SUMMARY:Public Utility Meetings
DESCRIPTION:Meeting lengths may vary
URL:https://fayaltwp.org/event/public-utility-meetings-2/2020-11-16/
END:VEVENT
BEGIN:VEVENT
DTSTART;TZID=UTC:20201116T180000
DTEND;TZID=UTC:20201116T190000
DTSTAMP:20260425T102527
CREATED:20190917T015406Z
LAST-MODIFIED:20240207T175555Z
UID:10002192-1605549600-1605553200@fayaltwp.org
SUMMARY:Public Utility Meetings
DESCRIPTION:Meeting lengths may vary
URL:https://fayaltwp.org/event/public-utility-meetings/2020-11-16/
END:VEVENT
BEGIN:VEVENT
DTSTART;TZID=America/Chicago:20201119T183000
DTEND;TZID=America/Chicago:20201119T200000
DTSTAMP:20260425T102527
CREATED:20190917T020221Z
LAST-MODIFIED:20250110T151531Z
UID:10003026-1605810600-1605816000@fayaltwp.org
SUMMARY:Eveleth-Fayal Garden Club
DESCRIPTION:Meeting lengths may vary
URL:https://fayaltwp.org/event/eveleth-fayal-garden-club/2020-11-19/
END:VEVENT
BEGIN:VEVENT
DTSTART;TZID=America/Chicago:20201123T161500
DTEND;TZID=America/Chicago:20201123T183000
DTSTAMP:20260425T102527
CREATED:20190917T014302Z
LAST-MODIFIED:20220309T145134Z
UID:10000917-1606148100-1606156200@fayaltwp.org
SUMMARY:T.O.P.S Meeting
DESCRIPTION:Meeting length times may vary
URL:https://fayaltwp.org/event/t-o-p-s-meeting/2020-11-23/
END:VEVENT
BEGIN:VEVENT
DTSTART;TZID=America/Chicago:20201130T161500
DTEND;TZID=America/Chicago:20201130T183000
DTSTAMP:20260425T102527
CREATED:20190917T014302Z
LAST-MODIFIED:20220309T145134Z
UID:10000918-1606752900-1606761000@fayaltwp.org
SUMMARY:T.O.P.S Meeting
DESCRIPTION:Meeting length times may vary
URL:https://fayaltwp.org/event/t-o-p-s-meeting/2020-11-30/
END:VEVENT
BEGIN:VEVENT
DTSTART;TZID=America/Chicago:20201201T190000
DTEND;TZID=America/Chicago:20201201T203000
DTSTAMP:20260425T102527
CREATED:20190917T015259Z
LAST-MODIFIED:20220309T144930Z
UID:10001152-1606849200-1606854600@fayaltwp.org
SUMMARY:Town Board Meeting
DESCRIPTION:Meeting lengths may vary
URL:https://fayaltwp.org/event/town-board-meeting/2020-12-01/
END:VEVENT
BEGIN:VEVENT
DTSTART;TZID=America/Chicago:20201207T161500
DTEND;TZID=America/Chicago:20201207T183000
DTSTAMP:20260425T102527
CREATED:20190917T014302Z
LAST-MODIFIED:20220309T145134Z
UID:10000919-1607357700-1607365800@fayaltwp.org
SUMMARY:T.O.P.S Meeting
DESCRIPTION:Meeting length times may vary
URL:https://fayaltwp.org/event/t-o-p-s-meeting/2020-12-07/
END:VEVENT
BEGIN:VEVENT
DTSTART;TZID=America/Chicago:20201214T161500
DTEND;TZID=America/Chicago:20201214T183000
DTSTAMP:20260425T102527
CREATED:20190917T014302Z
LAST-MODIFIED:20220309T145134Z
UID:10000920-1607962500-1607970600@fayaltwp.org
SUMMARY:T.O.P.S Meeting
DESCRIPTION:Meeting length times may vary
URL:https://fayaltwp.org/event/t-o-p-s-meeting/2020-12-14/
END:VEVENT
BEGIN:VEVENT
DTSTART;TZID=America/Chicago:20201216T173000
DTEND;TZID=America/Chicago:20201216T173000
DTSTAMP:20260425T102527
CREATED:20190917T020012Z
LAST-MODIFIED:20260317T185333Z
UID:10000571-1608139800-1608139800@fayaltwp.org
SUMMARY:Planning Commission Meeting
DESCRIPTION:Meeting lengths may vary
URL:https://fayaltwp.org/event/fayal-planning-commission/2020-12-16/
END:VEVENT
BEGIN:VEVENT
DTSTART;TZID=America/Chicago:20201216T180000
DTEND;TZID=America/Chicago:20201216T190000
DTSTAMP:20260425T102527
CREATED:20190917T021048Z
LAST-MODIFIED:20240213T193813Z
UID:10002244-1608141600-1608145200@fayaltwp.org
SUMMARY:Public Utility Meetings
DESCRIPTION:Meeting lengths may vary
URL:https://fayaltwp.org/event/public-utility-meetings-2/2020-12-16/
END:VEVENT
BEGIN:VEVENT
DTSTART;TZID=UTC:20201216T180000
DTEND;TZID=UTC:20201216T190000
DTSTAMP:20260425T102527
CREATED:20190917T015406Z
LAST-MODIFIED:20240207T175555Z
UID:10002193-1608141600-1608145200@fayaltwp.org
SUMMARY:Public Utility Meetings
DESCRIPTION:Meeting lengths may vary
URL:https://fayaltwp.org/event/public-utility-meetings/2020-12-16/
END:VEVENT
END:VCALENDAR