BEGIN:VCALENDAR
VERSION:2.0
PRODID:-//Fayal Twp - ECPv6.15.17.1//NONSGML v1.0//EN
CALSCALE:GREGORIAN
METHOD:PUBLISH
X-WR-CALNAME:Fayal Twp
X-ORIGINAL-URL:https://fayaltwp.org
X-WR-CALDESC:Events for Fayal Twp
REFRESH-INTERVAL;VALUE=DURATION:PT1H
X-Robots-Tag:noindex
X-PUBLISHED-TTL:PT1H
BEGIN:VTIMEZONE
TZID:America/Chicago
BEGIN:DAYLIGHT
TZOFFSETFROM:-0600
TZOFFSETTO:-0500
TZNAME:CDT
DTSTART:20270314T080000
END:DAYLIGHT
BEGIN:STANDARD
TZOFFSETFROM:-0500
TZOFFSETTO:-0600
TZNAME:CST
DTSTART:20271107T070000
END:STANDARD
BEGIN:DAYLIGHT
TZOFFSETFROM:-0600
TZOFFSETTO:-0500
TZNAME:CDT
DTSTART:20280312T080000
END:DAYLIGHT
BEGIN:STANDARD
TZOFFSETFROM:-0500
TZOFFSETTO:-0600
TZNAME:CST
DTSTART:20281105T070000
END:STANDARD
BEGIN:DAYLIGHT
TZOFFSETFROM:-0600
TZOFFSETTO:-0500
TZNAME:CDT
DTSTART:20290311T080000
END:DAYLIGHT
BEGIN:STANDARD
TZOFFSETFROM:-0500
TZOFFSETTO:-0600
TZNAME:CST
DTSTART:20291104T070000
END:STANDARD
BEGIN:DAYLIGHT
TZOFFSETFROM:-0600
TZOFFSETTO:-0500
TZNAME:CDT
DTSTART:20300310T080000
END:DAYLIGHT
BEGIN:STANDARD
TZOFFSETFROM:-0500
TZOFFSETTO:-0600
TZNAME:CST
DTSTART:20301103T070000
END:STANDARD
END:VTIMEZONE
BEGIN:VEVENT
DTSTART;TZID=America/Chicago:20281211T093000
DTEND;TZID=America/Chicago:20281211T103000
DTSTAMP:20260425T211709
CREATED:20240207T174449Z
LAST-MODIFIED:20260317T185548Z
UID:10002088-1860139800-1860143400@fayaltwp.org
SUMMARY:Aerobics
DESCRIPTION:
URL:https://fayaltwp.org/event/aerobics/2028-12-11/
END:VEVENT
BEGIN:VEVENT
DTSTART;TZID=America/Chicago:20281211T120000
DTEND;TZID=America/Chicago:20281211T140000
DTSTAMP:20260425T211709
CREATED:20240207T175425Z
LAST-MODIFIED:20240718T172046Z
UID:10002175-1860148800-1860156000@fayaltwp.org
SUMMARY:Sororiety Meeting
DESCRIPTION:
URL:https://fayaltwp.org/event/sororiety-meeting/2028-12-11/
END:VEVENT
BEGIN:VEVENT
DTSTART;TZID=America/Chicago:20281211T160000
DTEND;TZID=America/Chicago:20281211T183000
DTSTAMP:20260425T211709
CREATED:20250905T131821Z
LAST-MODIFIED:20250905T131821Z
UID:10003889-1860163200-1860172200@fayaltwp.org
SUMMARY:T.O.P.S.
DESCRIPTION:
URL:https://fayaltwp.org/event/t-o-p-s/2028-12-11/
END:VEVENT
BEGIN:VEVENT
DTSTART;TZID=America/Chicago:20281212T180000
DTEND;TZID=America/Chicago:20281212T190000
DTSTAMP:20260425T211709
CREATED:20240213T194019Z
LAST-MODIFIED:20240718T171231Z
UID:10002398-1860256800-1860260400@fayaltwp.org
SUMMARY:Public Utility Meetings
DESCRIPTION:Meeting lengths may vary
URL:https://fayaltwp.org/event/public-utility-meetings-2-2/2028-12-12/
END:VEVENT
BEGIN:VEVENT
DTSTART;TZID=America/Chicago:20281213T093000
DTEND;TZID=America/Chicago:20281213T103000
DTSTAMP:20260425T211709
CREATED:20240207T174449Z
LAST-MODIFIED:20260317T185548Z
UID:10002089-1860312600-1860316200@fayaltwp.org
SUMMARY:Aerobics
DESCRIPTION:
URL:https://fayaltwp.org/event/aerobics/2028-12-13/
END:VEVENT
BEGIN:VEVENT
DTSTART;TZID=America/Chicago:20281214T093000
DTEND;TZID=America/Chicago:20281214T223000
DTSTAMP:20260425T211709
CREATED:20260112T180331Z
LAST-MODIFIED:20260317T190351Z
UID:10003628-1860399000-1860445800@fayaltwp.org
SUMMARY:Yoga
DESCRIPTION:
URL:https://fayaltwp.org/event/yoga-2-2/2028-12-14/
END:VEVENT
BEGIN:VEVENT
DTSTART;TZID=America/Chicago:20281215T093000
DTEND;TZID=America/Chicago:20281215T103000
DTSTAMP:20260425T211709
CREATED:20240207T174449Z
LAST-MODIFIED:20260317T185548Z
UID:10002090-1860485400-1860489000@fayaltwp.org
SUMMARY:Aerobics
DESCRIPTION:
URL:https://fayaltwp.org/event/aerobics/2028-12-15/
END:VEVENT
BEGIN:VEVENT
DTSTART;TZID=America/Chicago:20281218T093000
DTEND;TZID=America/Chicago:20281218T103000
DTSTAMP:20260425T211709
CREATED:20240207T174449Z
LAST-MODIFIED:20260317T185548Z
UID:10002091-1860744600-1860748200@fayaltwp.org
SUMMARY:Aerobics
DESCRIPTION:
URL:https://fayaltwp.org/event/aerobics/2028-12-18/
END:VEVENT
BEGIN:VEVENT
DTSTART;TZID=America/Chicago:20281218T160000
DTEND;TZID=America/Chicago:20281218T183000
DTSTAMP:20260425T211709
CREATED:20250905T131821Z
LAST-MODIFIED:20250905T131821Z
UID:10003890-1860768000-1860777000@fayaltwp.org
SUMMARY:T.O.P.S.
DESCRIPTION:
URL:https://fayaltwp.org/event/t-o-p-s/2028-12-18/
END:VEVENT
BEGIN:VEVENT
DTSTART;TZID=America/Chicago:20281219T190000
DTEND;TZID=America/Chicago:20281219T203000
DTSTAMP:20260425T211709
CREATED:20230727T144614Z
LAST-MODIFIED:20250115T222032Z
UID:10003387-1860865200-1860870600@fayaltwp.org
SUMMARY:Town Board Meeting
DESCRIPTION:Meeting lengths may vary
URL:https://fayaltwp.org/event/town-board-meeting-2/2028-12-19/
END:VEVENT
BEGIN:VEVENT
DTSTART;TZID=America/Chicago:20281220T093000
DTEND;TZID=America/Chicago:20281220T103000
DTSTAMP:20260425T211709
CREATED:20240207T174449Z
LAST-MODIFIED:20260317T185548Z
UID:10002092-1860917400-1860921000@fayaltwp.org
SUMMARY:Aerobics
DESCRIPTION:
URL:https://fayaltwp.org/event/aerobics/2028-12-20/
END:VEVENT
BEGIN:VEVENT
DTSTART;TZID=America/Chicago:20281221T093000
DTEND;TZID=America/Chicago:20281221T223000
DTSTAMP:20260425T211709
CREATED:20260112T180331Z
LAST-MODIFIED:20260317T190351Z
UID:10003629-1861003800-1861050600@fayaltwp.org
SUMMARY:Yoga
DESCRIPTION:
URL:https://fayaltwp.org/event/yoga-2-2/2028-12-21/
END:VEVENT
BEGIN:VEVENT
DTSTART;TZID=America/Chicago:20281221T183000
DTEND;TZID=America/Chicago:20281221T200000
DTSTAMP:20260425T211709
CREATED:20190917T020221Z
LAST-MODIFIED:20250110T151531Z
UID:10003108-1861036200-1861041600@fayaltwp.org
SUMMARY:Eveleth-Fayal Garden Club
DESCRIPTION:Meeting lengths may vary
URL:https://fayaltwp.org/event/eveleth-fayal-garden-club/2028-12-21/
END:VEVENT
BEGIN:VEVENT
DTSTART;TZID=America/Chicago:20281222T093000
DTEND;TZID=America/Chicago:20281222T103000
DTSTAMP:20260425T211709
CREATED:20240207T174449Z
LAST-MODIFIED:20260317T185548Z
UID:10002093-1861090200-1861093800@fayaltwp.org
SUMMARY:Aerobics
DESCRIPTION:
URL:https://fayaltwp.org/event/aerobics/2028-12-22/
END:VEVENT
BEGIN:VEVENT
DTSTART;TZID=America/Chicago:20281225T093000
DTEND;TZID=America/Chicago:20281225T103000
DTSTAMP:20260425T211709
CREATED:20240207T174449Z
LAST-MODIFIED:20260317T185548Z
UID:10002094-1861349400-1861353000@fayaltwp.org
SUMMARY:Aerobics
DESCRIPTION:
URL:https://fayaltwp.org/event/aerobics/2028-12-25/
END:VEVENT
BEGIN:VEVENT
DTSTART;TZID=America/Chicago:20281225T160000
DTEND;TZID=America/Chicago:20281225T183000
DTSTAMP:20260425T211709
CREATED:20250905T131821Z
LAST-MODIFIED:20250905T131821Z
UID:10003891-1861372800-1861381800@fayaltwp.org
SUMMARY:T.O.P.S.
DESCRIPTION:
URL:https://fayaltwp.org/event/t-o-p-s/2028-12-25/
END:VEVENT
BEGIN:VEVENT
DTSTART;TZID=America/Chicago:20281227T093000
DTEND;TZID=America/Chicago:20281227T103000
DTSTAMP:20260425T211709
CREATED:20240207T174449Z
LAST-MODIFIED:20260317T185548Z
UID:10002095-1861522200-1861525800@fayaltwp.org
SUMMARY:Aerobics
DESCRIPTION:
URL:https://fayaltwp.org/event/aerobics/2028-12-27/
END:VEVENT
BEGIN:VEVENT
DTSTART;TZID=America/Chicago:20281228T093000
DTEND;TZID=America/Chicago:20281228T223000
DTSTAMP:20260425T211709
CREATED:20260112T180331Z
LAST-MODIFIED:20260317T190351Z
UID:10003630-1861608600-1861655400@fayaltwp.org
SUMMARY:Yoga
DESCRIPTION:
URL:https://fayaltwp.org/event/yoga-2-2/2028-12-28/
END:VEVENT
BEGIN:VEVENT
DTSTART;TZID=America/Chicago:20281229T093000
DTEND;TZID=America/Chicago:20281229T103000
DTSTAMP:20260425T211709
CREATED:20240207T174449Z
LAST-MODIFIED:20260317T185548Z
UID:10002096-1861695000-1861698600@fayaltwp.org
SUMMARY:Aerobics
DESCRIPTION:
URL:https://fayaltwp.org/event/aerobics/2028-12-29/
END:VEVENT
BEGIN:VEVENT
DTSTART;TZID=America/Chicago:20290101T093000
DTEND;TZID=America/Chicago:20290101T103000
DTSTAMP:20260425T211709
CREATED:20240207T174449Z
LAST-MODIFIED:20260317T185548Z
UID:10002097-1861954200-1861957800@fayaltwp.org
SUMMARY:Aerobics
DESCRIPTION:
URL:https://fayaltwp.org/event/aerobics/2029-01-01/
END:VEVENT
BEGIN:VEVENT
DTSTART;TZID=America/Chicago:20290101T160000
DTEND;TZID=America/Chicago:20290101T183000
DTSTAMP:20260425T211709
CREATED:20250905T131821Z
LAST-MODIFIED:20250905T131821Z
UID:10003892-1861977600-1861986600@fayaltwp.org
SUMMARY:T.O.P.S.
DESCRIPTION:
URL:https://fayaltwp.org/event/t-o-p-s/2029-01-01/
END:VEVENT
BEGIN:VEVENT
DTSTART;TZID=America/Chicago:20290102T190000
DTEND;TZID=America/Chicago:20290102T203000
DTSTAMP:20260425T211709
CREATED:20240213T194504Z
LAST-MODIFIED:20250318T164658Z
UID:10002447-1862074800-1862080200@fayaltwp.org
SUMMARY:Town Board Meeting
DESCRIPTION:Meeting lengths may vary
URL:https://fayaltwp.org/event/town-board-meeting-3/2029-01-02/
END:VEVENT
BEGIN:VEVENT
DTSTART;TZID=America/Chicago:20290103T093000
DTEND;TZID=America/Chicago:20290103T103000
DTSTAMP:20260425T211709
CREATED:20240207T174449Z
LAST-MODIFIED:20260317T185548Z
UID:10002098-1862127000-1862130600@fayaltwp.org
SUMMARY:Aerobics
DESCRIPTION:
URL:https://fayaltwp.org/event/aerobics/2029-01-03/
END:VEVENT
BEGIN:VEVENT
DTSTART;TZID=America/Chicago:20290104T093000
DTEND;TZID=America/Chicago:20290104T223000
DTSTAMP:20260425T211709
CREATED:20260112T180331Z
LAST-MODIFIED:20260317T190351Z
UID:10003631-1862213400-1862260200@fayaltwp.org
SUMMARY:Yoga
DESCRIPTION:
URL:https://fayaltwp.org/event/yoga-2-2/2029-01-04/
END:VEVENT
BEGIN:VEVENT
DTSTART;TZID=America/Chicago:20290105T093000
DTEND;TZID=America/Chicago:20290105T103000
DTSTAMP:20260425T211709
CREATED:20240207T174449Z
LAST-MODIFIED:20260317T185548Z
UID:10002099-1862299800-1862303400@fayaltwp.org
SUMMARY:Aerobics
DESCRIPTION:
URL:https://fayaltwp.org/event/aerobics/2029-01-05/
END:VEVENT
BEGIN:VEVENT
DTSTART;TZID=America/Chicago:20290108T093000
DTEND;TZID=America/Chicago:20290108T103000
DTSTAMP:20260425T211709
CREATED:20240207T174449Z
LAST-MODIFIED:20260317T185548Z
UID:10002100-1862559000-1862562600@fayaltwp.org
SUMMARY:Aerobics
DESCRIPTION:
URL:https://fayaltwp.org/event/aerobics/2029-01-08/
END:VEVENT
BEGIN:VEVENT
DTSTART;TZID=America/Chicago:20290108T120000
DTEND;TZID=America/Chicago:20290108T140000
DTSTAMP:20260425T211709
CREATED:20240207T175425Z
LAST-MODIFIED:20240718T172046Z
UID:10002176-1862568000-1862575200@fayaltwp.org
SUMMARY:Sororiety Meeting
DESCRIPTION:
URL:https://fayaltwp.org/event/sororiety-meeting/2029-01-08/
END:VEVENT
BEGIN:VEVENT
DTSTART;TZID=America/Chicago:20290108T160000
DTEND;TZID=America/Chicago:20290108T183000
DTSTAMP:20260425T211709
CREATED:20250905T131821Z
LAST-MODIFIED:20250905T131821Z
UID:10003893-1862582400-1862591400@fayaltwp.org
SUMMARY:T.O.P.S.
DESCRIPTION:
URL:https://fayaltwp.org/event/t-o-p-s/2029-01-08/
END:VEVENT
BEGIN:VEVENT
DTSTART;TZID=America/Chicago:20290109T180000
DTEND;TZID=America/Chicago:20290109T190000
DTSTAMP:20260425T211709
CREATED:20240213T194019Z
LAST-MODIFIED:20240718T171231Z
UID:10002399-1862676000-1862679600@fayaltwp.org
SUMMARY:Public Utility Meetings
DESCRIPTION:Meeting lengths may vary
URL:https://fayaltwp.org/event/public-utility-meetings-2-2/2029-01-09/
END:VEVENT
BEGIN:VEVENT
DTSTART;TZID=America/Chicago:20290110T093000
DTEND;TZID=America/Chicago:20290110T103000
DTSTAMP:20260425T211709
CREATED:20240207T174449Z
LAST-MODIFIED:20260317T185548Z
UID:10002101-1862731800-1862735400@fayaltwp.org
SUMMARY:Aerobics
DESCRIPTION:
URL:https://fayaltwp.org/event/aerobics/2029-01-10/
END:VEVENT
END:VCALENDAR