BEGIN:VCALENDAR
VERSION:2.0
PRODID:-//Fayal Twp - ECPv6.15.17.1//NONSGML v1.0//EN
CALSCALE:GREGORIAN
METHOD:PUBLISH
X-WR-CALNAME:Fayal Twp
X-ORIGINAL-URL:https://fayaltwp.org
X-WR-CALDESC:Events for Fayal Twp
REFRESH-INTERVAL;VALUE=DURATION:PT1H
X-Robots-Tag:noindex
X-PUBLISHED-TTL:PT1H
BEGIN:VTIMEZONE
TZID:America/Chicago
BEGIN:DAYLIGHT
TZOFFSETFROM:-0600
TZOFFSETTO:-0500
TZNAME:CDT
DTSTART:20230312T080000
END:DAYLIGHT
BEGIN:STANDARD
TZOFFSETFROM:-0500
TZOFFSETTO:-0600
TZNAME:CST
DTSTART:20231105T070000
END:STANDARD
BEGIN:DAYLIGHT
TZOFFSETFROM:-0600
TZOFFSETTO:-0500
TZNAME:CDT
DTSTART:20240310T080000
END:DAYLIGHT
BEGIN:STANDARD
TZOFFSETFROM:-0500
TZOFFSETTO:-0600
TZNAME:CST
DTSTART:20241103T070000
END:STANDARD
BEGIN:DAYLIGHT
TZOFFSETFROM:-0600
TZOFFSETTO:-0500
TZNAME:CDT
DTSTART:20250309T080000
END:DAYLIGHT
BEGIN:STANDARD
TZOFFSETFROM:-0500
TZOFFSETTO:-0600
TZNAME:CST
DTSTART:20251102T070000
END:STANDARD
END:VTIMEZONE
BEGIN:VEVENT
DTSTART;TZID=America/Chicago:20240521T190000
DTEND;TZID=America/Chicago:20240521T203000
DTSTAMP:20260425T064628
CREATED:20230727T144614Z
LAST-MODIFIED:20250115T222032Z
UID:10001252-1716318000-1716323400@fayaltwp.org
SUMMARY:Town Board Meeting
DESCRIPTION:Meeting lengths may vary
URL:https://fayaltwp.org/event/town-board-meeting-2/2024-05-21/
END:VEVENT
BEGIN:VEVENT
DTSTART;TZID=America/Chicago:20240522T093000
DTEND;TZID=America/Chicago:20240522T103000
DTSTAMP:20260425T064628
CREATED:20240207T174449Z
LAST-MODIFIED:20260317T185548Z
UID:10001375-1716370200-1716373800@fayaltwp.org
SUMMARY:Aerobics
DESCRIPTION:
URL:https://fayaltwp.org/event/aerobics/2024-05-22/
END:VEVENT
BEGIN:VEVENT
DTSTART;TZID=America/Chicago:20240524T093000
DTEND;TZID=America/Chicago:20240524T103000
DTSTAMP:20260425T064628
CREATED:20240207T174449Z
LAST-MODIFIED:20260317T185548Z
UID:10001376-1716543000-1716546600@fayaltwp.org
SUMMARY:Aerobics
DESCRIPTION:
URL:https://fayaltwp.org/event/aerobics/2024-05-24/
END:VEVENT
BEGIN:VEVENT
DTSTART;VALUE=DATE:20240525
DTEND;VALUE=DATE:20240527
DTSTAMP:20260425T064628
CREATED:20240409T160530Z
LAST-MODIFIED:20240409T160530Z
UID:10002490-1716613200-1716699599@fayaltwp.org
SUMMARY:Town Hall Rented
DESCRIPTION:
URL:https://fayaltwp.org/event/town-hall-rented-53/
END:VEVENT
BEGIN:VEVENT
DTSTART;VALUE=DATE:20240527
DTEND;VALUE=DATE:20240529
DTSTAMP:20260425T064628
CREATED:20240409T160604Z
LAST-MODIFIED:20240409T160604Z
UID:10002491-1716786000-1716872399@fayaltwp.org
SUMMARY:Clerk's Office Closed- Memorial Day
DESCRIPTION:
URL:https://fayaltwp.org/event/clerks-office-closed-memorial-day/
END:VEVENT
BEGIN:VEVENT
DTSTART;TZID=America/Chicago:20240527T093000
DTEND;TZID=America/Chicago:20240527T103000
DTSTAMP:20260425T064628
CREATED:20240207T174449Z
LAST-MODIFIED:20260317T185548Z
UID:10001377-1716802200-1716805800@fayaltwp.org
SUMMARY:Aerobics
DESCRIPTION:
URL:https://fayaltwp.org/event/aerobics/2024-05-27/
END:VEVENT
BEGIN:VEVENT
DTSTART;TZID=America/Chicago:20240527T161500
DTEND;TZID=America/Chicago:20240527T183000
DTSTAMP:20260425T064628
CREATED:20190917T014302Z
LAST-MODIFIED:20220309T145134Z
UID:10001100-1716826500-1716834600@fayaltwp.org
SUMMARY:T.O.P.S Meeting
DESCRIPTION:Meeting length times may vary
URL:https://fayaltwp.org/event/t-o-p-s-meeting/2024-05-27/
END:VEVENT
BEGIN:VEVENT
DTSTART;TZID=America/Chicago:20240529T093000
DTEND;TZID=America/Chicago:20240529T103000
DTSTAMP:20260425T064628
CREATED:20240207T174449Z
LAST-MODIFIED:20260317T185548Z
UID:10001378-1716975000-1716978600@fayaltwp.org
SUMMARY:Aerobics
DESCRIPTION:
URL:https://fayaltwp.org/event/aerobics/2024-05-29/
END:VEVENT
BEGIN:VEVENT
DTSTART;TZID=America/Chicago:20240531T093000
DTEND;TZID=America/Chicago:20240531T103000
DTSTAMP:20260425T064628
CREATED:20240207T174449Z
LAST-MODIFIED:20260317T185548Z
UID:10001379-1717147800-1717151400@fayaltwp.org
SUMMARY:Aerobics
DESCRIPTION:
URL:https://fayaltwp.org/event/aerobics/2024-05-31/
END:VEVENT
BEGIN:VEVENT
DTSTART;VALUE=DATE:20240601
DTEND;VALUE=DATE:20240603
DTSTAMP:20260425T064628
CREATED:20240409T170344Z
LAST-MODIFIED:20240409T170344Z
UID:10002492-1717218000-1717304399@fayaltwp.org
SUMMARY:Town Hall Rented
DESCRIPTION:
URL:https://fayaltwp.org/event/town-hall-rented-54/
END:VEVENT
BEGIN:VEVENT
DTSTART;VALUE=DATE:20240602
DTEND;VALUE=DATE:20240604
DTSTAMP:20260425T064628
CREATED:20240409T170407Z
LAST-MODIFIED:20240409T170407Z
UID:10002493-1717304400-1717390799@fayaltwp.org
SUMMARY:Town Hall Rented
DESCRIPTION:
URL:https://fayaltwp.org/event/town-hall-rented-55/
END:VEVENT
BEGIN:VEVENT
DTSTART;TZID=America/Chicago:20240603T093000
DTEND;TZID=America/Chicago:20240603T103000
DTSTAMP:20260425T064628
CREATED:20240207T174449Z
LAST-MODIFIED:20260317T185548Z
UID:10001380-1717407000-1717410600@fayaltwp.org
SUMMARY:Aerobics
DESCRIPTION:
URL:https://fayaltwp.org/event/aerobics/2024-06-03/
END:VEVENT
BEGIN:VEVENT
DTSTART;TZID=America/Chicago:20240603T161500
DTEND;TZID=America/Chicago:20240603T183000
DTSTAMP:20260425T064628
CREATED:20190917T014302Z
LAST-MODIFIED:20220309T145134Z
UID:10001101-1717431300-1717439400@fayaltwp.org
SUMMARY:T.O.P.S Meeting
DESCRIPTION:Meeting length times may vary
URL:https://fayaltwp.org/event/t-o-p-s-meeting/2024-06-03/
END:VEVENT
BEGIN:VEVENT
DTSTART;TZID=America/Chicago:20240604T190000
DTEND;TZID=America/Chicago:20240604T203000
DTSTAMP:20260425T064628
CREATED:20240213T194504Z
LAST-MODIFIED:20250318T164658Z
UID:10001188-1717527600-1717533000@fayaltwp.org
SUMMARY:Town Board Meeting
DESCRIPTION:Meeting lengths may vary
URL:https://fayaltwp.org/event/town-board-meeting-3/2024-06-04/
END:VEVENT
BEGIN:VEVENT
DTSTART;TZID=America/Chicago:20240605T093000
DTEND;TZID=America/Chicago:20240605T103000
DTSTAMP:20260425T064628
CREATED:20240207T174449Z
LAST-MODIFIED:20260317T185548Z
UID:10001381-1717579800-1717583400@fayaltwp.org
SUMMARY:Aerobics
DESCRIPTION:
URL:https://fayaltwp.org/event/aerobics/2024-06-05/
END:VEVENT
BEGIN:VEVENT
DTSTART;TZID=America/Chicago:20240607T093000
DTEND;TZID=America/Chicago:20240607T103000
DTSTAMP:20260425T064628
CREATED:20240207T174449Z
LAST-MODIFIED:20260317T185548Z
UID:10001382-1717752600-1717756200@fayaltwp.org
SUMMARY:Aerobics
DESCRIPTION:
URL:https://fayaltwp.org/event/aerobics/2024-06-07/
END:VEVENT
BEGIN:VEVENT
DTSTART;TZID=America/Chicago:20240610T093000
DTEND;TZID=America/Chicago:20240610T103000
DTSTAMP:20260425T064628
CREATED:20240207T174449Z
LAST-MODIFIED:20260317T185548Z
UID:10001383-1718011800-1718015400@fayaltwp.org
SUMMARY:Aerobics
DESCRIPTION:
URL:https://fayaltwp.org/event/aerobics/2024-06-10/
END:VEVENT
BEGIN:VEVENT
DTSTART;TZID=America/Chicago:20240610T120000
DTEND;TZID=America/Chicago:20240610T140000
DTSTAMP:20260425T064628
CREATED:20240207T175425Z
LAST-MODIFIED:20240718T172046Z
UID:10002121-1718020800-1718028000@fayaltwp.org
SUMMARY:Sororiety Meeting
DESCRIPTION:
URL:https://fayaltwp.org/event/sororiety-meeting/2024-06-10/
END:VEVENT
BEGIN:VEVENT
DTSTART;TZID=America/Chicago:20240610T161500
DTEND;TZID=America/Chicago:20240610T183000
DTSTAMP:20260425T064628
CREATED:20190917T014302Z
LAST-MODIFIED:20220309T145134Z
UID:10001102-1718036100-1718044200@fayaltwp.org
SUMMARY:T.O.P.S Meeting
DESCRIPTION:Meeting length times may vary
URL:https://fayaltwp.org/event/t-o-p-s-meeting/2024-06-10/
END:VEVENT
BEGIN:VEVENT
DTSTART;TZID=America/Chicago:20240611T180000
DTEND;TZID=America/Chicago:20240611T190000
DTSTAMP:20260425T064628
CREATED:20240213T194019Z
LAST-MODIFIED:20240718T171231Z
UID:10002344-1718128800-1718132400@fayaltwp.org
SUMMARY:Public Utility Meetings
DESCRIPTION:Meeting lengths may vary
URL:https://fayaltwp.org/event/public-utility-meetings-2-2/2024-06-11/
END:VEVENT
BEGIN:VEVENT
DTSTART;TZID=America/Chicago:20240612T093000
DTEND;TZID=America/Chicago:20240612T103000
DTSTAMP:20260425T064628
CREATED:20240207T174449Z
LAST-MODIFIED:20260317T185548Z
UID:10001384-1718184600-1718188200@fayaltwp.org
SUMMARY:Aerobics
DESCRIPTION:
URL:https://fayaltwp.org/event/aerobics/2024-06-12/
END:VEVENT
BEGIN:VEVENT
DTSTART;VALUE=DATE:20240614
DTEND;VALUE=DATE:20240616
DTSTAMP:20260425T064628
CREATED:20240409T170619Z
LAST-MODIFIED:20240409T171315Z
UID:10002496-1718341200-1718427599@fayaltwp.org
SUMMARY:Town Hall Rented
DESCRIPTION:
URL:https://fayaltwp.org/event/town-hall-rental/
END:VEVENT
BEGIN:VEVENT
DTSTART;VALUE=DATE:20240615
DTEND;VALUE=DATE:20240617
DTSTAMP:20260425T064628
CREATED:20240409T170646Z
LAST-MODIFIED:20240409T171310Z
UID:10002497-1718427600-1718513999@fayaltwp.org
SUMMARY:Town Hall Rented
DESCRIPTION:
URL:https://fayaltwp.org/event/town-hall-rental-2/
END:VEVENT
BEGIN:VEVENT
DTSTART;VALUE=DATE:20240616
DTEND;VALUE=DATE:20240618
DTSTAMP:20260425T064628
CREATED:20240507T171248Z
LAST-MODIFIED:20240507T171248Z
UID:10002736-1718514000-1718600399@fayaltwp.org
SUMMARY:Town Hall Rented
DESCRIPTION:
URL:https://fayaltwp.org/event/town-hall-rented-57/
END:VEVENT
BEGIN:VEVENT
DTSTART;TZID=America/Chicago:20240616T173000
DTEND;TZID=America/Chicago:20240616T173000
DTSTAMP:20260425T064629
CREATED:20190917T020012Z
LAST-MODIFIED:20260317T185333Z
UID:10004107-1718559000-1718559000@fayaltwp.org
SUMMARY:Planning Commission Meeting
DESCRIPTION:Meeting lengths may vary
URL:https://fayaltwp.org/event/fayal-planning-commission/2024-06-16/
END:VEVENT
BEGIN:VEVENT
DTSTART;TZID=America/Chicago:20240617T093000
DTEND;TZID=America/Chicago:20240617T103000
DTSTAMP:20260425T064629
CREATED:20240207T174449Z
LAST-MODIFIED:20260317T185548Z
UID:10001386-1718616600-1718620200@fayaltwp.org
SUMMARY:Aerobics
DESCRIPTION:
URL:https://fayaltwp.org/event/aerobics/2024-06-17/
END:VEVENT
BEGIN:VEVENT
DTSTART;TZID=America/Chicago:20240617T161500
DTEND;TZID=America/Chicago:20240617T183000
DTSTAMP:20260425T064629
CREATED:20190917T014302Z
LAST-MODIFIED:20220309T145134Z
UID:10001103-1718640900-1718649000@fayaltwp.org
SUMMARY:T.O.P.S Meeting
DESCRIPTION:Meeting length times may vary
URL:https://fayaltwp.org/event/t-o-p-s-meeting/2024-06-17/
END:VEVENT
BEGIN:VEVENT
DTSTART;TZID=America/Chicago:20240618T190000
DTEND;TZID=America/Chicago:20240618T203000
DTSTAMP:20260425T064629
CREATED:20230727T144614Z
LAST-MODIFIED:20250115T222032Z
UID:10001253-1718737200-1718742600@fayaltwp.org
SUMMARY:Town Board Meeting
DESCRIPTION:Meeting lengths may vary
URL:https://fayaltwp.org/event/town-board-meeting-2/2024-06-18/
END:VEVENT
BEGIN:VEVENT
DTSTART;VALUE=DATE:20240619
DTEND;VALUE=DATE:20240621
DTSTAMP:20260425T064629
CREATED:20240619T171351Z
LAST-MODIFIED:20240409T172254Z
UID:10002501-1718773200-1718859599@fayaltwp.org
SUMMARY:Clerk's Office Closed- Juneteeth Holiday
DESCRIPTION:
URL:https://fayaltwp.org/event/clerks-office-closed-juneteeth-holiday/
END:VEVENT
BEGIN:VEVENT
DTSTART;TZID=America/Chicago:20240619T093000
DTEND;TZID=America/Chicago:20240619T103000
DTSTAMP:20260425T064629
CREATED:20240207T174449Z
LAST-MODIFIED:20260317T185548Z
UID:10001387-1718789400-1718793000@fayaltwp.org
SUMMARY:Aerobics
DESCRIPTION:
URL:https://fayaltwp.org/event/aerobics/2024-06-19/
END:VEVENT
END:VCALENDAR