BEGIN:VCALENDAR
VERSION:2.0
PRODID:-//Fayal Twp - ECPv6.15.17.1//NONSGML v1.0//EN
CALSCALE:GREGORIAN
METHOD:PUBLISH
X-WR-CALNAME:Fayal Twp
X-ORIGINAL-URL:https://fayaltwp.org
X-WR-CALDESC:Events for Fayal Twp
REFRESH-INTERVAL;VALUE=DURATION:PT1H
X-Robots-Tag:noindex
X-PUBLISHED-TTL:PT1H
BEGIN:VTIMEZONE
TZID:America/Chicago
BEGIN:DAYLIGHT
TZOFFSETFROM:-0600
TZOFFSETTO:-0500
TZNAME:CDT
DTSTART:20230312T080000
END:DAYLIGHT
BEGIN:STANDARD
TZOFFSETFROM:-0500
TZOFFSETTO:-0600
TZNAME:CST
DTSTART:20231105T070000
END:STANDARD
BEGIN:DAYLIGHT
TZOFFSETFROM:-0600
TZOFFSETTO:-0500
TZNAME:CDT
DTSTART:20240310T080000
END:DAYLIGHT
BEGIN:STANDARD
TZOFFSETFROM:-0500
TZOFFSETTO:-0600
TZNAME:CST
DTSTART:20241103T070000
END:STANDARD
BEGIN:DAYLIGHT
TZOFFSETFROM:-0600
TZOFFSETTO:-0500
TZNAME:CDT
DTSTART:20250309T080000
END:DAYLIGHT
BEGIN:STANDARD
TZOFFSETFROM:-0500
TZOFFSETTO:-0600
TZNAME:CST
DTSTART:20251102T070000
END:STANDARD
END:VTIMEZONE
BEGIN:VEVENT
DTSTART;TZID=America/Chicago:20240219T093000
DTEND;TZID=America/Chicago:20240219T103000
DTSTAMP:20260425T102451
CREATED:20240207T174449Z
LAST-MODIFIED:20260317T185548Z
UID:10001335-1708335000-1708338600@fayaltwp.org
SUMMARY:Aerobics
DESCRIPTION:
URL:https://fayaltwp.org/event/aerobics/2024-02-19/
END:VEVENT
BEGIN:VEVENT
DTSTART;TZID=America/Chicago:20240219T161500
DTEND;TZID=America/Chicago:20240219T183000
DTSTAMP:20260425T102451
CREATED:20190917T014302Z
LAST-MODIFIED:20220309T145134Z
UID:10001086-1708359300-1708367400@fayaltwp.org
SUMMARY:T.O.P.S Meeting
DESCRIPTION:Meeting length times may vary
URL:https://fayaltwp.org/event/t-o-p-s-meeting/2024-02-19/
END:VEVENT
BEGIN:VEVENT
DTSTART;TZID=America/Chicago:20240220T190000
DTEND;TZID=America/Chicago:20240220T203000
DTSTAMP:20260425T102451
CREATED:20230727T144614Z
LAST-MODIFIED:20250115T222032Z
UID:10001249-1708455600-1708461000@fayaltwp.org
SUMMARY:Town Board Meeting
DESCRIPTION:Meeting lengths may vary
URL:https://fayaltwp.org/event/town-board-meeting-2/2024-02-20/
END:VEVENT
BEGIN:VEVENT
DTSTART;TZID=America/Chicago:20240221T093000
DTEND;TZID=America/Chicago:20240221T103000
DTSTAMP:20260425T102451
CREATED:20240207T174449Z
LAST-MODIFIED:20260317T185548Z
UID:10001336-1708507800-1708511400@fayaltwp.org
SUMMARY:Aerobics
DESCRIPTION:
URL:https://fayaltwp.org/event/aerobics/2024-02-21/
END:VEVENT
BEGIN:VEVENT
DTSTART;TZID=America/Chicago:20240223T093000
DTEND;TZID=America/Chicago:20240223T103000
DTSTAMP:20260425T102451
CREATED:20240207T174449Z
LAST-MODIFIED:20260317T185548Z
UID:10001337-1708680600-1708684200@fayaltwp.org
SUMMARY:Aerobics
DESCRIPTION:
URL:https://fayaltwp.org/event/aerobics/2024-02-23/
END:VEVENT
BEGIN:VEVENT
DTSTART;VALUE=DATE:20240225
DTEND;VALUE=DATE:20240227
DTSTAMP:20260425T102451
CREATED:20240207T174731Z
LAST-MODIFIED:20240207T174731Z
UID:10002114-1708837200-1708923599@fayaltwp.org
SUMMARY:Town Hall Rented
DESCRIPTION:
URL:https://fayaltwp.org/event/town-hall-rented-36/
END:VEVENT
BEGIN:VEVENT
DTSTART;TZID=America/Chicago:20240226T093000
DTEND;TZID=America/Chicago:20240226T103000
DTSTAMP:20260425T102451
CREATED:20240207T174449Z
LAST-MODIFIED:20260317T185548Z
UID:10001338-1708939800-1708943400@fayaltwp.org
SUMMARY:Aerobics
DESCRIPTION:
URL:https://fayaltwp.org/event/aerobics/2024-02-26/
END:VEVENT
BEGIN:VEVENT
DTSTART;TZID=America/Chicago:20240226T161500
DTEND;TZID=America/Chicago:20240226T183000
DTSTAMP:20260425T102451
CREATED:20190917T014302Z
LAST-MODIFIED:20220309T145134Z
UID:10001087-1708964100-1708972200@fayaltwp.org
SUMMARY:T.O.P.S Meeting
DESCRIPTION:Meeting length times may vary
URL:https://fayaltwp.org/event/t-o-p-s-meeting/2024-02-26/
END:VEVENT
BEGIN:VEVENT
DTSTART;TZID=America/Chicago:20240228T093000
DTEND;TZID=America/Chicago:20240228T103000
DTSTAMP:20260425T102451
CREATED:20240207T174449Z
LAST-MODIFIED:20260317T185548Z
UID:10001339-1709112600-1709116200@fayaltwp.org
SUMMARY:Aerobics
DESCRIPTION:
URL:https://fayaltwp.org/event/aerobics/2024-02-28/
END:VEVENT
BEGIN:VEVENT
DTSTART;TZID=America/Chicago:20240229T180000
DTEND;TZID=America/Chicago:20240229T200000
DTSTAMP:20260425T102451
CREATED:20240207T175804Z
LAST-MODIFIED:20240207T175804Z
UID:10002220-1709229600-1709236800@fayaltwp.org
SUMMARY:Town Hall Rented
DESCRIPTION:
URL:https://fayaltwp.org/event/town-hall-rented-37/
END:VEVENT
BEGIN:VEVENT
DTSTART;VALUE=DATE:20240301
DTEND;VALUE=DATE:20240304
DTSTAMP:20260425T102451
CREATED:20240207T191632Z
LAST-MODIFIED:20240207T191632Z
UID:10002221-1709269200-1709441999@fayaltwp.org
SUMMARY:Town Hall Rented - Rummage Sale
DESCRIPTION:
URL:https://fayaltwp.org/event/town-hall-rented-rummage-sale-2/
END:VEVENT
BEGIN:VEVENT
DTSTART;TZID=America/Chicago:20240304T093000
DTEND;TZID=America/Chicago:20240304T103000
DTSTAMP:20260425T102451
CREATED:20240207T174449Z
LAST-MODIFIED:20260317T185548Z
UID:10001341-1709544600-1709548200@fayaltwp.org
SUMMARY:Aerobics
DESCRIPTION:
URL:https://fayaltwp.org/event/aerobics/2024-03-04/
END:VEVENT
BEGIN:VEVENT
DTSTART;TZID=America/Chicago:20240304T161500
DTEND;TZID=America/Chicago:20240304T183000
DTSTAMP:20260425T102451
CREATED:20190917T014302Z
LAST-MODIFIED:20220309T145134Z
UID:10001088-1709568900-1709577000@fayaltwp.org
SUMMARY:T.O.P.S Meeting
DESCRIPTION:Meeting length times may vary
URL:https://fayaltwp.org/event/t-o-p-s-meeting/2024-03-04/
END:VEVENT
BEGIN:VEVENT
DTSTART;TZID=America/Chicago:20240305T070000
DTEND;TZID=America/Chicago:20240305T200000
DTSTAMP:20260425T102451
CREATED:20240207T174845Z
LAST-MODIFIED:20240207T174845Z
UID:10002115-1709622000-1709668800@fayaltwp.org
SUMMARY:Presidential Primary Election
DESCRIPTION:
URL:https://fayaltwp.org/event/presidential-primary-election/
END:VEVENT
BEGIN:VEVENT
DTSTART;TZID=America/Chicago:20240305T190000
DTEND;TZID=America/Chicago:20240305T203000
DTSTAMP:20260425T102451
CREATED:20240213T194504Z
LAST-MODIFIED:20250318T164658Z
UID:10001185-1709665200-1709670600@fayaltwp.org
SUMMARY:Town Board Meeting
DESCRIPTION:Meeting lengths may vary
URL:https://fayaltwp.org/event/town-board-meeting-3/2024-03-05/
END:VEVENT
BEGIN:VEVENT
DTSTART;TZID=America/Chicago:20240306T080000
DTEND;TZID=America/Chicago:20240306T150000
DTSTAMP:20260425T102451
CREATED:20240207T192005Z
LAST-MODIFIED:20240207T192005Z
UID:10002227-1709712000-1709737200@fayaltwp.org
SUMMARY:MMUA RSG Training
DESCRIPTION:
URL:https://fayaltwp.org/event/mmua-rsg-training/
END:VEVENT
BEGIN:VEVENT
DTSTART;TZID=America/Chicago:20240308T093000
DTEND;TZID=America/Chicago:20240308T103000
DTSTAMP:20260425T102451
CREATED:20240207T174449Z
LAST-MODIFIED:20260317T185548Z
UID:10001343-1709890200-1709893800@fayaltwp.org
SUMMARY:Aerobics
DESCRIPTION:
URL:https://fayaltwp.org/event/aerobics/2024-03-08/
END:VEVENT
BEGIN:VEVENT
DTSTART;VALUE=DATE:20240310
DTEND;VALUE=DATE:20240312
DTSTAMP:20260425T102451
CREATED:20240207T191726Z
LAST-MODIFIED:20240207T191726Z
UID:10002222-1710046800-1710133199@fayaltwp.org
SUMMARY:Town Hall Rented
DESCRIPTION:
URL:https://fayaltwp.org/event/town-hall-rented-38/
END:VEVENT
BEGIN:VEVENT
DTSTART;TZID=America/Chicago:20240311T093000
DTEND;TZID=America/Chicago:20240311T103000
DTSTAMP:20260425T102451
CREATED:20240207T174449Z
LAST-MODIFIED:20260317T185548Z
UID:10001344-1710149400-1710153000@fayaltwp.org
SUMMARY:Aerobics
DESCRIPTION:
URL:https://fayaltwp.org/event/aerobics/2024-03-11/
END:VEVENT
BEGIN:VEVENT
DTSTART;TZID=America/Chicago:20240311T120000
DTEND;TZID=America/Chicago:20240311T140000
DTSTAMP:20260425T102451
CREATED:20240207T175425Z
LAST-MODIFIED:20240718T172046Z
UID:10002118-1710158400-1710165600@fayaltwp.org
SUMMARY:Sororiety Meeting
DESCRIPTION:
URL:https://fayaltwp.org/event/sororiety-meeting/2024-03-11/
END:VEVENT
BEGIN:VEVENT
DTSTART;TZID=America/Chicago:20240311T161500
DTEND;TZID=America/Chicago:20240311T183000
DTSTAMP:20260425T102451
CREATED:20190917T014302Z
LAST-MODIFIED:20220309T145134Z
UID:10001089-1710173700-1710181800@fayaltwp.org
SUMMARY:T.O.P.S Meeting
DESCRIPTION:Meeting length times may vary
URL:https://fayaltwp.org/event/t-o-p-s-meeting/2024-03-11/
END:VEVENT
BEGIN:VEVENT
DTSTART;TZID=America/Chicago:20240312T190000
DTEND;TZID=America/Chicago:20240312T203000
DTSTAMP:20260425T102451
CREATED:20240213T194658Z
LAST-MODIFIED:20240213T194658Z
UID:10000510-1710270000-1710275400@fayaltwp.org
SUMMARY:Annual Township Meeting
DESCRIPTION:
URL:https://fayaltwp.org/event/annual-township-meeting-2/
END:VEVENT
BEGIN:VEVENT
DTSTART;TZID=America/Chicago:20240313T093000
DTEND;TZID=America/Chicago:20240313T103000
DTSTAMP:20260425T102451
CREATED:20240207T174449Z
LAST-MODIFIED:20260317T185548Z
UID:10001345-1710322200-1710325800@fayaltwp.org
SUMMARY:Aerobics
DESCRIPTION:
URL:https://fayaltwp.org/event/aerobics/2024-03-13/
END:VEVENT
BEGIN:VEVENT
DTSTART;TZID=America/Chicago:20240315T093000
DTEND;TZID=America/Chicago:20240315T103000
DTSTAMP:20260425T102451
CREATED:20240207T174449Z
LAST-MODIFIED:20260317T185548Z
UID:10001346-1710495000-1710498600@fayaltwp.org
SUMMARY:Aerobics
DESCRIPTION:
URL:https://fayaltwp.org/event/aerobics/2024-03-15/
END:VEVENT
BEGIN:VEVENT
DTSTART;VALUE=DATE:20240316
DTEND;VALUE=DATE:20240318
DTSTAMP:20260425T102451
CREATED:20240207T191751Z
LAST-MODIFIED:20240207T191751Z
UID:10002223-1710565200-1710651599@fayaltwp.org
SUMMARY:Town Hall Rented
DESCRIPTION:
URL:https://fayaltwp.org/event/town-hall-rented-39/
END:VEVENT
BEGIN:VEVENT
DTSTART;TZID=America/Chicago:20240316T173000
DTEND;TZID=America/Chicago:20240316T173000
DTSTAMP:20260425T102451
CREATED:20190917T020012Z
LAST-MODIFIED:20260317T185333Z
UID:10004104-1710610200-1710610200@fayaltwp.org
SUMMARY:Planning Commission Meeting
DESCRIPTION:Meeting lengths may vary
URL:https://fayaltwp.org/event/fayal-planning-commission/2024-03-16/
END:VEVENT
BEGIN:VEVENT
DTSTART;VALUE=DATE:20240317
DTEND;VALUE=DATE:20240319
DTSTAMP:20260425T102451
CREATED:20240207T191817Z
LAST-MODIFIED:20240207T191817Z
UID:10002224-1710651600-1710737999@fayaltwp.org
SUMMARY:Town Hall Rented
DESCRIPTION:
URL:https://fayaltwp.org/event/town-hall-rented-40/
END:VEVENT
BEGIN:VEVENT
DTSTART;TZID=America/Chicago:20240318T093000
DTEND;TZID=America/Chicago:20240318T103000
DTSTAMP:20260425T102451
CREATED:20240207T174449Z
LAST-MODIFIED:20260317T185548Z
UID:10001347-1710754200-1710757800@fayaltwp.org
SUMMARY:Aerobics
DESCRIPTION:
URL:https://fayaltwp.org/event/aerobics/2024-03-18/
END:VEVENT
BEGIN:VEVENT
DTSTART;TZID=America/Chicago:20240318T161500
DTEND;TZID=America/Chicago:20240318T183000
DTSTAMP:20260425T102451
CREATED:20190917T014302Z
LAST-MODIFIED:20220309T145134Z
UID:10001090-1710778500-1710786600@fayaltwp.org
SUMMARY:T.O.P.S Meeting
DESCRIPTION:Meeting length times may vary
URL:https://fayaltwp.org/event/t-o-p-s-meeting/2024-03-18/
END:VEVENT
BEGIN:VEVENT
DTSTART;TZID=America/Chicago:20240319T190000
DTEND;TZID=America/Chicago:20240319T203000
DTSTAMP:20260425T102451
CREATED:20230727T144614Z
LAST-MODIFIED:20250115T222032Z
UID:10001250-1710874800-1710880200@fayaltwp.org
SUMMARY:Town Board Meeting
DESCRIPTION:Meeting lengths may vary
URL:https://fayaltwp.org/event/town-board-meeting-2/2024-03-19/
END:VEVENT
END:VCALENDAR