BEGIN:VCALENDAR
VERSION:2.0
PRODID:-//Fayal Twp - ECPv6.15.17.1//NONSGML v1.0//EN
CALSCALE:GREGORIAN
METHOD:PUBLISH
X-ORIGINAL-URL:https://fayaltwp.org
X-WR-CALDESC:Events for Fayal Twp
REFRESH-INTERVAL;VALUE=DURATION:PT1H
X-Robots-Tag:noindex
X-PUBLISHED-TTL:PT1H
BEGIN:VTIMEZONE
TZID:America/Chicago
BEGIN:DAYLIGHT
TZOFFSETFROM:-0600
TZOFFSETTO:-0500
TZNAME:CDT
DTSTART:20260308T080000
END:DAYLIGHT
BEGIN:STANDARD
TZOFFSETFROM:-0500
TZOFFSETTO:-0600
TZNAME:CST
DTSTART:20261101T070000
END:STANDARD
BEGIN:DAYLIGHT
TZOFFSETFROM:-0600
TZOFFSETTO:-0500
TZNAME:CDT
DTSTART:20270314T080000
END:DAYLIGHT
BEGIN:STANDARD
TZOFFSETFROM:-0500
TZOFFSETTO:-0600
TZNAME:CST
DTSTART:20271107T070000
END:STANDARD
BEGIN:DAYLIGHT
TZOFFSETFROM:-0600
TZOFFSETTO:-0500
TZNAME:CDT
DTSTART:20280312T080000
END:DAYLIGHT
BEGIN:STANDARD
TZOFFSETFROM:-0500
TZOFFSETTO:-0600
TZNAME:CST
DTSTART:20281105T070000
END:STANDARD
END:VTIMEZONE
BEGIN:VEVENT
DTSTART;TZID=America/Chicago:20270819T093000
DTEND;TZID=America/Chicago:20270819T223000
DTSTAMP:20260425T071222
CREATED:20260112T180331Z
LAST-MODIFIED:20260317T190351Z
UID:10003559-1818667800-1818714600@fayaltwp.org
SUMMARY:Yoga
DESCRIPTION:
URL:https://fayaltwp.org/event/yoga-2-2/2027-08-19/
END:VEVENT
BEGIN:VEVENT
DTSTART;TZID=America/Chicago:20270819T183000
DTEND;TZID=America/Chicago:20270819T200000
DTSTAMP:20260425T071222
CREATED:20190917T020221Z
LAST-MODIFIED:20250110T151531Z
UID:10003096-1818700200-1818705600@fayaltwp.org
SUMMARY:Eveleth-Fayal Garden Club
DESCRIPTION:Meeting lengths may vary
URL:https://fayaltwp.org/event/eveleth-fayal-garden-club/2027-08-19/
END:VEVENT
BEGIN:VEVENT
DTSTART;TZID=America/Chicago:20270820T093000
DTEND;TZID=America/Chicago:20270820T103000
DTSTAMP:20260425T071222
CREATED:20240207T174449Z
LAST-MODIFIED:20260317T185548Z
UID:10001883-1818754200-1818757800@fayaltwp.org
SUMMARY:Aerobics
DESCRIPTION:
URL:https://fayaltwp.org/event/aerobics/2027-08-20/
END:VEVENT
BEGIN:VEVENT
DTSTART;TZID=America/Chicago:20270823T093000
DTEND;TZID=America/Chicago:20270823T103000
DTSTAMP:20260425T071222
CREATED:20240207T174449Z
LAST-MODIFIED:20260317T185548Z
UID:10001884-1819013400-1819017000@fayaltwp.org
SUMMARY:Aerobics
DESCRIPTION:
URL:https://fayaltwp.org/event/aerobics/2027-08-23/
END:VEVENT
BEGIN:VEVENT
DTSTART;TZID=America/Chicago:20270823T160000
DTEND;TZID=America/Chicago:20270823T183000
DTSTAMP:20260425T071222
CREATED:20250905T131821Z
LAST-MODIFIED:20250905T131821Z
UID:10003821-1819036800-1819045800@fayaltwp.org
SUMMARY:T.O.P.S.
DESCRIPTION:
URL:https://fayaltwp.org/event/t-o-p-s/2027-08-23/
END:VEVENT
BEGIN:VEVENT
DTSTART;TZID=America/Chicago:20270825T093000
DTEND;TZID=America/Chicago:20270825T103000
DTSTAMP:20260425T071222
CREATED:20240207T174449Z
LAST-MODIFIED:20260317T185548Z
UID:10001885-1819186200-1819189800@fayaltwp.org
SUMMARY:Aerobics
DESCRIPTION:
URL:https://fayaltwp.org/event/aerobics/2027-08-25/
END:VEVENT
BEGIN:VEVENT
DTSTART;TZID=America/Chicago:20270826T093000
DTEND;TZID=America/Chicago:20270826T223000
DTSTAMP:20260425T071222
CREATED:20260112T180331Z
LAST-MODIFIED:20260317T190351Z
UID:10003560-1819272600-1819319400@fayaltwp.org
SUMMARY:Yoga
DESCRIPTION:
URL:https://fayaltwp.org/event/yoga-2-2/2027-08-26/
END:VEVENT
BEGIN:VEVENT
DTSTART;TZID=America/Chicago:20270827T093000
DTEND;TZID=America/Chicago:20270827T103000
DTSTAMP:20260425T071222
CREATED:20240207T174449Z
LAST-MODIFIED:20260317T185548Z
UID:10001886-1819359000-1819362600@fayaltwp.org
SUMMARY:Aerobics
DESCRIPTION:
URL:https://fayaltwp.org/event/aerobics/2027-08-27/
END:VEVENT
BEGIN:VEVENT
DTSTART;TZID=America/Chicago:20270830T093000
DTEND;TZID=America/Chicago:20270830T103000
DTSTAMP:20260425T071222
CREATED:20240207T174449Z
LAST-MODIFIED:20260317T185548Z
UID:10001887-1819618200-1819621800@fayaltwp.org
SUMMARY:Aerobics
DESCRIPTION:
URL:https://fayaltwp.org/event/aerobics/2027-08-30/
END:VEVENT
BEGIN:VEVENT
DTSTART;TZID=America/Chicago:20270830T160000
DTEND;TZID=America/Chicago:20270830T183000
DTSTAMP:20260425T071222
CREATED:20250905T131821Z
LAST-MODIFIED:20250905T131821Z
UID:10003822-1819641600-1819650600@fayaltwp.org
SUMMARY:T.O.P.S.
DESCRIPTION:
URL:https://fayaltwp.org/event/t-o-p-s/2027-08-30/
END:VEVENT
BEGIN:VEVENT
DTSTART;TZID=America/Chicago:20270901T093000
DTEND;TZID=America/Chicago:20270901T103000
DTSTAMP:20260425T071222
CREATED:20240207T174449Z
LAST-MODIFIED:20260317T185548Z
UID:10001888-1819791000-1819794600@fayaltwp.org
SUMMARY:Aerobics
DESCRIPTION:
URL:https://fayaltwp.org/event/aerobics/2027-09-01/
END:VEVENT
BEGIN:VEVENT
DTSTART;TZID=America/Chicago:20270902T093000
DTEND;TZID=America/Chicago:20270902T223000
DTSTAMP:20260425T071222
CREATED:20260112T180331Z
LAST-MODIFIED:20260317T190351Z
UID:10003561-1819877400-1819924200@fayaltwp.org
SUMMARY:Yoga
DESCRIPTION:
URL:https://fayaltwp.org/event/yoga-2-2/2027-09-02/
END:VEVENT
BEGIN:VEVENT
DTSTART;TZID=America/Chicago:20270903T093000
DTEND;TZID=America/Chicago:20270903T103000
DTSTAMP:20260425T071222
CREATED:20240207T174449Z
LAST-MODIFIED:20260317T185548Z
UID:10001889-1819963800-1819967400@fayaltwp.org
SUMMARY:Aerobics
DESCRIPTION:
URL:https://fayaltwp.org/event/aerobics/2027-09-03/
END:VEVENT
BEGIN:VEVENT
DTSTART;TZID=America/Chicago:20270906T093000
DTEND;TZID=America/Chicago:20270906T103000
DTSTAMP:20260425T071222
CREATED:20240207T174449Z
LAST-MODIFIED:20260317T185548Z
UID:10001890-1820223000-1820226600@fayaltwp.org
SUMMARY:Aerobics
DESCRIPTION:
URL:https://fayaltwp.org/event/aerobics/2027-09-06/
END:VEVENT
BEGIN:VEVENT
DTSTART;TZID=America/Chicago:20270906T160000
DTEND;TZID=America/Chicago:20270906T183000
DTSTAMP:20260425T071222
CREATED:20250905T131821Z
LAST-MODIFIED:20250905T131821Z
UID:10003823-1820246400-1820255400@fayaltwp.org
SUMMARY:T.O.P.S.
DESCRIPTION:
URL:https://fayaltwp.org/event/t-o-p-s/2027-09-06/
END:VEVENT
BEGIN:VEVENT
DTSTART;TZID=America/Chicago:20270907T190000
DTEND;TZID=America/Chicago:20270907T203000
DTSTAMP:20260425T071222
CREATED:20240213T194504Z
LAST-MODIFIED:20250318T164658Z
UID:10002431-1820343600-1820349000@fayaltwp.org
SUMMARY:Town Board Meeting
DESCRIPTION:Meeting lengths may vary
URL:https://fayaltwp.org/event/town-board-meeting-3/2027-09-07/
END:VEVENT
BEGIN:VEVENT
DTSTART;TZID=America/Chicago:20270908T093000
DTEND;TZID=America/Chicago:20270908T103000
DTSTAMP:20260425T071222
CREATED:20240207T174449Z
LAST-MODIFIED:20260317T185548Z
UID:10001891-1820395800-1820399400@fayaltwp.org
SUMMARY:Aerobics
DESCRIPTION:
URL:https://fayaltwp.org/event/aerobics/2027-09-08/
END:VEVENT
BEGIN:VEVENT
DTSTART;TZID=America/Chicago:20270909T093000
DTEND;TZID=America/Chicago:20270909T223000
DTSTAMP:20260425T071222
CREATED:20260112T180331Z
LAST-MODIFIED:20260317T190351Z
UID:10003562-1820482200-1820529000@fayaltwp.org
SUMMARY:Yoga
DESCRIPTION:
URL:https://fayaltwp.org/event/yoga-2-2/2027-09-09/
END:VEVENT
BEGIN:VEVENT
DTSTART;TZID=America/Chicago:20270910T093000
DTEND;TZID=America/Chicago:20270910T103000
DTSTAMP:20260425T071222
CREATED:20240207T174449Z
LAST-MODIFIED:20260317T185548Z
UID:10001892-1820568600-1820572200@fayaltwp.org
SUMMARY:Aerobics
DESCRIPTION:
URL:https://fayaltwp.org/event/aerobics/2027-09-10/
END:VEVENT
BEGIN:VEVENT
DTSTART;TZID=America/Chicago:20270913T093000
DTEND;TZID=America/Chicago:20270913T103000
DTSTAMP:20260425T071222
CREATED:20240207T174449Z
LAST-MODIFIED:20260317T185548Z
UID:10001893-1820827800-1820831400@fayaltwp.org
SUMMARY:Aerobics
DESCRIPTION:
URL:https://fayaltwp.org/event/aerobics/2027-09-13/
END:VEVENT
BEGIN:VEVENT
DTSTART;TZID=America/Chicago:20270913T120000
DTEND;TZID=America/Chicago:20270913T140000
DTSTAMP:20260425T071222
CREATED:20240207T175425Z
LAST-MODIFIED:20240718T172046Z
UID:10002160-1820836800-1820844000@fayaltwp.org
SUMMARY:Sororiety Meeting
DESCRIPTION:
URL:https://fayaltwp.org/event/sororiety-meeting/2027-09-13/
END:VEVENT
BEGIN:VEVENT
DTSTART;TZID=America/Chicago:20270913T160000
DTEND;TZID=America/Chicago:20270913T183000
DTSTAMP:20260425T071222
CREATED:20250905T131821Z
LAST-MODIFIED:20250905T131821Z
UID:10003824-1820851200-1820860200@fayaltwp.org
SUMMARY:T.O.P.S.
DESCRIPTION:
URL:https://fayaltwp.org/event/t-o-p-s/2027-09-13/
END:VEVENT
BEGIN:VEVENT
DTSTART;TZID=America/Chicago:20270914T180000
DTEND;TZID=America/Chicago:20270914T190000
DTSTAMP:20260425T071222
CREATED:20240213T194019Z
LAST-MODIFIED:20240718T171231Z
UID:10002383-1820944800-1820948400@fayaltwp.org
SUMMARY:Public Utility Meetings
DESCRIPTION:Meeting lengths may vary
URL:https://fayaltwp.org/event/public-utility-meetings-2-2/2027-09-14/
END:VEVENT
BEGIN:VEVENT
DTSTART;TZID=America/Chicago:20270915T093000
DTEND;TZID=America/Chicago:20270915T103000
DTSTAMP:20260425T071222
CREATED:20240207T174449Z
LAST-MODIFIED:20260317T185548Z
UID:10001894-1821000600-1821004200@fayaltwp.org
SUMMARY:Aerobics
DESCRIPTION:
URL:https://fayaltwp.org/event/aerobics/2027-09-15/
END:VEVENT
BEGIN:VEVENT
DTSTART;TZID=America/Chicago:20270916T093000
DTEND;TZID=America/Chicago:20270916T223000
DTSTAMP:20260425T071222
CREATED:20260112T180331Z
LAST-MODIFIED:20260317T190351Z
UID:10003563-1821087000-1821133800@fayaltwp.org
SUMMARY:Yoga
DESCRIPTION:
URL:https://fayaltwp.org/event/yoga-2-2/2027-09-16/
END:VEVENT
BEGIN:VEVENT
DTSTART;TZID=America/Chicago:20270916T183000
DTEND;TZID=America/Chicago:20270916T200000
DTSTAMP:20260425T071222
CREATED:20190917T020221Z
LAST-MODIFIED:20250110T151531Z
UID:10002987-1821119400-1821124800@fayaltwp.org
SUMMARY:Eveleth-Fayal Garden Club
DESCRIPTION:Meeting lengths may vary
URL:https://fayaltwp.org/event/eveleth-fayal-garden-club/2027-09-16/
END:VEVENT
BEGIN:VEVENT
DTSTART;TZID=America/Chicago:20270917T093000
DTEND;TZID=America/Chicago:20270917T103000
DTSTAMP:20260425T071222
CREATED:20240207T174449Z
LAST-MODIFIED:20260317T185548Z
UID:10001895-1821173400-1821177000@fayaltwp.org
SUMMARY:Aerobics
DESCRIPTION:
URL:https://fayaltwp.org/event/aerobics/2027-09-17/
END:VEVENT
BEGIN:VEVENT
DTSTART;TZID=America/Chicago:20270920T093000
DTEND;TZID=America/Chicago:20270920T103000
DTSTAMP:20260425T071222
CREATED:20240207T174449Z
LAST-MODIFIED:20260317T185548Z
UID:10001896-1821432600-1821436200@fayaltwp.org
SUMMARY:Aerobics
DESCRIPTION:
URL:https://fayaltwp.org/event/aerobics/2027-09-20/
END:VEVENT
BEGIN:VEVENT
DTSTART;TZID=America/Chicago:20270920T160000
DTEND;TZID=America/Chicago:20270920T183000
DTSTAMP:20260425T071222
CREATED:20250905T131821Z
LAST-MODIFIED:20250905T131821Z
UID:10003825-1821456000-1821465000@fayaltwp.org
SUMMARY:T.O.P.S.
DESCRIPTION:
URL:https://fayaltwp.org/event/t-o-p-s/2027-09-20/
END:VEVENT
BEGIN:VEVENT
DTSTART;TZID=America/Chicago:20270921T190000
DTEND;TZID=America/Chicago:20270921T203000
DTSTAMP:20260425T071222
CREATED:20230727T144614Z
LAST-MODIFIED:20250115T222032Z
UID:10003372-1821553200-1821558600@fayaltwp.org
SUMMARY:Town Board Meeting
DESCRIPTION:Meeting lengths may vary
URL:https://fayaltwp.org/event/town-board-meeting-2/2027-09-21/
END:VEVENT
END:VCALENDAR