BEGIN:VCALENDAR
VERSION:2.0
PRODID:-//Fayal Twp - ECPv6.15.17.1//NONSGML v1.0//EN
CALSCALE:GREGORIAN
METHOD:PUBLISH
X-WR-CALNAME:Fayal Twp
X-ORIGINAL-URL:https://fayaltwp.org
X-WR-CALDESC:Events for Fayal Twp
REFRESH-INTERVAL;VALUE=DURATION:PT1H
X-Robots-Tag:noindex
X-PUBLISHED-TTL:PT1H
BEGIN:VTIMEZONE
TZID:America/Chicago
BEGIN:DAYLIGHT
TZOFFSETFROM:-0600
TZOFFSETTO:-0500
TZNAME:CDT
DTSTART:20240310T080000
END:DAYLIGHT
BEGIN:STANDARD
TZOFFSETFROM:-0500
TZOFFSETTO:-0600
TZNAME:CST
DTSTART:20241103T070000
END:STANDARD
BEGIN:DAYLIGHT
TZOFFSETFROM:-0600
TZOFFSETTO:-0500
TZNAME:CDT
DTSTART:20250309T080000
END:DAYLIGHT
BEGIN:STANDARD
TZOFFSETFROM:-0500
TZOFFSETTO:-0600
TZNAME:CST
DTSTART:20251102T070000
END:STANDARD
BEGIN:DAYLIGHT
TZOFFSETFROM:-0600
TZOFFSETTO:-0500
TZNAME:CDT
DTSTART:20260308T080000
END:DAYLIGHT
BEGIN:STANDARD
TZOFFSETFROM:-0500
TZOFFSETTO:-0600
TZNAME:CST
DTSTART:20261101T070000
END:STANDARD
END:VTIMEZONE
BEGIN:VEVENT
DTSTART;VALUE=DATE:20250628
DTEND;VALUE=DATE:20250630
DTSTAMP:20260425T070756
CREATED:20250211T191703Z
LAST-MODIFIED:20250211T191703Z
UID:10003415-1751086800-1751173199@fayaltwp.org
SUMMARY:Town Hall Rented
DESCRIPTION:
URL:https://fayaltwp.org/event/town-hall-rented-114/
END:VEVENT
BEGIN:VEVENT
DTSTART;VALUE=DATE:20250629
DTEND;VALUE=DATE:20250701
DTSTAMP:20260425T070756
CREATED:20250318T171124Z
LAST-MODIFIED:20250318T171124Z
UID:10003439-1751173200-1751259599@fayaltwp.org
SUMMARY:Town Hall Rented
DESCRIPTION:
URL:https://fayaltwp.org/event/town-hall-rented-125/
END:VEVENT
BEGIN:VEVENT
DTSTART;TZID=America/Chicago:20250630T093000
DTEND;TZID=America/Chicago:20250630T103000
DTSTAMP:20260425T070756
CREATED:20240207T174449Z
LAST-MODIFIED:20260317T185548Z
UID:10001548-1751275800-1751279400@fayaltwp.org
SUMMARY:Aerobics
DESCRIPTION:
URL:https://fayaltwp.org/event/aerobics/2025-06-30/
END:VEVENT
BEGIN:VEVENT
DTSTART;TZID=America/Chicago:20250701T190000
DTEND;TZID=America/Chicago:20250701T203000
DTSTAMP:20260425T070756
CREATED:20240213T194504Z
LAST-MODIFIED:20250318T164658Z
UID:10002405-1751396400-1751401800@fayaltwp.org
SUMMARY:Town Board Meeting
DESCRIPTION:Meeting lengths may vary
URL:https://fayaltwp.org/event/town-board-meeting-3/2025-07-01/
END:VEVENT
BEGIN:VEVENT
DTSTART;TZID=America/Chicago:20250702T093000
DTEND;TZID=America/Chicago:20250702T103000
DTSTAMP:20260425T070756
CREATED:20240207T174449Z
LAST-MODIFIED:20260317T185548Z
UID:10001549-1751448600-1751452200@fayaltwp.org
SUMMARY:Aerobics
DESCRIPTION:
URL:https://fayaltwp.org/event/aerobics/2025-07-02/
END:VEVENT
BEGIN:VEVENT
DTSTART;VALUE=DATE:20250704
DTEND;VALUE=DATE:20250706
DTSTAMP:20260425T070756
CREATED:20250115T211844Z
LAST-MODIFIED:20250115T211844Z
UID:10003268-1751605200-1751691599@fayaltwp.org
SUMMARY:Clerk's Office Closed
DESCRIPTION:
URL:https://fayaltwp.org/event/clerks-office-closed-14/
END:VEVENT
BEGIN:VEVENT
DTSTART;TZID=America/Chicago:20250704T093000
DTEND;TZID=America/Chicago:20250704T103000
DTSTAMP:20260425T070756
CREATED:20240207T174449Z
LAST-MODIFIED:20260317T185548Z
UID:10001550-1751621400-1751625000@fayaltwp.org
SUMMARY:Aerobics
DESCRIPTION:
URL:https://fayaltwp.org/event/aerobics/2025-07-04/
END:VEVENT
BEGIN:VEVENT
DTSTART;VALUE=DATE:20250705
DTEND;VALUE=DATE:20250707
DTSTAMP:20260425T070756
CREATED:20241125T173853Z
LAST-MODIFIED:20250115T211605Z
UID:10002844-1751691600-1751777999@fayaltwp.org
SUMMARY:Town Hall Rental
DESCRIPTION:
URL:https://fayaltwp.org/event/hall-rental-2/
END:VEVENT
BEGIN:VEVENT
DTSTART;VALUE=DATE:20250706
DTEND;VALUE=DATE:20250708
DTSTAMP:20260425T070756
CREATED:20250529T184849Z
LAST-MODIFIED:20250529T184849Z
UID:10003446-1751778000-1751864399@fayaltwp.org
SUMMARY:Town Hall Rented
DESCRIPTION:
URL:https://fayaltwp.org/event/town-hall-rented-132/
END:VEVENT
BEGIN:VEVENT
DTSTART;TZID=America/Chicago:20250707T093000
DTEND;TZID=America/Chicago:20250707T103000
DTSTAMP:20260425T070756
CREATED:20240207T174449Z
LAST-MODIFIED:20260317T185548Z
UID:10001551-1751880600-1751884200@fayaltwp.org
SUMMARY:Aerobics
DESCRIPTION:
URL:https://fayaltwp.org/event/aerobics/2025-07-07/
END:VEVENT
BEGIN:VEVENT
DTSTART;TZID=America/Chicago:20250708T180000
DTEND;TZID=America/Chicago:20250708T190000
DTSTAMP:20260425T070756
CREATED:20240213T194019Z
LAST-MODIFIED:20240718T171231Z
UID:10002357-1751997600-1752001200@fayaltwp.org
SUMMARY:Public Utility Meetings
DESCRIPTION:Meeting lengths may vary
URL:https://fayaltwp.org/event/public-utility-meetings-2-2/2025-07-08/
END:VEVENT
BEGIN:VEVENT
DTSTART;TZID=America/Chicago:20250709T093000
DTEND;TZID=America/Chicago:20250709T103000
DTSTAMP:20260425T070756
CREATED:20240207T174449Z
LAST-MODIFIED:20260317T185548Z
UID:10001552-1752053400-1752057000@fayaltwp.org
SUMMARY:Aerobics
DESCRIPTION:
URL:https://fayaltwp.org/event/aerobics/2025-07-09/
END:VEVENT
BEGIN:VEVENT
DTSTART;TZID=America/Chicago:20250711T093000
DTEND;TZID=America/Chicago:20250711T103000
DTSTAMP:20260425T070756
CREATED:20240207T174449Z
LAST-MODIFIED:20260317T185548Z
UID:10001553-1752226200-1752229800@fayaltwp.org
SUMMARY:Aerobics
DESCRIPTION:
URL:https://fayaltwp.org/event/aerobics/2025-07-11/
END:VEVENT
BEGIN:VEVENT
DTSTART;VALUE=DATE:20250712
DTEND;VALUE=DATE:20250714
DTSTAMP:20260425T070756
CREATED:20250711T142107Z
LAST-MODIFIED:20250711T142107Z
UID:10003447-1752296400-1752382799@fayaltwp.org
SUMMARY:Town Hall Rented
DESCRIPTION:
URL:https://fayaltwp.org/event/town-hall-rented-133/
END:VEVENT
BEGIN:VEVENT
DTSTART;TZID=America/Chicago:20250714T093000
DTEND;TZID=America/Chicago:20250714T103000
DTSTAMP:20260425T070756
CREATED:20240207T174449Z
LAST-MODIFIED:20260317T185548Z
UID:10001554-1752485400-1752489000@fayaltwp.org
SUMMARY:Aerobics
DESCRIPTION:
URL:https://fayaltwp.org/event/aerobics/2025-07-14/
END:VEVENT
BEGIN:VEVENT
DTSTART;TZID=America/Chicago:20250714T120000
DTEND;TZID=America/Chicago:20250714T140000
DTSTAMP:20260425T070756
CREATED:20240207T175425Z
LAST-MODIFIED:20240718T172046Z
UID:10002134-1752494400-1752501600@fayaltwp.org
SUMMARY:Sororiety Meeting
DESCRIPTION:
URL:https://fayaltwp.org/event/sororiety-meeting/2025-07-14/
END:VEVENT
BEGIN:VEVENT
DTSTART;TZID=America/Chicago:20250715T190000
DTEND;TZID=America/Chicago:20250715T203000
DTSTAMP:20260425T070756
CREATED:20230727T144614Z
LAST-MODIFIED:20250115T222032Z
UID:10001318-1752606000-1752611400@fayaltwp.org
SUMMARY:Town Board Meeting
DESCRIPTION:Meeting lengths may vary
URL:https://fayaltwp.org/event/town-board-meeting-2/2025-07-15/
END:VEVENT
BEGIN:VEVENT
DTSTART;TZID=America/Chicago:20250716T093000
DTEND;TZID=America/Chicago:20250716T103000
DTSTAMP:20260425T070756
CREATED:20240207T174449Z
LAST-MODIFIED:20260317T185548Z
UID:10001555-1752658200-1752661800@fayaltwp.org
SUMMARY:Aerobics
DESCRIPTION:
URL:https://fayaltwp.org/event/aerobics/2025-07-16/
END:VEVENT
BEGIN:VEVENT
DTSTART;TZID=America/Chicago:20250716T173000
DTEND;TZID=America/Chicago:20250716T173000
DTSTAMP:20260425T070756
CREATED:20190917T020012Z
LAST-MODIFIED:20260317T185333Z
UID:10003205-1752687000-1752687000@fayaltwp.org
SUMMARY:Planning Commission Meeting
DESCRIPTION:Meeting lengths may vary
URL:https://fayaltwp.org/event/fayal-planning-commission/2025-07-16/
END:VEVENT
BEGIN:VEVENT
DTSTART;TZID=America/Chicago:20250717T183000
DTEND;TZID=America/Chicago:20250717T200000
DTSTAMP:20260425T070756
CREATED:20190917T020221Z
LAST-MODIFIED:20250110T151531Z
UID:10003074-1752777000-1752782400@fayaltwp.org
SUMMARY:Eveleth-Fayal Garden Club
DESCRIPTION:Meeting lengths may vary
URL:https://fayaltwp.org/event/eveleth-fayal-garden-club/2025-07-17/
END:VEVENT
BEGIN:VEVENT
DTSTART;TZID=America/Chicago:20250718T093000
DTEND;TZID=America/Chicago:20250718T103000
DTSTAMP:20260425T070756
CREATED:20240207T174449Z
LAST-MODIFIED:20260317T185548Z
UID:10001556-1752831000-1752834600@fayaltwp.org
SUMMARY:Aerobics
DESCRIPTION:
URL:https://fayaltwp.org/event/aerobics/2025-07-18/
END:VEVENT
BEGIN:VEVENT
DTSTART;TZID=America/Chicago:20250721T093000
DTEND;TZID=America/Chicago:20250721T103000
DTSTAMP:20260425T070756
CREATED:20240207T174449Z
LAST-MODIFIED:20260317T185548Z
UID:10001557-1753090200-1753093800@fayaltwp.org
SUMMARY:Aerobics
DESCRIPTION:
URL:https://fayaltwp.org/event/aerobics/2025-07-21/
END:VEVENT
BEGIN:VEVENT
DTSTART;TZID=America/Chicago:20250723T093000
DTEND;TZID=America/Chicago:20250723T103000
DTSTAMP:20260425T070756
CREATED:20240207T174449Z
LAST-MODIFIED:20260317T185548Z
UID:10001558-1753263000-1753266600@fayaltwp.org
SUMMARY:Aerobics
DESCRIPTION:
URL:https://fayaltwp.org/event/aerobics/2025-07-23/
END:VEVENT
BEGIN:VEVENT
DTSTART;TZID=America/Chicago:20250725T093000
DTEND;TZID=America/Chicago:20250725T103000
DTSTAMP:20260425T070756
CREATED:20240207T174449Z
LAST-MODIFIED:20260317T185548Z
UID:10001559-1753435800-1753439400@fayaltwp.org
SUMMARY:Aerobics
DESCRIPTION:
URL:https://fayaltwp.org/event/aerobics/2025-07-25/
END:VEVENT
BEGIN:VEVENT
DTSTART;TZID=America/Chicago:20250728T093000
DTEND;TZID=America/Chicago:20250728T103000
DTSTAMP:20260425T070756
CREATED:20240207T174449Z
LAST-MODIFIED:20260317T185548Z
UID:10001560-1753695000-1753698600@fayaltwp.org
SUMMARY:Aerobics
DESCRIPTION:
URL:https://fayaltwp.org/event/aerobics/2025-07-28/
END:VEVENT
BEGIN:VEVENT
DTSTART;TZID=America/Chicago:20250730T093000
DTEND;TZID=America/Chicago:20250730T103000
DTSTAMP:20260425T070756
CREATED:20240207T174449Z
LAST-MODIFIED:20260317T185548Z
UID:10001561-1753867800-1753871400@fayaltwp.org
SUMMARY:Aerobics
DESCRIPTION:
URL:https://fayaltwp.org/event/aerobics/2025-07-30/
END:VEVENT
BEGIN:VEVENT
DTSTART;TZID=America/Chicago:20250801T093000
DTEND;TZID=America/Chicago:20250801T103000
DTSTAMP:20260425T070756
CREATED:20240207T174449Z
LAST-MODIFIED:20260317T185548Z
UID:10001562-1754040600-1754044200@fayaltwp.org
SUMMARY:Aerobics
DESCRIPTION:
URL:https://fayaltwp.org/event/aerobics/2025-08-01/
END:VEVENT
BEGIN:VEVENT
DTSTART;TZID=America/Chicago:20250803T110000
DTEND;TZID=America/Chicago:20250803T170000
DTSTAMP:20260425T070756
CREATED:20250211T191906Z
LAST-MODIFIED:20250211T191906Z
UID:10003417-1754218800-1754240400@fayaltwp.org
SUMMARY:Town Hall and Picnic Shelter Reserved
DESCRIPTION:
URL:https://fayaltwp.org/event/town-hall-and-picnic-shelter-reserved/
END:VEVENT
BEGIN:VEVENT
DTSTART;TZID=America/Chicago:20250804T093000
DTEND;TZID=America/Chicago:20250804T103000
DTSTAMP:20260425T070756
CREATED:20240207T174449Z
LAST-MODIFIED:20260317T185548Z
UID:10001563-1754299800-1754303400@fayaltwp.org
SUMMARY:Aerobics
DESCRIPTION:
URL:https://fayaltwp.org/event/aerobics/2025-08-04/
END:VEVENT
BEGIN:VEVENT
DTSTART;TZID=America/Chicago:20250805T190000
DTEND;TZID=America/Chicago:20250805T203000
DTSTAMP:20260425T070756
CREATED:20240213T194504Z
LAST-MODIFIED:20250318T164658Z
UID:10002406-1754420400-1754425800@fayaltwp.org
SUMMARY:Town Board Meeting
DESCRIPTION:Meeting lengths may vary
URL:https://fayaltwp.org/event/town-board-meeting-3/2025-08-05/
END:VEVENT
END:VCALENDAR