BEGIN:VCALENDAR
VERSION:2.0
PRODID:-//Fayal Twp - ECPv6.15.17.1//NONSGML v1.0//EN
CALSCALE:GREGORIAN
METHOD:PUBLISH
X-WR-CALNAME:Fayal Twp
X-ORIGINAL-URL:https://fayaltwp.org
X-WR-CALDESC:Events for Fayal Twp
REFRESH-INTERVAL;VALUE=DURATION:PT1H
X-Robots-Tag:noindex
X-PUBLISHED-TTL:PT1H
BEGIN:VTIMEZONE
TZID:America/Chicago
BEGIN:DAYLIGHT
TZOFFSETFROM:-0600
TZOFFSETTO:-0500
TZNAME:CDT
DTSTART:20250309T080000
END:DAYLIGHT
BEGIN:STANDARD
TZOFFSETFROM:-0500
TZOFFSETTO:-0600
TZNAME:CST
DTSTART:20251102T070000
END:STANDARD
BEGIN:DAYLIGHT
TZOFFSETFROM:-0600
TZOFFSETTO:-0500
TZNAME:CDT
DTSTART:20260308T080000
END:DAYLIGHT
BEGIN:STANDARD
TZOFFSETFROM:-0500
TZOFFSETTO:-0600
TZNAME:CST
DTSTART:20261101T070000
END:STANDARD
BEGIN:DAYLIGHT
TZOFFSETFROM:-0600
TZOFFSETTO:-0500
TZNAME:CDT
DTSTART:20270314T080000
END:DAYLIGHT
BEGIN:STANDARD
TZOFFSETFROM:-0500
TZOFFSETTO:-0600
TZNAME:CST
DTSTART:20271107T070000
END:STANDARD
END:VTIMEZONE
BEGIN:VEVENT
DTSTART;VALUE=DATE:20261126
DTEND;VALUE=DATE:20261128
DTSTAMP:20260424T081930
CREATED:20260317T184814Z
LAST-MODIFIED:20260317T184814Z
UID:10004057-1795669200-1795755599@fayaltwp.org
SUMMARY:Town Hall Rented
DESCRIPTION:
URL:https://fayaltwp.org/event/town-hall-rented-189/
END:VEVENT
BEGIN:VEVENT
DTSTART;TZID=America/Chicago:20261126T093000
DTEND;TZID=America/Chicago:20261126T223000
DTSTAMP:20260424T081930
CREATED:20260112T180331Z
LAST-MODIFIED:20260317T190351Z
UID:10003521-1795685400-1795732200@fayaltwp.org
SUMMARY:Yoga
DESCRIPTION:
URL:https://fayaltwp.org/event/yoga-2-2/2026-11-26/
END:VEVENT
BEGIN:VEVENT
DTSTART;TZID=America/Chicago:20261127T093000
DTEND;TZID=America/Chicago:20261127T103000
DTSTAMP:20260424T081930
CREATED:20240207T174449Z
LAST-MODIFIED:20260317T185548Z
UID:10001769-1795771800-1795775400@fayaltwp.org
SUMMARY:Aerobics
DESCRIPTION:
URL:https://fayaltwp.org/event/aerobics/2026-11-27/
END:VEVENT
BEGIN:VEVENT
DTSTART;TZID=America/Chicago:20261130T093000
DTEND;TZID=America/Chicago:20261130T103000
DTSTAMP:20260424T081930
CREATED:20240207T174449Z
LAST-MODIFIED:20260317T185548Z
UID:10001770-1796031000-1796034600@fayaltwp.org
SUMMARY:Aerobics
DESCRIPTION:
URL:https://fayaltwp.org/event/aerobics/2026-11-30/
END:VEVENT
BEGIN:VEVENT
DTSTART;TZID=America/Chicago:20261130T160000
DTEND;TZID=America/Chicago:20261130T183000
DTSTAMP:20260424T081930
CREATED:20250905T131821Z
LAST-MODIFIED:20250905T131821Z
UID:10003783-1796054400-1796063400@fayaltwp.org
SUMMARY:T.O.P.S.
DESCRIPTION:
URL:https://fayaltwp.org/event/t-o-p-s/2026-11-30/
END:VEVENT
BEGIN:VEVENT
DTSTART;TZID=America/Chicago:20261201T190000
DTEND;TZID=America/Chicago:20261201T203000
DTSTAMP:20260424T081930
CREATED:20240213T194504Z
LAST-MODIFIED:20250318T164658Z
UID:10002422-1796151600-1796157000@fayaltwp.org
SUMMARY:Town Board Meeting
DESCRIPTION:Meeting lengths may vary
URL:https://fayaltwp.org/event/town-board-meeting-3/2026-12-01/
END:VEVENT
BEGIN:VEVENT
DTSTART;TZID=America/Chicago:20261202T093000
DTEND;TZID=America/Chicago:20261202T103000
DTSTAMP:20260424T081930
CREATED:20240207T174449Z
LAST-MODIFIED:20260317T185548Z
UID:10001771-1796203800-1796207400@fayaltwp.org
SUMMARY:Aerobics
DESCRIPTION:
URL:https://fayaltwp.org/event/aerobics/2026-12-02/
END:VEVENT
BEGIN:VEVENT
DTSTART;TZID=America/Chicago:20261203T093000
DTEND;TZID=America/Chicago:20261203T223000
DTSTAMP:20260424T081930
CREATED:20260112T180331Z
LAST-MODIFIED:20260317T190351Z
UID:10003522-1796290200-1796337000@fayaltwp.org
SUMMARY:Yoga
DESCRIPTION:
URL:https://fayaltwp.org/event/yoga-2-2/2026-12-03/
END:VEVENT
BEGIN:VEVENT
DTSTART;TZID=America/Chicago:20261204T093000
DTEND;TZID=America/Chicago:20261204T103000
DTSTAMP:20260424T081930
CREATED:20240207T174449Z
LAST-MODIFIED:20260317T185548Z
UID:10001772-1796376600-1796380200@fayaltwp.org
SUMMARY:Aerobics
DESCRIPTION:
URL:https://fayaltwp.org/event/aerobics/2026-12-04/
END:VEVENT
BEGIN:VEVENT
DTSTART;TZID=America/Chicago:20261207T093000
DTEND;TZID=America/Chicago:20261207T103000
DTSTAMP:20260424T081930
CREATED:20240207T174449Z
LAST-MODIFIED:20260317T185548Z
UID:10001773-1796635800-1796639400@fayaltwp.org
SUMMARY:Aerobics
DESCRIPTION:
URL:https://fayaltwp.org/event/aerobics/2026-12-07/
END:VEVENT
BEGIN:VEVENT
DTSTART;TZID=America/Chicago:20261207T160000
DTEND;TZID=America/Chicago:20261207T183000
DTSTAMP:20260424T081930
CREATED:20250905T131821Z
LAST-MODIFIED:20250905T131821Z
UID:10003784-1796659200-1796668200@fayaltwp.org
SUMMARY:T.O.P.S.
DESCRIPTION:
URL:https://fayaltwp.org/event/t-o-p-s/2026-12-07/
END:VEVENT
BEGIN:VEVENT
DTSTART;TZID=America/Chicago:20261208T180000
DTEND;TZID=America/Chicago:20261208T190000
DTSTAMP:20260424T081930
CREATED:20240213T194019Z
LAST-MODIFIED:20240718T171231Z
UID:10002374-1796752800-1796756400@fayaltwp.org
SUMMARY:Public Utility Meetings
DESCRIPTION:Meeting lengths may vary
URL:https://fayaltwp.org/event/public-utility-meetings-2-2/2026-12-08/
END:VEVENT
BEGIN:VEVENT
DTSTART;TZID=America/Chicago:20261209T093000
DTEND;TZID=America/Chicago:20261209T103000
DTSTAMP:20260424T081930
CREATED:20240207T174449Z
LAST-MODIFIED:20260317T185548Z
UID:10001774-1796808600-1796812200@fayaltwp.org
SUMMARY:Aerobics
DESCRIPTION:
URL:https://fayaltwp.org/event/aerobics/2026-12-09/
END:VEVENT
BEGIN:VEVENT
DTSTART;TZID=America/Chicago:20261210T093000
DTEND;TZID=America/Chicago:20261210T223000
DTSTAMP:20260424T081930
CREATED:20260112T180331Z
LAST-MODIFIED:20260317T190351Z
UID:10003523-1796895000-1796941800@fayaltwp.org
SUMMARY:Yoga
DESCRIPTION:
URL:https://fayaltwp.org/event/yoga-2-2/2026-12-10/
END:VEVENT
BEGIN:VEVENT
DTSTART;TZID=America/Chicago:20261211T093000
DTEND;TZID=America/Chicago:20261211T103000
DTSTAMP:20260424T081930
CREATED:20240207T174449Z
LAST-MODIFIED:20260317T185548Z
UID:10001775-1796981400-1796985000@fayaltwp.org
SUMMARY:Aerobics
DESCRIPTION:
URL:https://fayaltwp.org/event/aerobics/2026-12-11/
END:VEVENT
BEGIN:VEVENT
DTSTART;VALUE=DATE:20261212
DTEND;VALUE=DATE:20261214
DTSTAMP:20260424T081930
CREATED:20260112T180134Z
LAST-MODIFIED:20260112T180134Z
UID:10004014-1797051600-1797137999@fayaltwp.org
SUMMARY:Town Hall Rented
DESCRIPTION:
URL:https://fayaltwp.org/event/town-hall-rented-169/
END:VEVENT
BEGIN:VEVENT
DTSTART;TZID=America/Chicago:20261214T093000
DTEND;TZID=America/Chicago:20261214T103000
DTSTAMP:20260424T081930
CREATED:20240207T174449Z
LAST-MODIFIED:20260317T185548Z
UID:10001776-1797240600-1797244200@fayaltwp.org
SUMMARY:Aerobics
DESCRIPTION:
URL:https://fayaltwp.org/event/aerobics/2026-12-14/
END:VEVENT
BEGIN:VEVENT
DTSTART;TZID=America/Chicago:20261214T120000
DTEND;TZID=America/Chicago:20261214T140000
DTSTAMP:20260424T081930
CREATED:20240207T175425Z
LAST-MODIFIED:20240718T172046Z
UID:10002151-1797249600-1797256800@fayaltwp.org
SUMMARY:Sororiety Meeting
DESCRIPTION:
URL:https://fayaltwp.org/event/sororiety-meeting/2026-12-14/
END:VEVENT
BEGIN:VEVENT
DTSTART;TZID=America/Chicago:20261214T160000
DTEND;TZID=America/Chicago:20261214T183000
DTSTAMP:20260424T081930
CREATED:20250905T131821Z
LAST-MODIFIED:20250905T131821Z
UID:10003785-1797264000-1797273000@fayaltwp.org
SUMMARY:T.O.P.S.
DESCRIPTION:
URL:https://fayaltwp.org/event/t-o-p-s/2026-12-14/
END:VEVENT
BEGIN:VEVENT
DTSTART;TZID=America/Chicago:20261215T190000
DTEND;TZID=America/Chicago:20261215T203000
DTSTAMP:20260424T081930
CREATED:20230727T144614Z
LAST-MODIFIED:20250115T222032Z
UID:10003363-1797361200-1797366600@fayaltwp.org
SUMMARY:Town Board Meeting
DESCRIPTION:Meeting lengths may vary
URL:https://fayaltwp.org/event/town-board-meeting-2/2026-12-15/
END:VEVENT
BEGIN:VEVENT
DTSTART;TZID=America/Chicago:20261216T093000
DTEND;TZID=America/Chicago:20261216T103000
DTSTAMP:20260424T081930
CREATED:20240207T174449Z
LAST-MODIFIED:20260317T185548Z
UID:10001777-1797413400-1797417000@fayaltwp.org
SUMMARY:Aerobics
DESCRIPTION:
URL:https://fayaltwp.org/event/aerobics/2026-12-16/
END:VEVENT
BEGIN:VEVENT
DTSTART;TZID=America/Chicago:20261217T093000
DTEND;TZID=America/Chicago:20261217T223000
DTSTAMP:20260424T081930
CREATED:20260112T180331Z
LAST-MODIFIED:20260317T190351Z
UID:10003524-1797499800-1797546600@fayaltwp.org
SUMMARY:Yoga
DESCRIPTION:
URL:https://fayaltwp.org/event/yoga-2-2/2026-12-17/
END:VEVENT
BEGIN:VEVENT
DTSTART;TZID=America/Chicago:20261217T183000
DTEND;TZID=America/Chicago:20261217T200000
DTSTAMP:20260424T081930
CREATED:20190917T020221Z
LAST-MODIFIED:20250110T151531Z
UID:10003088-1797532200-1797537600@fayaltwp.org
SUMMARY:Eveleth-Fayal Garden Club
DESCRIPTION:Meeting lengths may vary
URL:https://fayaltwp.org/event/eveleth-fayal-garden-club/2026-12-17/
END:VEVENT
BEGIN:VEVENT
DTSTART;TZID=America/Chicago:20261218T093000
DTEND;TZID=America/Chicago:20261218T103000
DTSTAMP:20260424T081930
CREATED:20240207T174449Z
LAST-MODIFIED:20260317T185548Z
UID:10001778-1797586200-1797589800@fayaltwp.org
SUMMARY:Aerobics
DESCRIPTION:
URL:https://fayaltwp.org/event/aerobics/2026-12-18/
END:VEVENT
BEGIN:VEVENT
DTSTART;TZID=America/Chicago:20261221T093000
DTEND;TZID=America/Chicago:20261221T103000
DTSTAMP:20260424T081930
CREATED:20240207T174449Z
LAST-MODIFIED:20260317T185548Z
UID:10001779-1797845400-1797849000@fayaltwp.org
SUMMARY:Aerobics
DESCRIPTION:
URL:https://fayaltwp.org/event/aerobics/2026-12-21/
END:VEVENT
BEGIN:VEVENT
DTSTART;TZID=America/Chicago:20261221T160000
DTEND;TZID=America/Chicago:20261221T183000
DTSTAMP:20260424T081930
CREATED:20250905T131821Z
LAST-MODIFIED:20250905T131821Z
UID:10003786-1797868800-1797877800@fayaltwp.org
SUMMARY:T.O.P.S.
DESCRIPTION:
URL:https://fayaltwp.org/event/t-o-p-s/2026-12-21/
END:VEVENT
BEGIN:VEVENT
DTSTART;TZID=America/Chicago:20261223T093000
DTEND;TZID=America/Chicago:20261223T103000
DTSTAMP:20260424T081930
CREATED:20240207T174449Z
LAST-MODIFIED:20260317T185548Z
UID:10001780-1798018200-1798021800@fayaltwp.org
SUMMARY:Aerobics
DESCRIPTION:
URL:https://fayaltwp.org/event/aerobics/2026-12-23/
END:VEVENT
BEGIN:VEVENT
DTSTART;VALUE=DATE:20261224
DTEND;VALUE=DATE:20261226
DTSTAMP:20260424T081930
CREATED:20260112T180154Z
LAST-MODIFIED:20260112T180154Z
UID:10004015-1798088400-1798174799@fayaltwp.org
SUMMARY:Town Hall Rented
DESCRIPTION:
URL:https://fayaltwp.org/event/town-hall-rented-170/
END:VEVENT
BEGIN:VEVENT
DTSTART;TZID=America/Chicago:20261224T093000
DTEND;TZID=America/Chicago:20261224T223000
DTSTAMP:20260424T081930
CREATED:20260112T180331Z
LAST-MODIFIED:20260317T190351Z
UID:10003525-1798104600-1798151400@fayaltwp.org
SUMMARY:Yoga
DESCRIPTION:
URL:https://fayaltwp.org/event/yoga-2-2/2026-12-24/
END:VEVENT
BEGIN:VEVENT
DTSTART;VALUE=DATE:20261225
DTEND;VALUE=DATE:20261227
DTSTAMP:20260424T081930
CREATED:20260317T184832Z
LAST-MODIFIED:20260317T184832Z
UID:10004058-1798174800-1798261199@fayaltwp.org
SUMMARY:Town Hall Rented
DESCRIPTION:
URL:https://fayaltwp.org/event/town-hall-rented-190/
END:VEVENT
END:VCALENDAR