BEGIN:VCALENDAR
VERSION:2.0
PRODID:-//Fayal Twp - ECPv6.15.17.1//NONSGML v1.0//EN
CALSCALE:GREGORIAN
METHOD:PUBLISH
X-WR-CALNAME:Fayal Twp
X-ORIGINAL-URL:https://fayaltwp.org
X-WR-CALDESC:Events for Fayal Twp
REFRESH-INTERVAL;VALUE=DURATION:PT1H
X-Robots-Tag:noindex
X-PUBLISHED-TTL:PT1H
BEGIN:VTIMEZONE
TZID:America/Chicago
BEGIN:DAYLIGHT
TZOFFSETFROM:-0600
TZOFFSETTO:-0500
TZNAME:CDT
DTSTART:20230312T080000
END:DAYLIGHT
BEGIN:STANDARD
TZOFFSETFROM:-0500
TZOFFSETTO:-0600
TZNAME:CST
DTSTART:20231105T070000
END:STANDARD
BEGIN:DAYLIGHT
TZOFFSETFROM:-0600
TZOFFSETTO:-0500
TZNAME:CDT
DTSTART:20240310T080000
END:DAYLIGHT
BEGIN:STANDARD
TZOFFSETFROM:-0500
TZOFFSETTO:-0600
TZNAME:CST
DTSTART:20241103T070000
END:STANDARD
BEGIN:DAYLIGHT
TZOFFSETFROM:-0600
TZOFFSETTO:-0500
TZNAME:CDT
DTSTART:20250309T080000
END:DAYLIGHT
BEGIN:STANDARD
TZOFFSETFROM:-0500
TZOFFSETTO:-0600
TZNAME:CST
DTSTART:20251102T070000
END:STANDARD
END:VTIMEZONE
BEGIN:VEVENT
DTSTART;TZID=America/Chicago:20241129T093000
DTEND;TZID=America/Chicago:20241129T103000
DTSTAMP:20260425T104823
CREATED:20240207T174449Z
LAST-MODIFIED:20260317T185548Z
UID:10001457-1732872600-1732876200@fayaltwp.org
SUMMARY:Aerobics
DESCRIPTION:
URL:https://fayaltwp.org/event/aerobics/2024-11-29/
END:VEVENT
BEGIN:VEVENT
DTSTART;VALUE=DATE:20241201
DTEND;VALUE=DATE:20241203
DTSTAMP:20260425T104823
CREATED:20241023T175449Z
LAST-MODIFIED:20241023T175449Z
UID:10002828-1733029200-1733115599@fayaltwp.org
SUMMARY:Town Hall Rented
DESCRIPTION:
URL:https://fayaltwp.org/event/town-hall-rented-86/
END:VEVENT
BEGIN:VEVENT
DTSTART;TZID=America/Chicago:20241202T093000
DTEND;TZID=America/Chicago:20241202T103000
DTSTAMP:20260425T104823
CREATED:20240207T174449Z
LAST-MODIFIED:20260317T185548Z
UID:10001458-1733131800-1733135400@fayaltwp.org
SUMMARY:Aerobics
DESCRIPTION:
URL:https://fayaltwp.org/event/aerobics/2024-12-02/
END:VEVENT
BEGIN:VEVENT
DTSTART;TZID=America/Chicago:20241202T161500
DTEND;TZID=America/Chicago:20241202T183000
DTSTAMP:20260425T104823
CREATED:20190917T014302Z
LAST-MODIFIED:20220309T145134Z
UID:10001127-1733156100-1733164200@fayaltwp.org
SUMMARY:T.O.P.S Meeting
DESCRIPTION:Meeting length times may vary
URL:https://fayaltwp.org/event/t-o-p-s-meeting/2024-12-02/
END:VEVENT
BEGIN:VEVENT
DTSTART;TZID=America/Chicago:20241203T190000
DTEND;TZID=America/Chicago:20241203T203000
DTSTAMP:20260425T104823
CREATED:20240213T194504Z
LAST-MODIFIED:20250318T164658Z
UID:10001194-1733252400-1733257800@fayaltwp.org
SUMMARY:Town Board Meeting
DESCRIPTION:Meeting lengths may vary
URL:https://fayaltwp.org/event/town-board-meeting-3/2024-12-03/
END:VEVENT
BEGIN:VEVENT
DTSTART;TZID=America/Chicago:20241204T093000
DTEND;TZID=America/Chicago:20241204T103000
DTSTAMP:20260425T104823
CREATED:20240207T174449Z
LAST-MODIFIED:20260317T185548Z
UID:10001459-1733304600-1733308200@fayaltwp.org
SUMMARY:Aerobics
DESCRIPTION:
URL:https://fayaltwp.org/event/aerobics/2024-12-04/
END:VEVENT
BEGIN:VEVENT
DTSTART;VALUE=DATE:20241206
DTEND;VALUE=DATE:20241208
DTSTAMP:20260425T104823
CREATED:20240409T173340Z
LAST-MODIFIED:20240409T173340Z
UID:10002730-1733461200-1733547599@fayaltwp.org
SUMMARY:Town Hall Rented
DESCRIPTION:
URL:https://fayaltwp.org/event/town-hall-rented-61/
END:VEVENT
BEGIN:VEVENT
DTSTART;TZID=America/Chicago:20241206T093000
DTEND;TZID=America/Chicago:20241206T103000
DTSTAMP:20260425T104823
CREATED:20240207T174449Z
LAST-MODIFIED:20260317T185548Z
UID:10001460-1733477400-1733481000@fayaltwp.org
SUMMARY:Aerobics
DESCRIPTION:
URL:https://fayaltwp.org/event/aerobics/2024-12-06/
END:VEVENT
BEGIN:VEVENT
DTSTART;VALUE=DATE:20241207
DTEND;VALUE=DATE:20241209
DTSTAMP:20260425T104823
CREATED:20240916T185852Z
LAST-MODIFIED:20240916T185852Z
UID:10002822-1733547600-1733633999@fayaltwp.org
SUMMARY:Town Hall Rented
DESCRIPTION:
URL:https://fayaltwp.org/event/town-hall-rented-84/
END:VEVENT
BEGIN:VEVENT
DTSTART;TZID=America/Chicago:20241209T093000
DTEND;TZID=America/Chicago:20241209T103000
DTSTAMP:20260425T104823
CREATED:20240207T174449Z
LAST-MODIFIED:20260317T185548Z
UID:10001461-1733736600-1733740200@fayaltwp.org
SUMMARY:Aerobics
DESCRIPTION:
URL:https://fayaltwp.org/event/aerobics/2024-12-09/
END:VEVENT
BEGIN:VEVENT
DTSTART;TZID=America/Chicago:20241209T120000
DTEND;TZID=America/Chicago:20241209T140000
DTSTAMP:20260425T104823
CREATED:20240207T175425Z
LAST-MODIFIED:20240718T172046Z
UID:10002127-1733745600-1733752800@fayaltwp.org
SUMMARY:Sororiety Meeting
DESCRIPTION:
URL:https://fayaltwp.org/event/sororiety-meeting/2024-12-09/
END:VEVENT
BEGIN:VEVENT
DTSTART;TZID=America/Chicago:20241209T161500
DTEND;TZID=America/Chicago:20241209T183000
DTSTAMP:20260425T104823
CREATED:20190917T014302Z
LAST-MODIFIED:20220309T145134Z
UID:10001128-1733760900-1733769000@fayaltwp.org
SUMMARY:T.O.P.S Meeting
DESCRIPTION:Meeting length times may vary
URL:https://fayaltwp.org/event/t-o-p-s-meeting/2024-12-09/
END:VEVENT
BEGIN:VEVENT
DTSTART;TZID=America/Chicago:20241210T180000
DTEND;TZID=America/Chicago:20241210T190000
DTSTAMP:20260425T104823
CREATED:20240213T194019Z
LAST-MODIFIED:20240718T171231Z
UID:10002350-1733853600-1733857200@fayaltwp.org
SUMMARY:Public Utility Meetings
DESCRIPTION:Meeting lengths may vary
URL:https://fayaltwp.org/event/public-utility-meetings-2-2/2024-12-10/
END:VEVENT
BEGIN:VEVENT
DTSTART;TZID=America/Chicago:20241211T093000
DTEND;TZID=America/Chicago:20241211T103000
DTSTAMP:20260425T104823
CREATED:20240207T174449Z
LAST-MODIFIED:20260317T185548Z
UID:10001462-1733909400-1733913000@fayaltwp.org
SUMMARY:Aerobics
DESCRIPTION:
URL:https://fayaltwp.org/event/aerobics/2024-12-11/
END:VEVENT
BEGIN:VEVENT
DTSTART;TZID=America/Chicago:20241213T093000
DTEND;TZID=America/Chicago:20241213T103000
DTSTAMP:20260425T104823
CREATED:20240207T174449Z
LAST-MODIFIED:20260317T185548Z
UID:10001463-1734082200-1734085800@fayaltwp.org
SUMMARY:Aerobics
DESCRIPTION:
URL:https://fayaltwp.org/event/aerobics/2024-12-13/
END:VEVENT
BEGIN:VEVENT
DTSTART;VALUE=DATE:20241214
DTEND;VALUE=DATE:20241216
DTSTAMP:20260425T104823
CREATED:20241001T185242Z
LAST-MODIFIED:20241001T185242Z
UID:10002823-1734152400-1734238799@fayaltwp.org
SUMMARY:Town Hall Rented
DESCRIPTION:
URL:https://fayaltwp.org/event/town-hall-rented-75/
END:VEVENT
BEGIN:VEVENT
DTSTART;VALUE=DATE:20241215
DTEND;VALUE=DATE:20241217
DTSTAMP:20260425T104823
CREATED:20241023T175544Z
LAST-MODIFIED:20241023T175544Z
UID:10002831-1734238800-1734325199@fayaltwp.org
SUMMARY:Town Hall Rented
DESCRIPTION:
URL:https://fayaltwp.org/event/town-hall-rented-89/
END:VEVENT
BEGIN:VEVENT
DTSTART;TZID=America/Chicago:20241216T093000
DTEND;TZID=America/Chicago:20241216T103000
DTSTAMP:20260425T104823
CREATED:20240207T174449Z
LAST-MODIFIED:20260317T185548Z
UID:10001464-1734341400-1734345000@fayaltwp.org
SUMMARY:Aerobics
DESCRIPTION:
URL:https://fayaltwp.org/event/aerobics/2024-12-16/
END:VEVENT
BEGIN:VEVENT
DTSTART;TZID=America/Chicago:20241216T161500
DTEND;TZID=America/Chicago:20241216T183000
DTSTAMP:20260425T104823
CREATED:20190917T014302Z
LAST-MODIFIED:20220309T145134Z
UID:10001129-1734365700-1734373800@fayaltwp.org
SUMMARY:T.O.P.S Meeting
DESCRIPTION:Meeting length times may vary
URL:https://fayaltwp.org/event/t-o-p-s-meeting/2024-12-16/
END:VEVENT
BEGIN:VEVENT
DTSTART;TZID=America/Chicago:20241216T173000
DTEND;TZID=America/Chicago:20241216T173000
DTSTAMP:20260425T104823
CREATED:20190917T020012Z
LAST-MODIFIED:20260317T185333Z
UID:10004112-1734370200-1734370200@fayaltwp.org
SUMMARY:Planning Commission Meeting
DESCRIPTION:Meeting lengths may vary
URL:https://fayaltwp.org/event/fayal-planning-commission/2024-12-16/
END:VEVENT
BEGIN:VEVENT
DTSTART;TZID=America/Chicago:20241217T190000
DTEND;TZID=America/Chicago:20241217T203000
DTSTAMP:20260425T104823
CREATED:20230727T144614Z
LAST-MODIFIED:20250115T222032Z
UID:10001259-1734462000-1734467400@fayaltwp.org
SUMMARY:Town Board Meeting
DESCRIPTION:Meeting lengths may vary
URL:https://fayaltwp.org/event/town-board-meeting-2/2024-12-17/
END:VEVENT
BEGIN:VEVENT
DTSTART;TZID=America/Chicago:20241218T093000
DTEND;TZID=America/Chicago:20241218T103000
DTSTAMP:20260425T104823
CREATED:20240207T174449Z
LAST-MODIFIED:20260317T185548Z
UID:10001465-1734514200-1734517800@fayaltwp.org
SUMMARY:Aerobics
DESCRIPTION:
URL:https://fayaltwp.org/event/aerobics/2024-12-18/
END:VEVENT
BEGIN:VEVENT
DTSTART;TZID=America/Chicago:20241219T183000
DTEND;TZID=America/Chicago:20241219T200000
DTSTAMP:20260425T104823
CREATED:20190917T020221Z
LAST-MODIFIED:20250110T151531Z
UID:10003068-1734633000-1734638400@fayaltwp.org
SUMMARY:Eveleth-Fayal Garden Club
DESCRIPTION:Meeting lengths may vary
URL:https://fayaltwp.org/event/eveleth-fayal-garden-club/2024-12-19/
END:VEVENT
BEGIN:VEVENT
DTSTART;TZID=America/Chicago:20241220T093000
DTEND;TZID=America/Chicago:20241220T103000
DTSTAMP:20260425T104823
CREATED:20240207T174449Z
LAST-MODIFIED:20260317T185548Z
UID:10001466-1734687000-1734690600@fayaltwp.org
SUMMARY:Aerobics
DESCRIPTION:
URL:https://fayaltwp.org/event/aerobics/2024-12-20/
END:VEVENT
BEGIN:VEVENT
DTSTART;VALUE=DATE:20241222
DTEND;VALUE=DATE:20241224
DTSTAMP:20260425T104823
CREATED:20241121T193224Z
LAST-MODIFIED:20241121T193224Z
UID:10002836-1734843600-1734929999@fayaltwp.org
SUMMARY:Town Hall Rented
DESCRIPTION:
URL:https://fayaltwp.org/event/town-hall-rented-92/
END:VEVENT
BEGIN:VEVENT
DTSTART;TZID=America/Chicago:20241223T093000
DTEND;TZID=America/Chicago:20241223T103000
DTSTAMP:20260425T104823
CREATED:20240207T174449Z
LAST-MODIFIED:20260317T185548Z
UID:10001467-1734946200-1734949800@fayaltwp.org
SUMMARY:Aerobics
DESCRIPTION:
URL:https://fayaltwp.org/event/aerobics/2024-12-23/
END:VEVENT
BEGIN:VEVENT
DTSTART;TZID=America/Chicago:20241223T161500
DTEND;TZID=America/Chicago:20241223T183000
DTSTAMP:20260425T104823
CREATED:20190917T014302Z
LAST-MODIFIED:20220309T145134Z
UID:10001130-1734970500-1734978600@fayaltwp.org
SUMMARY:T.O.P.S Meeting
DESCRIPTION:Meeting length times may vary
URL:https://fayaltwp.org/event/t-o-p-s-meeting/2024-12-23/
END:VEVENT
BEGIN:VEVENT
DTSTART;VALUE=DATE:20241224
DTEND;VALUE=DATE:20241226
DTSTAMP:20260425T104823
CREATED:20240409T173309Z
LAST-MODIFIED:20240409T173309Z
UID:10002729-1735016400-1735102799@fayaltwp.org
SUMMARY:Town Hall Rented
DESCRIPTION:
URL:https://fayaltwp.org/event/town-hall-rented-60/
END:VEVENT
BEGIN:VEVENT
DTSTART;VALUE=DATE:20241225
DTEND;VALUE=DATE:20241227
DTSTAMP:20260425T104823
CREATED:20240409T173239Z
LAST-MODIFIED:20240409T173239Z
UID:10002728-1735102800-1735189199@fayaltwp.org
SUMMARY:Clerk's Office Closed- Christmas Day
DESCRIPTION:
URL:https://fayaltwp.org/event/clerks-office-closed-christmas-day/
END:VEVENT
BEGIN:VEVENT
DTSTART;VALUE=DATE:20241225
DTEND;VALUE=DATE:20241227
DTSTAMP:20260425T104823
CREATED:20240821T174816Z
LAST-MODIFIED:20240821T174816Z
UID:10002814-1735102800-1735189199@fayaltwp.org
SUMMARY:Town Hall Rented
DESCRIPTION:
URL:https://fayaltwp.org/event/town-hall-rented-76/
END:VEVENT
END:VCALENDAR