BEGIN:VCALENDAR
VERSION:2.0
PRODID:-//Fayal Twp - ECPv6.15.17.1//NONSGML v1.0//EN
CALSCALE:GREGORIAN
METHOD:PUBLISH
X-ORIGINAL-URL:https://fayaltwp.org
X-WR-CALDESC:Events for Fayal Twp
REFRESH-INTERVAL;VALUE=DURATION:PT1H
X-Robots-Tag:noindex
X-PUBLISHED-TTL:PT1H
BEGIN:VTIMEZONE
TZID:America/Chicago
BEGIN:DAYLIGHT
TZOFFSETFROM:-0600
TZOFFSETTO:-0500
TZNAME:CDT
DTSTART:20260308T080000
END:DAYLIGHT
BEGIN:STANDARD
TZOFFSETFROM:-0500
TZOFFSETTO:-0600
TZNAME:CST
DTSTART:20261101T070000
END:STANDARD
BEGIN:DAYLIGHT
TZOFFSETFROM:-0600
TZOFFSETTO:-0500
TZNAME:CDT
DTSTART:20270314T080000
END:DAYLIGHT
BEGIN:STANDARD
TZOFFSETFROM:-0500
TZOFFSETTO:-0600
TZNAME:CST
DTSTART:20271107T070000
END:STANDARD
BEGIN:DAYLIGHT
TZOFFSETFROM:-0600
TZOFFSETTO:-0500
TZNAME:CDT
DTSTART:20280312T080000
END:DAYLIGHT
BEGIN:STANDARD
TZOFFSETFROM:-0500
TZOFFSETTO:-0600
TZNAME:CST
DTSTART:20281105T070000
END:STANDARD
END:VTIMEZONE
BEGIN:VEVENT
DTSTART;TZID=America/Chicago:20270927T093000
DTEND;TZID=America/Chicago:20270927T103000
DTSTAMP:20260425T072637
CREATED:20240207T174449Z
LAST-MODIFIED:20260317T185548Z
UID:10001899-1822037400-1822041000@fayaltwp.org
SUMMARY:Aerobics
DESCRIPTION:
URL:https://fayaltwp.org/event/aerobics/2027-09-27/
END:VEVENT
BEGIN:VEVENT
DTSTART;TZID=America/Chicago:20270927T160000
DTEND;TZID=America/Chicago:20270927T183000
DTSTAMP:20260425T072637
CREATED:20250905T131821Z
LAST-MODIFIED:20250905T131821Z
UID:10003826-1822060800-1822069800@fayaltwp.org
SUMMARY:T.O.P.S.
DESCRIPTION:
URL:https://fayaltwp.org/event/t-o-p-s/2027-09-27/
END:VEVENT
BEGIN:VEVENT
DTSTART;TZID=America/Chicago:20270929T093000
DTEND;TZID=America/Chicago:20270929T103000
DTSTAMP:20260425T072637
CREATED:20240207T174449Z
LAST-MODIFIED:20260317T185548Z
UID:10001900-1822210200-1822213800@fayaltwp.org
SUMMARY:Aerobics
DESCRIPTION:
URL:https://fayaltwp.org/event/aerobics/2027-09-29/
END:VEVENT
BEGIN:VEVENT
DTSTART;TZID=America/Chicago:20270930T093000
DTEND;TZID=America/Chicago:20270930T223000
DTSTAMP:20260425T072637
CREATED:20260112T180331Z
LAST-MODIFIED:20260317T190351Z
UID:10003565-1822296600-1822343400@fayaltwp.org
SUMMARY:Yoga
DESCRIPTION:
URL:https://fayaltwp.org/event/yoga-2-2/2027-09-30/
END:VEVENT
BEGIN:VEVENT
DTSTART;TZID=America/Chicago:20271001T093000
DTEND;TZID=America/Chicago:20271001T103000
DTSTAMP:20260425T072637
CREATED:20240207T174449Z
LAST-MODIFIED:20260317T185548Z
UID:10001901-1822383000-1822386600@fayaltwp.org
SUMMARY:Aerobics
DESCRIPTION:
URL:https://fayaltwp.org/event/aerobics/2027-10-01/
END:VEVENT
BEGIN:VEVENT
DTSTART;TZID=America/Chicago:20271004T093000
DTEND;TZID=America/Chicago:20271004T103000
DTSTAMP:20260425T072637
CREATED:20240207T174449Z
LAST-MODIFIED:20260317T185548Z
UID:10001902-1822642200-1822645800@fayaltwp.org
SUMMARY:Aerobics
DESCRIPTION:
URL:https://fayaltwp.org/event/aerobics/2027-10-04/
END:VEVENT
BEGIN:VEVENT
DTSTART;TZID=America/Chicago:20271004T160000
DTEND;TZID=America/Chicago:20271004T183000
DTSTAMP:20260425T072637
CREATED:20250905T131821Z
LAST-MODIFIED:20250905T131821Z
UID:10003827-1822665600-1822674600@fayaltwp.org
SUMMARY:T.O.P.S.
DESCRIPTION:
URL:https://fayaltwp.org/event/t-o-p-s/2027-10-04/
END:VEVENT
BEGIN:VEVENT
DTSTART;TZID=America/Chicago:20271005T190000
DTEND;TZID=America/Chicago:20271005T203000
DTSTAMP:20260425T072637
CREATED:20240213T194504Z
LAST-MODIFIED:20250318T164658Z
UID:10002432-1822762800-1822768200@fayaltwp.org
SUMMARY:Town Board Meeting
DESCRIPTION:Meeting lengths may vary
URL:https://fayaltwp.org/event/town-board-meeting-3/2027-10-05/
END:VEVENT
BEGIN:VEVENT
DTSTART;TZID=America/Chicago:20271006T093000
DTEND;TZID=America/Chicago:20271006T103000
DTSTAMP:20260425T072637
CREATED:20240207T174449Z
LAST-MODIFIED:20260317T185548Z
UID:10001903-1822815000-1822818600@fayaltwp.org
SUMMARY:Aerobics
DESCRIPTION:
URL:https://fayaltwp.org/event/aerobics/2027-10-06/
END:VEVENT
BEGIN:VEVENT
DTSTART;TZID=America/Chicago:20271007T093000
DTEND;TZID=America/Chicago:20271007T223000
DTSTAMP:20260425T072637
CREATED:20260112T180331Z
LAST-MODIFIED:20260317T190351Z
UID:10003566-1822901400-1822948200@fayaltwp.org
SUMMARY:Yoga
DESCRIPTION:
URL:https://fayaltwp.org/event/yoga-2-2/2027-10-07/
END:VEVENT
BEGIN:VEVENT
DTSTART;TZID=America/Chicago:20271008T093000
DTEND;TZID=America/Chicago:20271008T103000
DTSTAMP:20260425T072637
CREATED:20240207T174449Z
LAST-MODIFIED:20260317T185548Z
UID:10001904-1822987800-1822991400@fayaltwp.org
SUMMARY:Aerobics
DESCRIPTION:
URL:https://fayaltwp.org/event/aerobics/2027-10-08/
END:VEVENT
BEGIN:VEVENT
DTSTART;TZID=America/Chicago:20271011T093000
DTEND;TZID=America/Chicago:20271011T103000
DTSTAMP:20260425T072637
CREATED:20240207T174449Z
LAST-MODIFIED:20260317T185548Z
UID:10001905-1823247000-1823250600@fayaltwp.org
SUMMARY:Aerobics
DESCRIPTION:
URL:https://fayaltwp.org/event/aerobics/2027-10-11/
END:VEVENT
BEGIN:VEVENT
DTSTART;TZID=America/Chicago:20271011T120000
DTEND;TZID=America/Chicago:20271011T140000
DTSTAMP:20260425T072637
CREATED:20240207T175425Z
LAST-MODIFIED:20240718T172046Z
UID:10002161-1823256000-1823263200@fayaltwp.org
SUMMARY:Sororiety Meeting
DESCRIPTION:
URL:https://fayaltwp.org/event/sororiety-meeting/2027-10-11/
END:VEVENT
BEGIN:VEVENT
DTSTART;TZID=America/Chicago:20271011T160000
DTEND;TZID=America/Chicago:20271011T183000
DTSTAMP:20260425T072637
CREATED:20250905T131821Z
LAST-MODIFIED:20250905T131821Z
UID:10003828-1823270400-1823279400@fayaltwp.org
SUMMARY:T.O.P.S.
DESCRIPTION:
URL:https://fayaltwp.org/event/t-o-p-s/2027-10-11/
END:VEVENT
BEGIN:VEVENT
DTSTART;TZID=America/Chicago:20271012T180000
DTEND;TZID=America/Chicago:20271012T190000
DTSTAMP:20260425T072637
CREATED:20240213T194019Z
LAST-MODIFIED:20240718T171231Z
UID:10002384-1823364000-1823367600@fayaltwp.org
SUMMARY:Public Utility Meetings
DESCRIPTION:Meeting lengths may vary
URL:https://fayaltwp.org/event/public-utility-meetings-2-2/2027-10-12/
END:VEVENT
BEGIN:VEVENT
DTSTART;TZID=America/Chicago:20271013T093000
DTEND;TZID=America/Chicago:20271013T103000
DTSTAMP:20260425T072637
CREATED:20240207T174449Z
LAST-MODIFIED:20260317T185548Z
UID:10001906-1823419800-1823423400@fayaltwp.org
SUMMARY:Aerobics
DESCRIPTION:
URL:https://fayaltwp.org/event/aerobics/2027-10-13/
END:VEVENT
BEGIN:VEVENT
DTSTART;TZID=America/Chicago:20271014T093000
DTEND;TZID=America/Chicago:20271014T223000
DTSTAMP:20260425T072637
CREATED:20260112T180331Z
LAST-MODIFIED:20260317T190351Z
UID:10003567-1823506200-1823553000@fayaltwp.org
SUMMARY:Yoga
DESCRIPTION:
URL:https://fayaltwp.org/event/yoga-2-2/2027-10-14/
END:VEVENT
BEGIN:VEVENT
DTSTART;TZID=America/Chicago:20271015T093000
DTEND;TZID=America/Chicago:20271015T103000
DTSTAMP:20260425T072637
CREATED:20240207T174449Z
LAST-MODIFIED:20260317T185548Z
UID:10001907-1823592600-1823596200@fayaltwp.org
SUMMARY:Aerobics
DESCRIPTION:
URL:https://fayaltwp.org/event/aerobics/2027-10-15/
END:VEVENT
BEGIN:VEVENT
DTSTART;TZID=America/Chicago:20271018T093000
DTEND;TZID=America/Chicago:20271018T103000
DTSTAMP:20260425T072637
CREATED:20240207T174449Z
LAST-MODIFIED:20260317T185548Z
UID:10001908-1823851800-1823855400@fayaltwp.org
SUMMARY:Aerobics
DESCRIPTION:
URL:https://fayaltwp.org/event/aerobics/2027-10-18/
END:VEVENT
BEGIN:VEVENT
DTSTART;TZID=America/Chicago:20271018T160000
DTEND;TZID=America/Chicago:20271018T183000
DTSTAMP:20260425T072637
CREATED:20250905T131821Z
LAST-MODIFIED:20250905T131821Z
UID:10003829-1823875200-1823884200@fayaltwp.org
SUMMARY:T.O.P.S.
DESCRIPTION:
URL:https://fayaltwp.org/event/t-o-p-s/2027-10-18/
END:VEVENT
BEGIN:VEVENT
DTSTART;TZID=America/Chicago:20271019T190000
DTEND;TZID=America/Chicago:20271019T203000
DTSTAMP:20260425T072637
CREATED:20230727T144614Z
LAST-MODIFIED:20250115T222032Z
UID:10003373-1823972400-1823977800@fayaltwp.org
SUMMARY:Town Board Meeting
DESCRIPTION:Meeting lengths may vary
URL:https://fayaltwp.org/event/town-board-meeting-2/2027-10-19/
END:VEVENT
BEGIN:VEVENT
DTSTART;TZID=America/Chicago:20271020T093000
DTEND;TZID=America/Chicago:20271020T103000
DTSTAMP:20260425T072637
CREATED:20240207T174449Z
LAST-MODIFIED:20260317T185548Z
UID:10001909-1824024600-1824028200@fayaltwp.org
SUMMARY:Aerobics
DESCRIPTION:
URL:https://fayaltwp.org/event/aerobics/2027-10-20/
END:VEVENT
BEGIN:VEVENT
DTSTART;TZID=America/Chicago:20271021T093000
DTEND;TZID=America/Chicago:20271021T223000
DTSTAMP:20260425T072637
CREATED:20260112T180331Z
LAST-MODIFIED:20260317T190351Z
UID:10003568-1824111000-1824157800@fayaltwp.org
SUMMARY:Yoga
DESCRIPTION:
URL:https://fayaltwp.org/event/yoga-2-2/2027-10-21/
END:VEVENT
BEGIN:VEVENT
DTSTART;TZID=America/Chicago:20271021T183000
DTEND;TZID=America/Chicago:20271021T200000
DTSTAMP:20260425T072637
CREATED:20190917T020221Z
LAST-MODIFIED:20250110T151531Z
UID:10003097-1824143400-1824148800@fayaltwp.org
SUMMARY:Eveleth-Fayal Garden Club
DESCRIPTION:Meeting lengths may vary
URL:https://fayaltwp.org/event/eveleth-fayal-garden-club/2027-10-21/
END:VEVENT
BEGIN:VEVENT
DTSTART;TZID=America/Chicago:20271022T093000
DTEND;TZID=America/Chicago:20271022T103000
DTSTAMP:20260425T072637
CREATED:20240207T174449Z
LAST-MODIFIED:20260317T185548Z
UID:10001910-1824197400-1824201000@fayaltwp.org
SUMMARY:Aerobics
DESCRIPTION:
URL:https://fayaltwp.org/event/aerobics/2027-10-22/
END:VEVENT
BEGIN:VEVENT
DTSTART;TZID=America/Chicago:20271025T093000
DTEND;TZID=America/Chicago:20271025T103000
DTSTAMP:20260425T072637
CREATED:20240207T174449Z
LAST-MODIFIED:20260317T185548Z
UID:10001911-1824456600-1824460200@fayaltwp.org
SUMMARY:Aerobics
DESCRIPTION:
URL:https://fayaltwp.org/event/aerobics/2027-10-25/
END:VEVENT
BEGIN:VEVENT
DTSTART;TZID=America/Chicago:20271025T160000
DTEND;TZID=America/Chicago:20271025T183000
DTSTAMP:20260425T072637
CREATED:20250905T131821Z
LAST-MODIFIED:20250905T131821Z
UID:10003830-1824480000-1824489000@fayaltwp.org
SUMMARY:T.O.P.S.
DESCRIPTION:
URL:https://fayaltwp.org/event/t-o-p-s/2027-10-25/
END:VEVENT
BEGIN:VEVENT
DTSTART;TZID=America/Chicago:20271027T093000
DTEND;TZID=America/Chicago:20271027T103000
DTSTAMP:20260425T072637
CREATED:20240207T174449Z
LAST-MODIFIED:20260317T185548Z
UID:10001912-1824629400-1824633000@fayaltwp.org
SUMMARY:Aerobics
DESCRIPTION:
URL:https://fayaltwp.org/event/aerobics/2027-10-27/
END:VEVENT
BEGIN:VEVENT
DTSTART;TZID=America/Chicago:20271028T093000
DTEND;TZID=America/Chicago:20271028T223000
DTSTAMP:20260425T072637
CREATED:20260112T180331Z
LAST-MODIFIED:20260317T190351Z
UID:10003569-1824715800-1824762600@fayaltwp.org
SUMMARY:Yoga
DESCRIPTION:
URL:https://fayaltwp.org/event/yoga-2-2/2027-10-28/
END:VEVENT
BEGIN:VEVENT
DTSTART;TZID=America/Chicago:20271029T093000
DTEND;TZID=America/Chicago:20271029T103000
DTSTAMP:20260425T072637
CREATED:20240207T174449Z
LAST-MODIFIED:20260317T185548Z
UID:10001913-1824802200-1824805800@fayaltwp.org
SUMMARY:Aerobics
DESCRIPTION:
URL:https://fayaltwp.org/event/aerobics/2027-10-29/
END:VEVENT
END:VCALENDAR