BEGIN:VCALENDAR
VERSION:2.0
PRODID:-//Fayal Twp - ECPv6.15.17.1//NONSGML v1.0//EN
CALSCALE:GREGORIAN
METHOD:PUBLISH
X-WR-CALNAME:Fayal Twp
X-ORIGINAL-URL:https://fayaltwp.org
X-WR-CALDESC:Events for Fayal Twp
REFRESH-INTERVAL;VALUE=DURATION:PT1H
X-Robots-Tag:noindex
X-PUBLISHED-TTL:PT1H
BEGIN:VTIMEZONE
TZID:America/Chicago
BEGIN:DAYLIGHT
TZOFFSETFROM:-0600
TZOFFSETTO:-0500
TZNAME:CDT
DTSTART:20240310T080000
END:DAYLIGHT
BEGIN:STANDARD
TZOFFSETFROM:-0500
TZOFFSETTO:-0600
TZNAME:CST
DTSTART:20241103T070000
END:STANDARD
BEGIN:DAYLIGHT
TZOFFSETFROM:-0600
TZOFFSETTO:-0500
TZNAME:CDT
DTSTART:20250309T080000
END:DAYLIGHT
BEGIN:STANDARD
TZOFFSETFROM:-0500
TZOFFSETTO:-0600
TZNAME:CST
DTSTART:20251102T070000
END:STANDARD
BEGIN:DAYLIGHT
TZOFFSETFROM:-0600
TZOFFSETTO:-0500
TZNAME:CDT
DTSTART:20260308T080000
END:DAYLIGHT
BEGIN:STANDARD
TZOFFSETFROM:-0500
TZOFFSETTO:-0600
TZNAME:CST
DTSTART:20261101T070000
END:STANDARD
END:VTIMEZONE
BEGIN:VEVENT
DTSTART;TZID=America/Chicago:20251029T093000
DTEND;TZID=America/Chicago:20251029T103000
DTSTAMP:20260424T061151
CREATED:20240207T174449Z
LAST-MODIFIED:20260317T185548Z
UID:10001600-1761730200-1761733800@fayaltwp.org
SUMMARY:Aerobics
DESCRIPTION:
URL:https://fayaltwp.org/event/aerobics/2025-10-29/
END:VEVENT
BEGIN:VEVENT
DTSTART;TZID=America/Chicago:20251030T093000
DTEND;TZID=America/Chicago:20251030T223000
DTSTAMP:20260424T061151
CREATED:20250908T145635Z
LAST-MODIFIED:20250908T145635Z
UID:10003465-1761816600-1761863400@fayaltwp.org
SUMMARY:Yoga
DESCRIPTION:
URL:https://fayaltwp.org/event/yoga-2/2025-10-30/
END:VEVENT
BEGIN:VEVENT
DTSTART;TZID=America/Chicago:20251031T093000
DTEND;TZID=America/Chicago:20251031T103000
DTSTAMP:20260424T061151
CREATED:20240207T174449Z
LAST-MODIFIED:20260317T185548Z
UID:10001601-1761903000-1761906600@fayaltwp.org
SUMMARY:Aerobics
DESCRIPTION:
URL:https://fayaltwp.org/event/aerobics/2025-10-31/
END:VEVENT
BEGIN:VEVENT
DTSTART;VALUE=DATE:20251102
DTEND;VALUE=DATE:20251104
DTSTAMP:20260424T061151
CREATED:20250908T130050Z
LAST-MODIFIED:20250908T130050Z
UID:10003982-1762059600-1762145999@fayaltwp.org
SUMMARY:Town Hall Rented
DESCRIPTION:
URL:https://fayaltwp.org/event/town-hall-rented-143/
END:VEVENT
BEGIN:VEVENT
DTSTART;TZID=America/Chicago:20251103T093000
DTEND;TZID=America/Chicago:20251103T103000
DTSTAMP:20260424T061151
CREATED:20240207T174449Z
LAST-MODIFIED:20260317T185548Z
UID:10001602-1762162200-1762165800@fayaltwp.org
SUMMARY:Aerobics
DESCRIPTION:
URL:https://fayaltwp.org/event/aerobics/2025-11-03/
END:VEVENT
BEGIN:VEVENT
DTSTART;TZID=America/Chicago:20251103T160000
DTEND;TZID=America/Chicago:20251103T183000
DTSTAMP:20260424T061151
CREATED:20250905T131821Z
LAST-MODIFIED:20250905T131821Z
UID:10003727-1762185600-1762194600@fayaltwp.org
SUMMARY:T.O.P.S.
DESCRIPTION:
URL:https://fayaltwp.org/event/t-o-p-s/2025-11-03/
END:VEVENT
BEGIN:VEVENT
DTSTART;TZID=America/Chicago:20251104T190000
DTEND;TZID=America/Chicago:20251104T203000
DTSTAMP:20260424T061151
CREATED:20240213T194504Z
LAST-MODIFIED:20250318T164658Z
UID:10002409-1762282800-1762288200@fayaltwp.org
SUMMARY:Town Board Meeting
DESCRIPTION:Meeting lengths may vary
URL:https://fayaltwp.org/event/town-board-meeting-3/2025-11-04/
END:VEVENT
BEGIN:VEVENT
DTSTART;TZID=America/Chicago:20251105T093000
DTEND;TZID=America/Chicago:20251105T103000
DTSTAMP:20260424T061151
CREATED:20240207T174449Z
LAST-MODIFIED:20260317T185548Z
UID:10001603-1762335000-1762338600@fayaltwp.org
SUMMARY:Aerobics
DESCRIPTION:
URL:https://fayaltwp.org/event/aerobics/2025-11-05/
END:VEVENT
BEGIN:VEVENT
DTSTART;TZID=America/Chicago:20251106T093000
DTEND;TZID=America/Chicago:20251106T223000
DTSTAMP:20260424T061151
CREATED:20250908T145635Z
LAST-MODIFIED:20250908T145635Z
UID:10003466-1762421400-1762468200@fayaltwp.org
SUMMARY:Yoga
DESCRIPTION:
URL:https://fayaltwp.org/event/yoga-2/2025-11-06/
END:VEVENT
BEGIN:VEVENT
DTSTART;TZID=America/Chicago:20251107T093000
DTEND;TZID=America/Chicago:20251107T103000
DTSTAMP:20260424T061151
CREATED:20240207T174449Z
LAST-MODIFIED:20260317T185548Z
UID:10001604-1762507800-1762511400@fayaltwp.org
SUMMARY:Aerobics
DESCRIPTION:
URL:https://fayaltwp.org/event/aerobics/2025-11-07/
END:VEVENT
BEGIN:VEVENT
DTSTART;VALUE=DATE:20251108
DTEND;VALUE=DATE:20251110
DTSTAMP:20260424T061151
CREATED:20250115T222640Z
LAST-MODIFIED:20250115T222640Z
UID:10003402-1762578000-1762664399@fayaltwp.org
SUMMARY:Craft Fair
DESCRIPTION:
URL:https://fayaltwp.org/event/craft-fair/
END:VEVENT
BEGIN:VEVENT
DTSTART;VALUE=DATE:20251109
DTEND;VALUE=DATE:20251111
DTSTAMP:20260424T061151
CREATED:20250923T191343Z
LAST-MODIFIED:20250923T191343Z
UID:10003989-1762664400-1762750799@fayaltwp.org
SUMMARY:Town Hall Rented
DESCRIPTION:
URL:https://fayaltwp.org/event/town-hall-rented-150/
END:VEVENT
BEGIN:VEVENT
DTSTART;TZID=America/Chicago:20251110T093000
DTEND;TZID=America/Chicago:20251110T103000
DTSTAMP:20260424T061151
CREATED:20240207T174449Z
LAST-MODIFIED:20260317T185548Z
UID:10001605-1762767000-1762770600@fayaltwp.org
SUMMARY:Aerobics
DESCRIPTION:
URL:https://fayaltwp.org/event/aerobics/2025-11-10/
END:VEVENT
BEGIN:VEVENT
DTSTART;TZID=America/Chicago:20251110T120000
DTEND;TZID=America/Chicago:20251110T140000
DTSTAMP:20260424T061151
CREATED:20240207T175425Z
LAST-MODIFIED:20240718T172046Z
UID:10002138-1762776000-1762783200@fayaltwp.org
SUMMARY:Sororiety Meeting
DESCRIPTION:
URL:https://fayaltwp.org/event/sororiety-meeting/2025-11-10/
END:VEVENT
BEGIN:VEVENT
DTSTART;TZID=America/Chicago:20251110T160000
DTEND;TZID=America/Chicago:20251110T183000
DTSTAMP:20260424T061151
CREATED:20250905T131821Z
LAST-MODIFIED:20250905T131821Z
UID:10003728-1762790400-1762799400@fayaltwp.org
SUMMARY:T.O.P.S.
DESCRIPTION:
URL:https://fayaltwp.org/event/t-o-p-s/2025-11-10/
END:VEVENT
BEGIN:VEVENT
DTSTART;TZID=America/Chicago:20251111T180000
DTEND;TZID=America/Chicago:20251111T190000
DTSTAMP:20260424T061151
CREATED:20240213T194019Z
LAST-MODIFIED:20240718T171231Z
UID:10002361-1762884000-1762887600@fayaltwp.org
SUMMARY:Public Utility Meetings
DESCRIPTION:Meeting lengths may vary
URL:https://fayaltwp.org/event/public-utility-meetings-2-2/2025-11-11/
END:VEVENT
BEGIN:VEVENT
DTSTART;TZID=America/Chicago:20251112T093000
DTEND;TZID=America/Chicago:20251112T103000
DTSTAMP:20260424T061151
CREATED:20240207T174449Z
LAST-MODIFIED:20260317T185548Z
UID:10001606-1762939800-1762943400@fayaltwp.org
SUMMARY:Aerobics
DESCRIPTION:
URL:https://fayaltwp.org/event/aerobics/2025-11-12/
END:VEVENT
BEGIN:VEVENT
DTSTART;TZID=America/Chicago:20251113T093000
DTEND;TZID=America/Chicago:20251113T223000
DTSTAMP:20260424T061151
CREATED:20250908T145635Z
LAST-MODIFIED:20250908T145635Z
UID:10003467-1763026200-1763073000@fayaltwp.org
SUMMARY:Yoga
DESCRIPTION:
URL:https://fayaltwp.org/event/yoga-2/2025-11-13/
END:VEVENT
BEGIN:VEVENT
DTSTART;TZID=America/Chicago:20251114T093000
DTEND;TZID=America/Chicago:20251114T103000
DTSTAMP:20260424T061151
CREATED:20240207T174449Z
LAST-MODIFIED:20260317T185548Z
UID:10001607-1763112600-1763116200@fayaltwp.org
SUMMARY:Aerobics
DESCRIPTION:
URL:https://fayaltwp.org/event/aerobics/2025-11-14/
END:VEVENT
BEGIN:VEVENT
DTSTART;TZID=America/Chicago:20251116T173000
DTEND;TZID=America/Chicago:20251116T173000
DTSTAMP:20260424T061151
CREATED:20190917T020012Z
LAST-MODIFIED:20260317T185333Z
UID:10004121-1763314200-1763314200@fayaltwp.org
SUMMARY:Planning Commission Meeting
DESCRIPTION:Meeting lengths may vary
URL:https://fayaltwp.org/event/fayal-planning-commission/2025-11-16/
END:VEVENT
BEGIN:VEVENT
DTSTART;TZID=America/Chicago:20251117T093000
DTEND;TZID=America/Chicago:20251117T103000
DTSTAMP:20260424T061151
CREATED:20240207T174449Z
LAST-MODIFIED:20260317T185548Z
UID:10001608-1763371800-1763375400@fayaltwp.org
SUMMARY:Aerobics
DESCRIPTION:
URL:https://fayaltwp.org/event/aerobics/2025-11-17/
END:VEVENT
BEGIN:VEVENT
DTSTART;TZID=America/Chicago:20251117T160000
DTEND;TZID=America/Chicago:20251117T183000
DTSTAMP:20260424T061151
CREATED:20250905T131821Z
LAST-MODIFIED:20250905T131821Z
UID:10003729-1763395200-1763404200@fayaltwp.org
SUMMARY:T.O.P.S.
DESCRIPTION:
URL:https://fayaltwp.org/event/t-o-p-s/2025-11-17/
END:VEVENT
BEGIN:VEVENT
DTSTART;TZID=America/Chicago:20251118T083000
DTEND;TZID=America/Chicago:20251118T150000
DTSTAMP:20260424T061151
CREATED:20250115T222738Z
LAST-MODIFIED:20250115T222738Z
UID:10003403-1763454600-1763478000@fayaltwp.org
SUMMARY:St. Louis County Board Meeting
DESCRIPTION:
URL:https://fayaltwp.org/event/st-louis-county-board-meeting/
END:VEVENT
BEGIN:VEVENT
DTSTART;TZID=America/Chicago:20251118T190000
DTEND;TZID=America/Chicago:20251118T203000
DTSTAMP:20260424T061151
CREATED:20230727T144614Z
LAST-MODIFIED:20250115T222032Z
UID:10003350-1763492400-1763497800@fayaltwp.org
SUMMARY:Town Board Meeting
DESCRIPTION:Meeting lengths may vary
URL:https://fayaltwp.org/event/town-board-meeting-2/2025-11-18/
END:VEVENT
BEGIN:VEVENT
DTSTART;TZID=America/Chicago:20251119T093000
DTEND;TZID=America/Chicago:20251119T103000
DTSTAMP:20260424T061151
CREATED:20240207T174449Z
LAST-MODIFIED:20260317T185548Z
UID:10001609-1763544600-1763548200@fayaltwp.org
SUMMARY:Aerobics
DESCRIPTION:
URL:https://fayaltwp.org/event/aerobics/2025-11-19/
END:VEVENT
BEGIN:VEVENT
DTSTART;TZID=America/Chicago:20251120T093000
DTEND;TZID=America/Chicago:20251120T223000
DTSTAMP:20260424T061151
CREATED:20250908T145635Z
LAST-MODIFIED:20250908T145635Z
UID:10003468-1763631000-1763677800@fayaltwp.org
SUMMARY:Yoga
DESCRIPTION:
URL:https://fayaltwp.org/event/yoga-2/2025-11-20/
END:VEVENT
BEGIN:VEVENT
DTSTART;TZID=America/Chicago:20251120T183000
DTEND;TZID=America/Chicago:20251120T200000
DTSTAMP:20260424T061151
CREATED:20190917T020221Z
LAST-MODIFIED:20250110T151531Z
UID:10003077-1763663400-1763668800@fayaltwp.org
SUMMARY:Eveleth-Fayal Garden Club
DESCRIPTION:Meeting lengths may vary
URL:https://fayaltwp.org/event/eveleth-fayal-garden-club/2025-11-20/
END:VEVENT
BEGIN:VEVENT
DTSTART;TZID=America/Chicago:20251121T093000
DTEND;TZID=America/Chicago:20251121T103000
DTSTAMP:20260424T061151
CREATED:20240207T174449Z
LAST-MODIFIED:20260317T185548Z
UID:10001610-1763717400-1763721000@fayaltwp.org
SUMMARY:Aerobics
DESCRIPTION:
URL:https://fayaltwp.org/event/aerobics/2025-11-21/
END:VEVENT
BEGIN:VEVENT
DTSTART;VALUE=DATE:20251122
DTEND;VALUE=DATE:20251124
DTSTAMP:20260424T061151
CREATED:20250908T130119Z
LAST-MODIFIED:20250908T130119Z
UID:10003983-1763787600-1763873999@fayaltwp.org
SUMMARY:Town Hall Rented
DESCRIPTION:
URL:https://fayaltwp.org/event/town-hall-rented-144/
END:VEVENT
BEGIN:VEVENT
DTSTART;TZID=America/Chicago:20251124T093000
DTEND;TZID=America/Chicago:20251124T103000
DTSTAMP:20260424T061151
CREATED:20240207T174449Z
LAST-MODIFIED:20260317T185548Z
UID:10001611-1763976600-1763980200@fayaltwp.org
SUMMARY:Aerobics
DESCRIPTION:
URL:https://fayaltwp.org/event/aerobics/2025-11-24/
END:VEVENT
END:VCALENDAR