BEGIN:VCALENDAR
VERSION:2.0
PRODID:-//Fayal Twp - ECPv6.15.17.1//NONSGML v1.0//EN
CALSCALE:GREGORIAN
METHOD:PUBLISH
X-ORIGINAL-URL:https://fayaltwp.org
X-WR-CALDESC:Events for Fayal Twp
REFRESH-INTERVAL;VALUE=DURATION:PT1H
X-Robots-Tag:noindex
X-PUBLISHED-TTL:PT1H
BEGIN:VTIMEZONE
TZID:America/Chicago
BEGIN:DAYLIGHT
TZOFFSETFROM:-0600
TZOFFSETTO:-0500
TZNAME:CDT
DTSTART:20270314T080000
END:DAYLIGHT
BEGIN:STANDARD
TZOFFSETFROM:-0500
TZOFFSETTO:-0600
TZNAME:CST
DTSTART:20271107T070000
END:STANDARD
BEGIN:DAYLIGHT
TZOFFSETFROM:-0600
TZOFFSETTO:-0500
TZNAME:CDT
DTSTART:20280312T080000
END:DAYLIGHT
BEGIN:STANDARD
TZOFFSETFROM:-0500
TZOFFSETTO:-0600
TZNAME:CST
DTSTART:20281105T070000
END:STANDARD
BEGIN:DAYLIGHT
TZOFFSETFROM:-0600
TZOFFSETTO:-0500
TZNAME:CDT
DTSTART:20290311T080000
END:DAYLIGHT
BEGIN:STANDARD
TZOFFSETFROM:-0500
TZOFFSETTO:-0600
TZNAME:CST
DTSTART:20291104T070000
END:STANDARD
END:VTIMEZONE
BEGIN:VEVENT
DTSTART;TZID=America/Chicago:20280103T093000
DTEND;TZID=America/Chicago:20280103T103000
DTSTAMP:20260425T072705
CREATED:20240207T174449Z
LAST-MODIFIED:20260317T185548Z
UID:10001941-1830504600-1830508200@fayaltwp.org
SUMMARY:Aerobics
DESCRIPTION:
URL:https://fayaltwp.org/event/aerobics/2028-01-03/
END:VEVENT
BEGIN:VEVENT
DTSTART;TZID=America/Chicago:20280103T160000
DTEND;TZID=America/Chicago:20280103T183000
DTSTAMP:20260425T072705
CREATED:20250905T131821Z
LAST-MODIFIED:20250905T131821Z
UID:10003840-1830528000-1830537000@fayaltwp.org
SUMMARY:T.O.P.S.
DESCRIPTION:
URL:https://fayaltwp.org/event/t-o-p-s/2028-01-03/
END:VEVENT
BEGIN:VEVENT
DTSTART;TZID=America/Chicago:20280104T190000
DTEND;TZID=America/Chicago:20280104T203000
DTSTAMP:20260425T072705
CREATED:20240213T194504Z
LAST-MODIFIED:20250318T164658Z
UID:10002435-1830625200-1830630600@fayaltwp.org
SUMMARY:Town Board Meeting
DESCRIPTION:Meeting lengths may vary
URL:https://fayaltwp.org/event/town-board-meeting-3/2028-01-04/
END:VEVENT
BEGIN:VEVENT
DTSTART;TZID=America/Chicago:20280105T093000
DTEND;TZID=America/Chicago:20280105T103000
DTSTAMP:20260425T072705
CREATED:20240207T174449Z
LAST-MODIFIED:20260317T185548Z
UID:10001942-1830677400-1830681000@fayaltwp.org
SUMMARY:Aerobics
DESCRIPTION:
URL:https://fayaltwp.org/event/aerobics/2028-01-05/
END:VEVENT
BEGIN:VEVENT
DTSTART;TZID=America/Chicago:20280106T093000
DTEND;TZID=America/Chicago:20280106T223000
DTSTAMP:20260425T072705
CREATED:20260112T180331Z
LAST-MODIFIED:20260317T190351Z
UID:10003579-1830763800-1830810600@fayaltwp.org
SUMMARY:Yoga
DESCRIPTION:
URL:https://fayaltwp.org/event/yoga-2-2/2028-01-06/
END:VEVENT
BEGIN:VEVENT
DTSTART;TZID=America/Chicago:20280107T093000
DTEND;TZID=America/Chicago:20280107T103000
DTSTAMP:20260425T072705
CREATED:20240207T174449Z
LAST-MODIFIED:20260317T185548Z
UID:10001943-1830850200-1830853800@fayaltwp.org
SUMMARY:Aerobics
DESCRIPTION:
URL:https://fayaltwp.org/event/aerobics/2028-01-07/
END:VEVENT
BEGIN:VEVENT
DTSTART;TZID=America/Chicago:20280110T093000
DTEND;TZID=America/Chicago:20280110T103000
DTSTAMP:20260425T072705
CREATED:20240207T174449Z
LAST-MODIFIED:20260317T185548Z
UID:10001944-1831109400-1831113000@fayaltwp.org
SUMMARY:Aerobics
DESCRIPTION:
URL:https://fayaltwp.org/event/aerobics/2028-01-10/
END:VEVENT
BEGIN:VEVENT
DTSTART;TZID=America/Chicago:20280110T120000
DTEND;TZID=America/Chicago:20280110T140000
DTSTAMP:20260425T072705
CREATED:20240207T175425Z
LAST-MODIFIED:20240718T172046Z
UID:10002164-1831118400-1831125600@fayaltwp.org
SUMMARY:Sororiety Meeting
DESCRIPTION:
URL:https://fayaltwp.org/event/sororiety-meeting/2028-01-10/
END:VEVENT
BEGIN:VEVENT
DTSTART;TZID=America/Chicago:20280110T160000
DTEND;TZID=America/Chicago:20280110T183000
DTSTAMP:20260425T072705
CREATED:20250905T131821Z
LAST-MODIFIED:20250905T131821Z
UID:10003841-1831132800-1831141800@fayaltwp.org
SUMMARY:T.O.P.S.
DESCRIPTION:
URL:https://fayaltwp.org/event/t-o-p-s/2028-01-10/
END:VEVENT
BEGIN:VEVENT
DTSTART;TZID=America/Chicago:20280111T180000
DTEND;TZID=America/Chicago:20280111T190000
DTSTAMP:20260425T072705
CREATED:20240213T194019Z
LAST-MODIFIED:20240718T171231Z
UID:10002387-1831226400-1831230000@fayaltwp.org
SUMMARY:Public Utility Meetings
DESCRIPTION:Meeting lengths may vary
URL:https://fayaltwp.org/event/public-utility-meetings-2-2/2028-01-11/
END:VEVENT
BEGIN:VEVENT
DTSTART;TZID=America/Chicago:20280112T093000
DTEND;TZID=America/Chicago:20280112T103000
DTSTAMP:20260425T072705
CREATED:20240207T174449Z
LAST-MODIFIED:20260317T185548Z
UID:10001945-1831282200-1831285800@fayaltwp.org
SUMMARY:Aerobics
DESCRIPTION:
URL:https://fayaltwp.org/event/aerobics/2028-01-12/
END:VEVENT
BEGIN:VEVENT
DTSTART;TZID=America/Chicago:20280113T093000
DTEND;TZID=America/Chicago:20280113T223000
DTSTAMP:20260425T072705
CREATED:20260112T180331Z
LAST-MODIFIED:20260317T190351Z
UID:10003580-1831368600-1831415400@fayaltwp.org
SUMMARY:Yoga
DESCRIPTION:
URL:https://fayaltwp.org/event/yoga-2-2/2028-01-13/
END:VEVENT
BEGIN:VEVENT
DTSTART;TZID=America/Chicago:20280114T093000
DTEND;TZID=America/Chicago:20280114T103000
DTSTAMP:20260425T072705
CREATED:20240207T174449Z
LAST-MODIFIED:20260317T185548Z
UID:10001946-1831455000-1831458600@fayaltwp.org
SUMMARY:Aerobics
DESCRIPTION:
URL:https://fayaltwp.org/event/aerobics/2028-01-14/
END:VEVENT
BEGIN:VEVENT
DTSTART;TZID=America/Chicago:20280117T093000
DTEND;TZID=America/Chicago:20280117T103000
DTSTAMP:20260425T072705
CREATED:20240207T174449Z
LAST-MODIFIED:20260317T185548Z
UID:10001947-1831714200-1831717800@fayaltwp.org
SUMMARY:Aerobics
DESCRIPTION:
URL:https://fayaltwp.org/event/aerobics/2028-01-17/
END:VEVENT
BEGIN:VEVENT
DTSTART;TZID=America/Chicago:20280117T160000
DTEND;TZID=America/Chicago:20280117T183000
DTSTAMP:20260425T072705
CREATED:20250905T131821Z
LAST-MODIFIED:20250905T131821Z
UID:10003842-1831737600-1831746600@fayaltwp.org
SUMMARY:T.O.P.S.
DESCRIPTION:
URL:https://fayaltwp.org/event/t-o-p-s/2028-01-17/
END:VEVENT
BEGIN:VEVENT
DTSTART;TZID=America/Chicago:20280118T190000
DTEND;TZID=America/Chicago:20280118T203000
DTSTAMP:20260425T072705
CREATED:20230727T144614Z
LAST-MODIFIED:20250115T222032Z
UID:10003376-1831834800-1831840200@fayaltwp.org
SUMMARY:Town Board Meeting
DESCRIPTION:Meeting lengths may vary
URL:https://fayaltwp.org/event/town-board-meeting-2/2028-01-18/
END:VEVENT
BEGIN:VEVENT
DTSTART;TZID=America/Chicago:20280119T093000
DTEND;TZID=America/Chicago:20280119T103000
DTSTAMP:20260425T072705
CREATED:20240207T174449Z
LAST-MODIFIED:20260317T185548Z
UID:10001948-1831887000-1831890600@fayaltwp.org
SUMMARY:Aerobics
DESCRIPTION:
URL:https://fayaltwp.org/event/aerobics/2028-01-19/
END:VEVENT
BEGIN:VEVENT
DTSTART;TZID=America/Chicago:20280120T093000
DTEND;TZID=America/Chicago:20280120T223000
DTSTAMP:20260425T072705
CREATED:20260112T180331Z
LAST-MODIFIED:20260317T190351Z
UID:10003581-1831973400-1832020200@fayaltwp.org
SUMMARY:Yoga
DESCRIPTION:
URL:https://fayaltwp.org/event/yoga-2-2/2028-01-20/
END:VEVENT
BEGIN:VEVENT
DTSTART;TZID=America/Chicago:20280120T183000
DTEND;TZID=America/Chicago:20280120T200000
DTSTAMP:20260425T072705
CREATED:20190917T020221Z
LAST-MODIFIED:20250110T151531Z
UID:10003099-1832005800-1832011200@fayaltwp.org
SUMMARY:Eveleth-Fayal Garden Club
DESCRIPTION:Meeting lengths may vary
URL:https://fayaltwp.org/event/eveleth-fayal-garden-club/2028-01-20/
END:VEVENT
BEGIN:VEVENT
DTSTART;TZID=America/Chicago:20280121T093000
DTEND;TZID=America/Chicago:20280121T103000
DTSTAMP:20260425T072705
CREATED:20240207T174449Z
LAST-MODIFIED:20260317T185548Z
UID:10001949-1832059800-1832063400@fayaltwp.org
SUMMARY:Aerobics
DESCRIPTION:
URL:https://fayaltwp.org/event/aerobics/2028-01-21/
END:VEVENT
BEGIN:VEVENT
DTSTART;TZID=America/Chicago:20280124T093000
DTEND;TZID=America/Chicago:20280124T103000
DTSTAMP:20260425T072705
CREATED:20240207T174449Z
LAST-MODIFIED:20260317T185548Z
UID:10001950-1832319000-1832322600@fayaltwp.org
SUMMARY:Aerobics
DESCRIPTION:
URL:https://fayaltwp.org/event/aerobics/2028-01-24/
END:VEVENT
BEGIN:VEVENT
DTSTART;TZID=America/Chicago:20280124T160000
DTEND;TZID=America/Chicago:20280124T183000
DTSTAMP:20260425T072705
CREATED:20250905T131821Z
LAST-MODIFIED:20250905T131821Z
UID:10003843-1832342400-1832351400@fayaltwp.org
SUMMARY:T.O.P.S.
DESCRIPTION:
URL:https://fayaltwp.org/event/t-o-p-s/2028-01-24/
END:VEVENT
BEGIN:VEVENT
DTSTART;TZID=America/Chicago:20280126T093000
DTEND;TZID=America/Chicago:20280126T103000
DTSTAMP:20260425T072705
CREATED:20240207T174449Z
LAST-MODIFIED:20260317T185548Z
UID:10001951-1832491800-1832495400@fayaltwp.org
SUMMARY:Aerobics
DESCRIPTION:
URL:https://fayaltwp.org/event/aerobics/2028-01-26/
END:VEVENT
BEGIN:VEVENT
DTSTART;TZID=America/Chicago:20280127T093000
DTEND;TZID=America/Chicago:20280127T223000
DTSTAMP:20260425T072705
CREATED:20260112T180331Z
LAST-MODIFIED:20260317T190351Z
UID:10003582-1832578200-1832625000@fayaltwp.org
SUMMARY:Yoga
DESCRIPTION:
URL:https://fayaltwp.org/event/yoga-2-2/2028-01-27/
END:VEVENT
BEGIN:VEVENT
DTSTART;TZID=America/Chicago:20280128T093000
DTEND;TZID=America/Chicago:20280128T103000
DTSTAMP:20260425T072705
CREATED:20240207T174449Z
LAST-MODIFIED:20260317T185548Z
UID:10001952-1832664600-1832668200@fayaltwp.org
SUMMARY:Aerobics
DESCRIPTION:
URL:https://fayaltwp.org/event/aerobics/2028-01-28/
END:VEVENT
BEGIN:VEVENT
DTSTART;TZID=America/Chicago:20280131T093000
DTEND;TZID=America/Chicago:20280131T103000
DTSTAMP:20260425T072705
CREATED:20240207T174449Z
LAST-MODIFIED:20260317T185548Z
UID:10001953-1832923800-1832927400@fayaltwp.org
SUMMARY:Aerobics
DESCRIPTION:
URL:https://fayaltwp.org/event/aerobics/2028-01-31/
END:VEVENT
BEGIN:VEVENT
DTSTART;TZID=America/Chicago:20280131T160000
DTEND;TZID=America/Chicago:20280131T183000
DTSTAMP:20260425T072705
CREATED:20250905T131821Z
LAST-MODIFIED:20250905T131821Z
UID:10003844-1832947200-1832956200@fayaltwp.org
SUMMARY:T.O.P.S.
DESCRIPTION:
URL:https://fayaltwp.org/event/t-o-p-s/2028-01-31/
END:VEVENT
BEGIN:VEVENT
DTSTART;TZID=America/Chicago:20280201T190000
DTEND;TZID=America/Chicago:20280201T203000
DTSTAMP:20260425T072705
CREATED:20240213T194504Z
LAST-MODIFIED:20250318T164658Z
UID:10002436-1833044400-1833049800@fayaltwp.org
SUMMARY:Town Board Meeting
DESCRIPTION:Meeting lengths may vary
URL:https://fayaltwp.org/event/town-board-meeting-3/2028-02-01/
END:VEVENT
BEGIN:VEVENT
DTSTART;TZID=America/Chicago:20280202T093000
DTEND;TZID=America/Chicago:20280202T103000
DTSTAMP:20260425T072705
CREATED:20240207T174449Z
LAST-MODIFIED:20260317T185548Z
UID:10001954-1833096600-1833100200@fayaltwp.org
SUMMARY:Aerobics
DESCRIPTION:
URL:https://fayaltwp.org/event/aerobics/2028-02-02/
END:VEVENT
BEGIN:VEVENT
DTSTART;TZID=America/Chicago:20280203T093000
DTEND;TZID=America/Chicago:20280203T223000
DTSTAMP:20260425T072705
CREATED:20260112T180331Z
LAST-MODIFIED:20260317T190351Z
UID:10003583-1833183000-1833229800@fayaltwp.org
SUMMARY:Yoga
DESCRIPTION:
URL:https://fayaltwp.org/event/yoga-2-2/2028-02-03/
END:VEVENT
END:VCALENDAR