BEGIN:VCALENDAR
VERSION:2.0
PRODID:-//Fayal Twp - ECPv6.15.17.1//NONSGML v1.0//EN
CALSCALE:GREGORIAN
METHOD:PUBLISH
X-WR-CALNAME:Fayal Twp
X-ORIGINAL-URL:https://fayaltwp.org
X-WR-CALDESC:Events for Fayal Twp
REFRESH-INTERVAL;VALUE=DURATION:PT1H
X-Robots-Tag:noindex
X-PUBLISHED-TTL:PT1H
BEGIN:VTIMEZONE
TZID:America/Chicago
BEGIN:DAYLIGHT
TZOFFSETFROM:-0600
TZOFFSETTO:-0500
TZNAME:CDT
DTSTART:20240310T080000
END:DAYLIGHT
BEGIN:STANDARD
TZOFFSETFROM:-0500
TZOFFSETTO:-0600
TZNAME:CST
DTSTART:20241103T070000
END:STANDARD
BEGIN:DAYLIGHT
TZOFFSETFROM:-0600
TZOFFSETTO:-0500
TZNAME:CDT
DTSTART:20250309T080000
END:DAYLIGHT
BEGIN:STANDARD
TZOFFSETFROM:-0500
TZOFFSETTO:-0600
TZNAME:CST
DTSTART:20251102T070000
END:STANDARD
BEGIN:DAYLIGHT
TZOFFSETFROM:-0600
TZOFFSETTO:-0500
TZNAME:CDT
DTSTART:20260308T080000
END:DAYLIGHT
BEGIN:STANDARD
TZOFFSETFROM:-0500
TZOFFSETTO:-0600
TZNAME:CST
DTSTART:20261101T070000
END:STANDARD
END:VTIMEZONE
BEGIN:VEVENT
DTSTART;TZID=America/Chicago:20250512T093000
DTEND;TZID=America/Chicago:20250512T103000
DTSTAMP:20260425T080816
CREATED:20240207T174449Z
LAST-MODIFIED:20260317T185548Z
UID:10001527-1747042200-1747045800@fayaltwp.org
SUMMARY:Aerobics
DESCRIPTION:
URL:https://fayaltwp.org/event/aerobics/2025-05-12/
END:VEVENT
BEGIN:VEVENT
DTSTART;VALUE=DATE:20250510
DTEND;VALUE=DATE:20250512
DTSTAMP:20260425T080816
CREATED:20250318T165607Z
LAST-MODIFIED:20250318T165607Z
UID:10003437-1746853200-1746939599@fayaltwp.org
SUMMARY:Town Hall Rented
DESCRIPTION:
URL:https://fayaltwp.org/event/town-hall-rented-123/
END:VEVENT
BEGIN:VEVENT
DTSTART;TZID=America/Chicago:20250509T093000
DTEND;TZID=America/Chicago:20250509T103000
DTSTAMP:20260425T080816
CREATED:20240207T174449Z
LAST-MODIFIED:20260317T185548Z
UID:10001526-1746783000-1746786600@fayaltwp.org
SUMMARY:Aerobics
DESCRIPTION:
URL:https://fayaltwp.org/event/aerobics/2025-05-09/
END:VEVENT
BEGIN:VEVENT
DTSTART;VALUE=DATE:20250509
DTEND;VALUE=DATE:20250511
DTSTAMP:20260425T080816
CREATED:20250501T192622Z
LAST-MODIFIED:20250501T192622Z
UID:10003444-1746766800-1746853199@fayaltwp.org
SUMMARY:Town Hall Rented
DESCRIPTION:
URL:https://fayaltwp.org/event/town-hall-rented-130/
END:VEVENT
BEGIN:VEVENT
DTSTART;TZID=America/Chicago:20250507T093000
DTEND;TZID=America/Chicago:20250507T103000
DTSTAMP:20260425T080816
CREATED:20240207T174449Z
LAST-MODIFIED:20260317T185548Z
UID:10001525-1746610200-1746613800@fayaltwp.org
SUMMARY:Aerobics
DESCRIPTION:
URL:https://fayaltwp.org/event/aerobics/2025-05-07/
END:VEVENT
BEGIN:VEVENT
DTSTART;TZID=America/Chicago:20250506T190000
DTEND;TZID=America/Chicago:20250506T203000
DTSTAMP:20260425T080816
CREATED:20240213T194504Z
LAST-MODIFIED:20250318T164658Z
UID:10002403-1746558000-1746563400@fayaltwp.org
SUMMARY:Town Board Meeting
DESCRIPTION:Meeting lengths may vary
URL:https://fayaltwp.org/event/town-board-meeting-3/2025-05-06/
END:VEVENT
BEGIN:VEVENT
DTSTART;TZID=America/Chicago:20250505T093000
DTEND;TZID=America/Chicago:20250505T103000
DTSTAMP:20260425T080816
CREATED:20240207T174449Z
LAST-MODIFIED:20260317T185548Z
UID:10001524-1746437400-1746441000@fayaltwp.org
SUMMARY:Aerobics
DESCRIPTION:
URL:https://fayaltwp.org/event/aerobics/2025-05-05/
END:VEVENT
BEGIN:VEVENT
DTSTART;VALUE=DATE:20250504
DTEND;VALUE=DATE:20250506
DTSTAMP:20260425T080816
CREATED:20250318T165552Z
LAST-MODIFIED:20250318T165552Z
UID:10003436-1746334800-1746421199@fayaltwp.org
SUMMARY:Town Hall Rented
DESCRIPTION:
URL:https://fayaltwp.org/event/town-hall-rented-122/
END:VEVENT
BEGIN:VEVENT
DTSTART;VALUE=DATE:20250503
DTEND;VALUE=DATE:20250505
DTSTAMP:20260425T080816
CREATED:20250501T192513Z
LAST-MODIFIED:20250501T192513Z
UID:10003443-1746248400-1746334799@fayaltwp.org
SUMMARY:Town Hall Rented
DESCRIPTION:
URL:https://fayaltwp.org/event/town-hall-rented-129/
END:VEVENT
BEGIN:VEVENT
DTSTART;TZID=America/Chicago:20250430T130000
DTEND;TZID=America/Chicago:20250430T140000
DTSTAMP:20260425T080816
CREATED:20250318T164320Z
LAST-MODIFIED:20250318T164320Z
UID:10003427-1746018000-1746021600@fayaltwp.org
SUMMARY:Local Board of Appeal and Equalization
DESCRIPTION:
URL:https://fayaltwp.org/event/local-board-of-appeal-and-equalization/
END:VEVENT
BEGIN:VEVENT
DTSTART;TZID=America/Chicago:20250430T093000
DTEND;TZID=America/Chicago:20250430T103000
DTSTAMP:20260425T080816
CREATED:20240207T174449Z
LAST-MODIFIED:20260317T185548Z
UID:10001522-1746005400-1746009000@fayaltwp.org
SUMMARY:Aerobics
DESCRIPTION:
URL:https://fayaltwp.org/event/aerobics/2025-04-30/
END:VEVENT
BEGIN:VEVENT
DTSTART;TZID=America/Chicago:20250428T093000
DTEND;TZID=America/Chicago:20250428T103000
DTSTAMP:20260425T080816
CREATED:20240207T174449Z
LAST-MODIFIED:20260317T185548Z
UID:10001521-1745832600-1745836200@fayaltwp.org
SUMMARY:Aerobics
DESCRIPTION:
URL:https://fayaltwp.org/event/aerobics/2025-04-28/
END:VEVENT
BEGIN:VEVENT
DTSTART;TZID=America/Chicago:20250426T080000
DTEND;TZID=America/Chicago:20250426T170000
DTSTAMP:20260425T080816
CREATED:20250114T215745Z
LAST-MODIFIED:20250114T215745Z
UID:10003259-1745654400-1745686800@fayaltwp.org
SUMMARY:Men's Swap Meet
DESCRIPTION:
URL:https://fayaltwp.org/event/mens-swap-meet-2/
END:VEVENT
BEGIN:VEVENT
DTSTART;TZID=America/Chicago:20250425T093000
DTEND;TZID=America/Chicago:20250425T103000
DTSTAMP:20260425T080816
CREATED:20240207T174449Z
LAST-MODIFIED:20260317T185548Z
UID:10001520-1745573400-1745577000@fayaltwp.org
SUMMARY:Aerobics
DESCRIPTION:
URL:https://fayaltwp.org/event/aerobics/2025-04-25/
END:VEVENT
BEGIN:VEVENT
DTSTART;VALUE=DATE:20250425
DTEND;VALUE=DATE:20250427
DTSTAMP:20260425T080816
CREATED:20250114T215808Z
LAST-MODIFIED:20250114T215838Z
UID:10003260-1745557200-1745643599@fayaltwp.org
SUMMARY:Town Hall Rented
DESCRIPTION:
URL:https://fayaltwp.org/event/town-hall-rented-101/
END:VEVENT
BEGIN:VEVENT
DTSTART;TZID=America/Chicago:20250423T093000
DTEND;TZID=America/Chicago:20250423T103000
DTSTAMP:20260425T080816
CREATED:20240207T174449Z
LAST-MODIFIED:20260317T185548Z
UID:10001519-1745400600-1745404200@fayaltwp.org
SUMMARY:Aerobics
DESCRIPTION:
URL:https://fayaltwp.org/event/aerobics/2025-04-23/
END:VEVENT
BEGIN:VEVENT
DTSTART;TZID=America/Chicago:20250421T093000
DTEND;TZID=America/Chicago:20250421T103000
DTSTAMP:20260425T080816
CREATED:20240207T174449Z
LAST-MODIFIED:20260317T185548Z
UID:10001518-1745227800-1745231400@fayaltwp.org
SUMMARY:Aerobics
DESCRIPTION:
URL:https://fayaltwp.org/event/aerobics/2025-04-21/
END:VEVENT
BEGIN:VEVENT
DTSTART;VALUE=DATE:20250420
DTEND;VALUE=DATE:20250422
DTSTAMP:20260425T080816
CREATED:20250409T145349Z
LAST-MODIFIED:20250409T145349Z
UID:10003441-1745125200-1745211599@fayaltwp.org
SUMMARY:Town Hall Rented
DESCRIPTION:
URL:https://fayaltwp.org/event/town-hall-rented-127/
END:VEVENT
BEGIN:VEVENT
DTSTART;VALUE=DATE:20250419
DTEND;VALUE=DATE:20250421
DTSTAMP:20260425T080816
CREATED:20250211T191408Z
LAST-MODIFIED:20250211T191408Z
UID:10003412-1745038800-1745125199@fayaltwp.org
SUMMARY:Town Hall Rented
DESCRIPTION:
URL:https://fayaltwp.org/event/town-hall-rented-111/
END:VEVENT
BEGIN:VEVENT
DTSTART;TZID=America/Chicago:20250418T093000
DTEND;TZID=America/Chicago:20250418T103000
DTSTAMP:20260425T080816
CREATED:20240207T174449Z
LAST-MODIFIED:20260317T185548Z
UID:10001517-1744968600-1744972200@fayaltwp.org
SUMMARY:Aerobics
DESCRIPTION:
URL:https://fayaltwp.org/event/aerobics/2025-04-18/
END:VEVENT
BEGIN:VEVENT
DTSTART;VALUE=DATE:20250418
DTEND;VALUE=DATE:20250420
DTSTAMP:20260425T080816
CREATED:20250115T211736Z
LAST-MODIFIED:20250115T211736Z
UID:10003265-1744952400-1745038799@fayaltwp.org
SUMMARY:Clerk's Office Closed
DESCRIPTION:
URL:https://fayaltwp.org/event/clerks-office-closed-11/
END:VEVENT
BEGIN:VEVENT
DTSTART;TZID=America/Chicago:20250417T183000
DTEND;TZID=America/Chicago:20250417T200000
DTSTAMP:20260425T080816
CREATED:20190917T020221Z
LAST-MODIFIED:20250110T151531Z
UID:10003071-1744914600-1744920000@fayaltwp.org
SUMMARY:Eveleth-Fayal Garden Club
DESCRIPTION:Meeting lengths may vary
URL:https://fayaltwp.org/event/eveleth-fayal-garden-club/2025-04-17/
END:VEVENT
BEGIN:VEVENT
DTSTART;TZID=America/Chicago:20250416T173000
DTEND;TZID=America/Chicago:20250416T173000
DTSTAMP:20260425T080816
CREATED:20190917T020012Z
LAST-MODIFIED:20260317T185333Z
UID:10003202-1744824600-1744824600@fayaltwp.org
SUMMARY:Planning Commission Meeting
DESCRIPTION:Meeting lengths may vary
URL:https://fayaltwp.org/event/fayal-planning-commission/2025-04-16/
END:VEVENT
BEGIN:VEVENT
DTSTART;TZID=America/Chicago:20250416T093000
DTEND;TZID=America/Chicago:20250416T103000
DTSTAMP:20260425T080816
CREATED:20240207T174449Z
LAST-MODIFIED:20260317T185548Z
UID:10001516-1744795800-1744799400@fayaltwp.org
SUMMARY:Aerobics
DESCRIPTION:
URL:https://fayaltwp.org/event/aerobics/2025-04-16/
END:VEVENT
BEGIN:VEVENT
DTSTART;TZID=America/Chicago:20250415T190000
DTEND;TZID=America/Chicago:20250415T203000
DTSTAMP:20260425T080816
CREATED:20230727T144614Z
LAST-MODIFIED:20250115T222032Z
UID:10001315-1744743600-1744749000@fayaltwp.org
SUMMARY:Town Board Meeting
DESCRIPTION:Meeting lengths may vary
URL:https://fayaltwp.org/event/town-board-meeting-2/2025-04-15/
END:VEVENT
BEGIN:VEVENT
DTSTART;TZID=America/Chicago:20250415T080000
DTEND;TZID=America/Chicago:20250415T170000
DTSTAMP:20260425T080816
CREATED:20250318T164246Z
LAST-MODIFIED:20250318T164246Z
UID:10003426-1744704000-1744736400@fayaltwp.org
SUMMARY:RSG Training 8:00-3:00
DESCRIPTION:
URL:https://fayaltwp.org/event/rsg-training-800-300/
END:VEVENT
BEGIN:VEVENT
DTSTART;TZID=America/Chicago:20250414T120000
DTEND;TZID=America/Chicago:20250414T140000
DTSTAMP:20260425T080816
CREATED:20240207T175425Z
LAST-MODIFIED:20240718T172046Z
UID:10002131-1744632000-1744639200@fayaltwp.org
SUMMARY:Sororiety Meeting
DESCRIPTION:
URL:https://fayaltwp.org/event/sororiety-meeting/2025-04-14/
END:VEVENT
BEGIN:VEVENT
DTSTART;TZID=America/Chicago:20250414T093000
DTEND;TZID=America/Chicago:20250414T103000
DTSTAMP:20260425T080816
CREATED:20240207T174449Z
LAST-MODIFIED:20260317T185548Z
UID:10001515-1744623000-1744626600@fayaltwp.org
SUMMARY:Aerobics
DESCRIPTION:
URL:https://fayaltwp.org/event/aerobics/2025-04-14/
END:VEVENT
BEGIN:VEVENT
DTSTART;VALUE=DATE:20250413
DTEND;VALUE=DATE:20250415
DTSTAMP:20260425T080816
CREATED:20250211T191347Z
LAST-MODIFIED:20250211T191347Z
UID:10003411-1744520400-1744606799@fayaltwp.org
SUMMARY:Town Hall Rented
DESCRIPTION:
URL:https://fayaltwp.org/event/town-hall-rented-110/
END:VEVENT
BEGIN:VEVENT
DTSTART;VALUE=DATE:20250412
DTEND;VALUE=DATE:20250414
DTSTAMP:20260425T080816
CREATED:20250211T191327Z
LAST-MODIFIED:20250211T191327Z
UID:10003410-1744434000-1744520399@fayaltwp.org
SUMMARY:Town Hall Rented
DESCRIPTION:
URL:https://fayaltwp.org/event/town-hall-rented-109/
END:VEVENT
END:VCALENDAR