BEGIN:VCALENDAR
VERSION:2.0
PRODID:-//Fayal Twp - ECPv6.15.17.1//NONSGML v1.0//EN
CALSCALE:GREGORIAN
METHOD:PUBLISH
X-WR-CALNAME:Fayal Twp
X-ORIGINAL-URL:https://fayaltwp.org
X-WR-CALDESC:Events for Fayal Twp
REFRESH-INTERVAL;VALUE=DURATION:PT1H
X-Robots-Tag:noindex
X-PUBLISHED-TTL:PT1H
BEGIN:VTIMEZONE
TZID:America/Chicago
BEGIN:DAYLIGHT
TZOFFSETFROM:-0600
TZOFFSETTO:-0500
TZNAME:CDT
DTSTART:20260308T080000
END:DAYLIGHT
BEGIN:STANDARD
TZOFFSETFROM:-0500
TZOFFSETTO:-0600
TZNAME:CST
DTSTART:20261101T070000
END:STANDARD
BEGIN:DAYLIGHT
TZOFFSETFROM:-0600
TZOFFSETTO:-0500
TZNAME:CDT
DTSTART:20270314T080000
END:DAYLIGHT
BEGIN:STANDARD
TZOFFSETFROM:-0500
TZOFFSETTO:-0600
TZNAME:CST
DTSTART:20271107T070000
END:STANDARD
BEGIN:DAYLIGHT
TZOFFSETFROM:-0600
TZOFFSETTO:-0500
TZNAME:CDT
DTSTART:20280312T080000
END:DAYLIGHT
BEGIN:STANDARD
TZOFFSETFROM:-0500
TZOFFSETTO:-0600
TZNAME:CST
DTSTART:20281105T070000
END:STANDARD
END:VTIMEZONE
BEGIN:VEVENT
DTSTART;TZID=America/Chicago:20271213T093000
DTEND;TZID=America/Chicago:20271213T103000
DTSTAMP:20260425T072433
CREATED:20240207T174449Z
LAST-MODIFIED:20260317T185548Z
UID:10001932-1828690200-1828693800@fayaltwp.org
SUMMARY:Aerobics
DESCRIPTION:
URL:https://fayaltwp.org/event/aerobics/2027-12-13/
END:VEVENT
BEGIN:VEVENT
DTSTART;TZID=America/Chicago:20271210T093000
DTEND;TZID=America/Chicago:20271210T103000
DTSTAMP:20260425T072433
CREATED:20240207T174449Z
LAST-MODIFIED:20260317T185548Z
UID:10001931-1828431000-1828434600@fayaltwp.org
SUMMARY:Aerobics
DESCRIPTION:
URL:https://fayaltwp.org/event/aerobics/2027-12-10/
END:VEVENT
BEGIN:VEVENT
DTSTART;TZID=America/Chicago:20271209T093000
DTEND;TZID=America/Chicago:20271209T223000
DTSTAMP:20260425T072433
CREATED:20260112T180331Z
LAST-MODIFIED:20260317T190351Z
UID:10003575-1828344600-1828391400@fayaltwp.org
SUMMARY:Yoga
DESCRIPTION:
URL:https://fayaltwp.org/event/yoga-2-2/2027-12-09/
END:VEVENT
BEGIN:VEVENT
DTSTART;TZID=America/Chicago:20271208T093000
DTEND;TZID=America/Chicago:20271208T103000
DTSTAMP:20260425T072433
CREATED:20240207T174449Z
LAST-MODIFIED:20260317T185548Z
UID:10001930-1828258200-1828261800@fayaltwp.org
SUMMARY:Aerobics
DESCRIPTION:
URL:https://fayaltwp.org/event/aerobics/2027-12-08/
END:VEVENT
BEGIN:VEVENT
DTSTART;TZID=America/Chicago:20271207T190000
DTEND;TZID=America/Chicago:20271207T203000
DTSTAMP:20260425T072433
CREATED:20240213T194504Z
LAST-MODIFIED:20250318T164658Z
UID:10002434-1828206000-1828211400@fayaltwp.org
SUMMARY:Town Board Meeting
DESCRIPTION:Meeting lengths may vary
URL:https://fayaltwp.org/event/town-board-meeting-3/2027-12-07/
END:VEVENT
BEGIN:VEVENT
DTSTART;TZID=America/Chicago:20271206T160000
DTEND;TZID=America/Chicago:20271206T183000
DTSTAMP:20260425T072433
CREATED:20250905T131821Z
LAST-MODIFIED:20250905T131821Z
UID:10003836-1828108800-1828117800@fayaltwp.org
SUMMARY:T.O.P.S.
DESCRIPTION:
URL:https://fayaltwp.org/event/t-o-p-s/2027-12-06/
END:VEVENT
BEGIN:VEVENT
DTSTART;TZID=America/Chicago:20271206T093000
DTEND;TZID=America/Chicago:20271206T103000
DTSTAMP:20260425T072433
CREATED:20240207T174449Z
LAST-MODIFIED:20260317T185548Z
UID:10001929-1828085400-1828089000@fayaltwp.org
SUMMARY:Aerobics
DESCRIPTION:
URL:https://fayaltwp.org/event/aerobics/2027-12-06/
END:VEVENT
BEGIN:VEVENT
DTSTART;TZID=America/Chicago:20271203T093000
DTEND;TZID=America/Chicago:20271203T103000
DTSTAMP:20260425T072433
CREATED:20240207T174449Z
LAST-MODIFIED:20260317T185548Z
UID:10001928-1827826200-1827829800@fayaltwp.org
SUMMARY:Aerobics
DESCRIPTION:
URL:https://fayaltwp.org/event/aerobics/2027-12-03/
END:VEVENT
BEGIN:VEVENT
DTSTART;TZID=America/Chicago:20271202T093000
DTEND;TZID=America/Chicago:20271202T223000
DTSTAMP:20260425T072433
CREATED:20260112T180331Z
LAST-MODIFIED:20260317T190351Z
UID:10003574-1827739800-1827786600@fayaltwp.org
SUMMARY:Yoga
DESCRIPTION:
URL:https://fayaltwp.org/event/yoga-2-2/2027-12-02/
END:VEVENT
BEGIN:VEVENT
DTSTART;TZID=America/Chicago:20271201T093000
DTEND;TZID=America/Chicago:20271201T103000
DTSTAMP:20260425T072433
CREATED:20240207T174449Z
LAST-MODIFIED:20260317T185548Z
UID:10001927-1827653400-1827657000@fayaltwp.org
SUMMARY:Aerobics
DESCRIPTION:
URL:https://fayaltwp.org/event/aerobics/2027-12-01/
END:VEVENT
BEGIN:VEVENT
DTSTART;TZID=America/Chicago:20271129T160000
DTEND;TZID=America/Chicago:20271129T183000
DTSTAMP:20260425T072433
CREATED:20250905T131821Z
LAST-MODIFIED:20250905T131821Z
UID:10003835-1827504000-1827513000@fayaltwp.org
SUMMARY:T.O.P.S.
DESCRIPTION:
URL:https://fayaltwp.org/event/t-o-p-s/2027-11-29/
END:VEVENT
BEGIN:VEVENT
DTSTART;TZID=America/Chicago:20271129T093000
DTEND;TZID=America/Chicago:20271129T103000
DTSTAMP:20260425T072433
CREATED:20240207T174449Z
LAST-MODIFIED:20260317T185548Z
UID:10001926-1827480600-1827484200@fayaltwp.org
SUMMARY:Aerobics
DESCRIPTION:
URL:https://fayaltwp.org/event/aerobics/2027-11-29/
END:VEVENT
BEGIN:VEVENT
DTSTART;TZID=America/Chicago:20271126T093000
DTEND;TZID=America/Chicago:20271126T103000
DTSTAMP:20260425T072433
CREATED:20240207T174449Z
LAST-MODIFIED:20260317T185548Z
UID:10001925-1827221400-1827225000@fayaltwp.org
SUMMARY:Aerobics
DESCRIPTION:
URL:https://fayaltwp.org/event/aerobics/2027-11-26/
END:VEVENT
BEGIN:VEVENT
DTSTART;TZID=America/Chicago:20271125T093000
DTEND;TZID=America/Chicago:20271125T223000
DTSTAMP:20260425T072433
CREATED:20260112T180331Z
LAST-MODIFIED:20260317T190351Z
UID:10003573-1827135000-1827181800@fayaltwp.org
SUMMARY:Yoga
DESCRIPTION:
URL:https://fayaltwp.org/event/yoga-2-2/2027-11-25/
END:VEVENT
BEGIN:VEVENT
DTSTART;TZID=America/Chicago:20271124T093000
DTEND;TZID=America/Chicago:20271124T103000
DTSTAMP:20260425T072433
CREATED:20240207T174449Z
LAST-MODIFIED:20260317T185548Z
UID:10001924-1827048600-1827052200@fayaltwp.org
SUMMARY:Aerobics
DESCRIPTION:
URL:https://fayaltwp.org/event/aerobics/2027-11-24/
END:VEVENT
BEGIN:VEVENT
DTSTART;TZID=America/Chicago:20271122T160000
DTEND;TZID=America/Chicago:20271122T183000
DTSTAMP:20260425T072433
CREATED:20250905T131821Z
LAST-MODIFIED:20250905T131821Z
UID:10003834-1826899200-1826908200@fayaltwp.org
SUMMARY:T.O.P.S.
DESCRIPTION:
URL:https://fayaltwp.org/event/t-o-p-s/2027-11-22/
END:VEVENT
BEGIN:VEVENT
DTSTART;TZID=America/Chicago:20271122T093000
DTEND;TZID=America/Chicago:20271122T103000
DTSTAMP:20260425T072433
CREATED:20240207T174449Z
LAST-MODIFIED:20260317T185548Z
UID:10001923-1826875800-1826879400@fayaltwp.org
SUMMARY:Aerobics
DESCRIPTION:
URL:https://fayaltwp.org/event/aerobics/2027-11-22/
END:VEVENT
BEGIN:VEVENT
DTSTART;TZID=America/Chicago:20271119T093000
DTEND;TZID=America/Chicago:20271119T103000
DTSTAMP:20260425T072433
CREATED:20240207T174449Z
LAST-MODIFIED:20260317T185548Z
UID:10001922-1826616600-1826620200@fayaltwp.org
SUMMARY:Aerobics
DESCRIPTION:
URL:https://fayaltwp.org/event/aerobics/2027-11-19/
END:VEVENT
BEGIN:VEVENT
DTSTART;TZID=America/Chicago:20271118T183000
DTEND;TZID=America/Chicago:20271118T200000
DTSTAMP:20260425T072433
CREATED:20190917T020221Z
LAST-MODIFIED:20250110T151531Z
UID:10003098-1826562600-1826568000@fayaltwp.org
SUMMARY:Eveleth-Fayal Garden Club
DESCRIPTION:Meeting lengths may vary
URL:https://fayaltwp.org/event/eveleth-fayal-garden-club/2027-11-18/
END:VEVENT
BEGIN:VEVENT
DTSTART;TZID=America/Chicago:20271118T093000
DTEND;TZID=America/Chicago:20271118T223000
DTSTAMP:20260425T072433
CREATED:20260112T180331Z
LAST-MODIFIED:20260317T190351Z
UID:10003572-1826530200-1826577000@fayaltwp.org
SUMMARY:Yoga
DESCRIPTION:
URL:https://fayaltwp.org/event/yoga-2-2/2027-11-18/
END:VEVENT
BEGIN:VEVENT
DTSTART;TZID=America/Chicago:20271117T093000
DTEND;TZID=America/Chicago:20271117T103000
DTSTAMP:20260425T072433
CREATED:20240207T174449Z
LAST-MODIFIED:20260317T185548Z
UID:10001921-1826443800-1826447400@fayaltwp.org
SUMMARY:Aerobics
DESCRIPTION:
URL:https://fayaltwp.org/event/aerobics/2027-11-17/
END:VEVENT
BEGIN:VEVENT
DTSTART;TZID=America/Chicago:20271116T190000
DTEND;TZID=America/Chicago:20271116T203000
DTSTAMP:20260425T072433
CREATED:20230727T144614Z
LAST-MODIFIED:20250115T222032Z
UID:10003374-1826391600-1826397000@fayaltwp.org
SUMMARY:Town Board Meeting
DESCRIPTION:Meeting lengths may vary
URL:https://fayaltwp.org/event/town-board-meeting-2/2027-11-16/
END:VEVENT
BEGIN:VEVENT
DTSTART;TZID=America/Chicago:20271115T160000
DTEND;TZID=America/Chicago:20271115T183000
DTSTAMP:20260425T072433
CREATED:20250905T131821Z
LAST-MODIFIED:20250905T131821Z
UID:10003833-1826294400-1826303400@fayaltwp.org
SUMMARY:T.O.P.S.
DESCRIPTION:
URL:https://fayaltwp.org/event/t-o-p-s/2027-11-15/
END:VEVENT
BEGIN:VEVENT
DTSTART;TZID=America/Chicago:20271115T093000
DTEND;TZID=America/Chicago:20271115T103000
DTSTAMP:20260425T072433
CREATED:20240207T174449Z
LAST-MODIFIED:20260317T185548Z
UID:10001920-1826271000-1826274600@fayaltwp.org
SUMMARY:Aerobics
DESCRIPTION:
URL:https://fayaltwp.org/event/aerobics/2027-11-15/
END:VEVENT
BEGIN:VEVENT
DTSTART;TZID=America/Chicago:20271112T093000
DTEND;TZID=America/Chicago:20271112T103000
DTSTAMP:20260425T072433
CREATED:20240207T174449Z
LAST-MODIFIED:20260317T185548Z
UID:10001919-1826011800-1826015400@fayaltwp.org
SUMMARY:Aerobics
DESCRIPTION:
URL:https://fayaltwp.org/event/aerobics/2027-11-12/
END:VEVENT
BEGIN:VEVENT
DTSTART;TZID=America/Chicago:20271111T093000
DTEND;TZID=America/Chicago:20271111T223000
DTSTAMP:20260425T072433
CREATED:20260112T180331Z
LAST-MODIFIED:20260317T190351Z
UID:10003571-1825925400-1825972200@fayaltwp.org
SUMMARY:Yoga
DESCRIPTION:
URL:https://fayaltwp.org/event/yoga-2-2/2027-11-11/
END:VEVENT
BEGIN:VEVENT
DTSTART;TZID=America/Chicago:20271110T093000
DTEND;TZID=America/Chicago:20271110T103000
DTSTAMP:20260425T072433
CREATED:20240207T174449Z
LAST-MODIFIED:20260317T185548Z
UID:10001918-1825839000-1825842600@fayaltwp.org
SUMMARY:Aerobics
DESCRIPTION:
URL:https://fayaltwp.org/event/aerobics/2027-11-10/
END:VEVENT
BEGIN:VEVENT
DTSTART;TZID=America/Chicago:20271109T180000
DTEND;TZID=America/Chicago:20271109T190000
DTSTAMP:20260425T072433
CREATED:20240213T194019Z
LAST-MODIFIED:20240718T171231Z
UID:10002385-1825783200-1825786800@fayaltwp.org
SUMMARY:Public Utility Meetings
DESCRIPTION:Meeting lengths may vary
URL:https://fayaltwp.org/event/public-utility-meetings-2-2/2027-11-09/
END:VEVENT
BEGIN:VEVENT
DTSTART;TZID=America/Chicago:20271108T160000
DTEND;TZID=America/Chicago:20271108T183000
DTSTAMP:20260425T072433
CREATED:20250905T131821Z
LAST-MODIFIED:20250905T131821Z
UID:10003832-1825689600-1825698600@fayaltwp.org
SUMMARY:T.O.P.S.
DESCRIPTION:
URL:https://fayaltwp.org/event/t-o-p-s/2027-11-08/
END:VEVENT
BEGIN:VEVENT
DTSTART;TZID=America/Chicago:20271108T120000
DTEND;TZID=America/Chicago:20271108T140000
DTSTAMP:20260425T072433
CREATED:20240207T175425Z
LAST-MODIFIED:20240718T172046Z
UID:10002162-1825675200-1825682400@fayaltwp.org
SUMMARY:Sororiety Meeting
DESCRIPTION:
URL:https://fayaltwp.org/event/sororiety-meeting/2027-11-08/
END:VEVENT
END:VCALENDAR