BEGIN:VCALENDAR
VERSION:2.0
PRODID:-//Fayal Twp - ECPv6.15.17.1//NONSGML v1.0//EN
CALSCALE:GREGORIAN
METHOD:PUBLISH
X-ORIGINAL-URL:https://fayaltwp.org
X-WR-CALDESC:Events for Fayal Twp
REFRESH-INTERVAL;VALUE=DURATION:PT1H
X-Robots-Tag:noindex
X-PUBLISHED-TTL:PT1H
BEGIN:VTIMEZONE
TZID:America/Chicago
BEGIN:DAYLIGHT
TZOFFSETFROM:-0600
TZOFFSETTO:-0500
TZNAME:CDT
DTSTART:20270314T080000
END:DAYLIGHT
BEGIN:STANDARD
TZOFFSETFROM:-0500
TZOFFSETTO:-0600
TZNAME:CST
DTSTART:20271107T070000
END:STANDARD
BEGIN:DAYLIGHT
TZOFFSETFROM:-0600
TZOFFSETTO:-0500
TZNAME:CDT
DTSTART:20280312T080000
END:DAYLIGHT
BEGIN:STANDARD
TZOFFSETFROM:-0500
TZOFFSETTO:-0600
TZNAME:CST
DTSTART:20281105T070000
END:STANDARD
BEGIN:DAYLIGHT
TZOFFSETFROM:-0600
TZOFFSETTO:-0500
TZNAME:CDT
DTSTART:20290311T080000
END:DAYLIGHT
BEGIN:STANDARD
TZOFFSETFROM:-0500
TZOFFSETTO:-0600
TZNAME:CST
DTSTART:20291104T070000
END:STANDARD
END:VTIMEZONE
BEGIN:VEVENT
DTSTART;TZID=America/Chicago:20280629T093000
DTEND;TZID=America/Chicago:20280629T223000
DTSTAMP:20260425T082911
CREATED:20260112T180331Z
LAST-MODIFIED:20260317T190351Z
UID:10003604-1845883800-1845930600@fayaltwp.org
SUMMARY:Yoga
DESCRIPTION:
URL:https://fayaltwp.org/event/yoga-2-2/2028-06-29/
END:VEVENT
BEGIN:VEVENT
DTSTART;TZID=America/Chicago:20280630T093000
DTEND;TZID=America/Chicago:20280630T103000
DTSTAMP:20260425T082911
CREATED:20240207T174449Z
LAST-MODIFIED:20260317T185548Z
UID:10002018-1845970200-1845973800@fayaltwp.org
SUMMARY:Aerobics
DESCRIPTION:
URL:https://fayaltwp.org/event/aerobics/2028-06-30/
END:VEVENT
BEGIN:VEVENT
DTSTART;TZID=America/Chicago:20280703T093000
DTEND;TZID=America/Chicago:20280703T103000
DTSTAMP:20260425T082911
CREATED:20240207T174449Z
LAST-MODIFIED:20260317T185548Z
UID:10002019-1846229400-1846233000@fayaltwp.org
SUMMARY:Aerobics
DESCRIPTION:
URL:https://fayaltwp.org/event/aerobics/2028-07-03/
END:VEVENT
BEGIN:VEVENT
DTSTART;TZID=America/Chicago:20280703T160000
DTEND;TZID=America/Chicago:20280703T183000
DTSTAMP:20260425T082911
CREATED:20250905T131821Z
LAST-MODIFIED:20250905T131821Z
UID:10003866-1846252800-1846261800@fayaltwp.org
SUMMARY:T.O.P.S.
DESCRIPTION:
URL:https://fayaltwp.org/event/t-o-p-s/2028-07-03/
END:VEVENT
BEGIN:VEVENT
DTSTART;TZID=America/Chicago:20280704T190000
DTEND;TZID=America/Chicago:20280704T203000
DTSTAMP:20260425T082911
CREATED:20240213T194504Z
LAST-MODIFIED:20250318T164658Z
UID:10002441-1846350000-1846355400@fayaltwp.org
SUMMARY:Town Board Meeting
DESCRIPTION:Meeting lengths may vary
URL:https://fayaltwp.org/event/town-board-meeting-3/2028-07-04/
END:VEVENT
BEGIN:VEVENT
DTSTART;TZID=America/Chicago:20280705T093000
DTEND;TZID=America/Chicago:20280705T103000
DTSTAMP:20260425T082911
CREATED:20240207T174449Z
LAST-MODIFIED:20260317T185548Z
UID:10002020-1846402200-1846405800@fayaltwp.org
SUMMARY:Aerobics
DESCRIPTION:
URL:https://fayaltwp.org/event/aerobics/2028-07-05/
END:VEVENT
BEGIN:VEVENT
DTSTART;TZID=America/Chicago:20280706T093000
DTEND;TZID=America/Chicago:20280706T223000
DTSTAMP:20260425T082911
CREATED:20260112T180331Z
LAST-MODIFIED:20260317T190351Z
UID:10003605-1846488600-1846535400@fayaltwp.org
SUMMARY:Yoga
DESCRIPTION:
URL:https://fayaltwp.org/event/yoga-2-2/2028-07-06/
END:VEVENT
BEGIN:VEVENT
DTSTART;TZID=America/Chicago:20280707T093000
DTEND;TZID=America/Chicago:20280707T103000
DTSTAMP:20260425T082911
CREATED:20240207T174449Z
LAST-MODIFIED:20260317T185548Z
UID:10002021-1846575000-1846578600@fayaltwp.org
SUMMARY:Aerobics
DESCRIPTION:
URL:https://fayaltwp.org/event/aerobics/2028-07-07/
END:VEVENT
BEGIN:VEVENT
DTSTART;TZID=America/Chicago:20280710T093000
DTEND;TZID=America/Chicago:20280710T103000
DTSTAMP:20260425T082911
CREATED:20240207T174449Z
LAST-MODIFIED:20260317T185548Z
UID:10002022-1846834200-1846837800@fayaltwp.org
SUMMARY:Aerobics
DESCRIPTION:
URL:https://fayaltwp.org/event/aerobics/2028-07-10/
END:VEVENT
BEGIN:VEVENT
DTSTART;TZID=America/Chicago:20280710T120000
DTEND;TZID=America/Chicago:20280710T140000
DTSTAMP:20260425T082911
CREATED:20240207T175425Z
LAST-MODIFIED:20240718T172046Z
UID:10002170-1846843200-1846850400@fayaltwp.org
SUMMARY:Sororiety Meeting
DESCRIPTION:
URL:https://fayaltwp.org/event/sororiety-meeting/2028-07-10/
END:VEVENT
BEGIN:VEVENT
DTSTART;TZID=America/Chicago:20280710T160000
DTEND;TZID=America/Chicago:20280710T183000
DTSTAMP:20260425T082911
CREATED:20250905T131821Z
LAST-MODIFIED:20250905T131821Z
UID:10003867-1846857600-1846866600@fayaltwp.org
SUMMARY:T.O.P.S.
DESCRIPTION:
URL:https://fayaltwp.org/event/t-o-p-s/2028-07-10/
END:VEVENT
BEGIN:VEVENT
DTSTART;TZID=America/Chicago:20280711T180000
DTEND;TZID=America/Chicago:20280711T190000
DTSTAMP:20260425T082911
CREATED:20240213T194019Z
LAST-MODIFIED:20240718T171231Z
UID:10002393-1846951200-1846954800@fayaltwp.org
SUMMARY:Public Utility Meetings
DESCRIPTION:Meeting lengths may vary
URL:https://fayaltwp.org/event/public-utility-meetings-2-2/2028-07-11/
END:VEVENT
BEGIN:VEVENT
DTSTART;TZID=America/Chicago:20280712T093000
DTEND;TZID=America/Chicago:20280712T103000
DTSTAMP:20260425T082911
CREATED:20240207T174449Z
LAST-MODIFIED:20260317T185548Z
UID:10002023-1847007000-1847010600@fayaltwp.org
SUMMARY:Aerobics
DESCRIPTION:
URL:https://fayaltwp.org/event/aerobics/2028-07-12/
END:VEVENT
BEGIN:VEVENT
DTSTART;TZID=America/Chicago:20280713T093000
DTEND;TZID=America/Chicago:20280713T223000
DTSTAMP:20260425T082911
CREATED:20260112T180331Z
LAST-MODIFIED:20260317T190351Z
UID:10003606-1847093400-1847140200@fayaltwp.org
SUMMARY:Yoga
DESCRIPTION:
URL:https://fayaltwp.org/event/yoga-2-2/2028-07-13/
END:VEVENT
BEGIN:VEVENT
DTSTART;TZID=America/Chicago:20280714T093000
DTEND;TZID=America/Chicago:20280714T103000
DTSTAMP:20260425T082911
CREATED:20240207T174449Z
LAST-MODIFIED:20260317T185548Z
UID:10002024-1847179800-1847183400@fayaltwp.org
SUMMARY:Aerobics
DESCRIPTION:
URL:https://fayaltwp.org/event/aerobics/2028-07-14/
END:VEVENT
BEGIN:VEVENT
DTSTART;TZID=America/Chicago:20280717T093000
DTEND;TZID=America/Chicago:20280717T103000
DTSTAMP:20260425T082911
CREATED:20240207T174449Z
LAST-MODIFIED:20260317T185548Z
UID:10002025-1847439000-1847442600@fayaltwp.org
SUMMARY:Aerobics
DESCRIPTION:
URL:https://fayaltwp.org/event/aerobics/2028-07-17/
END:VEVENT
BEGIN:VEVENT
DTSTART;TZID=America/Chicago:20280717T160000
DTEND;TZID=America/Chicago:20280717T183000
DTSTAMP:20260425T082911
CREATED:20250905T131821Z
LAST-MODIFIED:20250905T131821Z
UID:10003868-1847462400-1847471400@fayaltwp.org
SUMMARY:T.O.P.S.
DESCRIPTION:
URL:https://fayaltwp.org/event/t-o-p-s/2028-07-17/
END:VEVENT
BEGIN:VEVENT
DTSTART;TZID=America/Chicago:20280718T190000
DTEND;TZID=America/Chicago:20280718T203000
DTSTAMP:20260425T082911
CREATED:20230727T144614Z
LAST-MODIFIED:20250115T222032Z
UID:10003382-1847559600-1847565000@fayaltwp.org
SUMMARY:Town Board Meeting
DESCRIPTION:Meeting lengths may vary
URL:https://fayaltwp.org/event/town-board-meeting-2/2028-07-18/
END:VEVENT
BEGIN:VEVENT
DTSTART;TZID=America/Chicago:20280719T093000
DTEND;TZID=America/Chicago:20280719T103000
DTSTAMP:20260425T082911
CREATED:20240207T174449Z
LAST-MODIFIED:20260317T185548Z
UID:10002026-1847611800-1847615400@fayaltwp.org
SUMMARY:Aerobics
DESCRIPTION:
URL:https://fayaltwp.org/event/aerobics/2028-07-19/
END:VEVENT
BEGIN:VEVENT
DTSTART;TZID=America/Chicago:20280720T093000
DTEND;TZID=America/Chicago:20280720T223000
DTSTAMP:20260425T082911
CREATED:20260112T180331Z
LAST-MODIFIED:20260317T190351Z
UID:10003607-1847698200-1847745000@fayaltwp.org
SUMMARY:Yoga
DESCRIPTION:
URL:https://fayaltwp.org/event/yoga-2-2/2028-07-20/
END:VEVENT
BEGIN:VEVENT
DTSTART;TZID=America/Chicago:20280720T183000
DTEND;TZID=America/Chicago:20280720T200000
DTSTAMP:20260425T082911
CREATED:20190917T020221Z
LAST-MODIFIED:20250110T151531Z
UID:10003104-1847730600-1847736000@fayaltwp.org
SUMMARY:Eveleth-Fayal Garden Club
DESCRIPTION:Meeting lengths may vary
URL:https://fayaltwp.org/event/eveleth-fayal-garden-club/2028-07-20/
END:VEVENT
BEGIN:VEVENT
DTSTART;TZID=America/Chicago:20280721T093000
DTEND;TZID=America/Chicago:20280721T103000
DTSTAMP:20260425T082911
CREATED:20240207T174449Z
LAST-MODIFIED:20260317T185548Z
UID:10002027-1847784600-1847788200@fayaltwp.org
SUMMARY:Aerobics
DESCRIPTION:
URL:https://fayaltwp.org/event/aerobics/2028-07-21/
END:VEVENT
BEGIN:VEVENT
DTSTART;TZID=America/Chicago:20280724T093000
DTEND;TZID=America/Chicago:20280724T103000
DTSTAMP:20260425T082911
CREATED:20240207T174449Z
LAST-MODIFIED:20260317T185548Z
UID:10002028-1848043800-1848047400@fayaltwp.org
SUMMARY:Aerobics
DESCRIPTION:
URL:https://fayaltwp.org/event/aerobics/2028-07-24/
END:VEVENT
BEGIN:VEVENT
DTSTART;TZID=America/Chicago:20280724T160000
DTEND;TZID=America/Chicago:20280724T183000
DTSTAMP:20260425T082911
CREATED:20250905T131821Z
LAST-MODIFIED:20250905T131821Z
UID:10003869-1848067200-1848076200@fayaltwp.org
SUMMARY:T.O.P.S.
DESCRIPTION:
URL:https://fayaltwp.org/event/t-o-p-s/2028-07-24/
END:VEVENT
BEGIN:VEVENT
DTSTART;TZID=America/Chicago:20280726T093000
DTEND;TZID=America/Chicago:20280726T103000
DTSTAMP:20260425T082911
CREATED:20240207T174449Z
LAST-MODIFIED:20260317T185548Z
UID:10002029-1848216600-1848220200@fayaltwp.org
SUMMARY:Aerobics
DESCRIPTION:
URL:https://fayaltwp.org/event/aerobics/2028-07-26/
END:VEVENT
BEGIN:VEVENT
DTSTART;TZID=America/Chicago:20280727T093000
DTEND;TZID=America/Chicago:20280727T223000
DTSTAMP:20260425T082911
CREATED:20260112T180331Z
LAST-MODIFIED:20260317T190351Z
UID:10003608-1848303000-1848349800@fayaltwp.org
SUMMARY:Yoga
DESCRIPTION:
URL:https://fayaltwp.org/event/yoga-2-2/2028-07-27/
END:VEVENT
BEGIN:VEVENT
DTSTART;TZID=America/Chicago:20280728T093000
DTEND;TZID=America/Chicago:20280728T103000
DTSTAMP:20260425T082911
CREATED:20240207T174449Z
LAST-MODIFIED:20260317T185548Z
UID:10002030-1848389400-1848393000@fayaltwp.org
SUMMARY:Aerobics
DESCRIPTION:
URL:https://fayaltwp.org/event/aerobics/2028-07-28/
END:VEVENT
BEGIN:VEVENT
DTSTART;TZID=America/Chicago:20280731T093000
DTEND;TZID=America/Chicago:20280731T103000
DTSTAMP:20260425T082911
CREATED:20240207T174449Z
LAST-MODIFIED:20260317T185548Z
UID:10002031-1848648600-1848652200@fayaltwp.org
SUMMARY:Aerobics
DESCRIPTION:
URL:https://fayaltwp.org/event/aerobics/2028-07-31/
END:VEVENT
BEGIN:VEVENT
DTSTART;TZID=America/Chicago:20280731T160000
DTEND;TZID=America/Chicago:20280731T183000
DTSTAMP:20260425T082911
CREATED:20250905T131821Z
LAST-MODIFIED:20250905T131821Z
UID:10003870-1848672000-1848681000@fayaltwp.org
SUMMARY:T.O.P.S.
DESCRIPTION:
URL:https://fayaltwp.org/event/t-o-p-s/2028-07-31/
END:VEVENT
BEGIN:VEVENT
DTSTART;TZID=America/Chicago:20280801T190000
DTEND;TZID=America/Chicago:20280801T203000
DTSTAMP:20260425T082911
CREATED:20240213T194504Z
LAST-MODIFIED:20250318T164658Z
UID:10002442-1848769200-1848774600@fayaltwp.org
SUMMARY:Town Board Meeting
DESCRIPTION:Meeting lengths may vary
URL:https://fayaltwp.org/event/town-board-meeting-3/2028-08-01/
END:VEVENT
END:VCALENDAR