BEGIN:VCALENDAR
VERSION:2.0
PRODID:-//Fayal Twp - ECPv6.15.17.1//NONSGML v1.0//EN
CALSCALE:GREGORIAN
METHOD:PUBLISH
X-ORIGINAL-URL:https://fayaltwp.org
X-WR-CALDESC:Events for Fayal Twp
REFRESH-INTERVAL;VALUE=DURATION:PT1H
X-Robots-Tag:noindex
X-PUBLISHED-TTL:PT1H
BEGIN:VTIMEZONE
TZID:America/Chicago
BEGIN:DAYLIGHT
TZOFFSETFROM:-0600
TZOFFSETTO:-0500
TZNAME:CDT
DTSTART:20270314T080000
END:DAYLIGHT
BEGIN:STANDARD
TZOFFSETFROM:-0500
TZOFFSETTO:-0600
TZNAME:CST
DTSTART:20271107T070000
END:STANDARD
BEGIN:DAYLIGHT
TZOFFSETFROM:-0600
TZOFFSETTO:-0500
TZNAME:CDT
DTSTART:20280312T080000
END:DAYLIGHT
BEGIN:STANDARD
TZOFFSETFROM:-0500
TZOFFSETTO:-0600
TZNAME:CST
DTSTART:20281105T070000
END:STANDARD
BEGIN:DAYLIGHT
TZOFFSETFROM:-0600
TZOFFSETTO:-0500
TZNAME:CDT
DTSTART:20290311T080000
END:DAYLIGHT
BEGIN:STANDARD
TZOFFSETFROM:-0500
TZOFFSETTO:-0600
TZNAME:CST
DTSTART:20291104T070000
END:STANDARD
END:VTIMEZONE
BEGIN:VEVENT
DTSTART;TZID=America/Chicago:20280420T093000
DTEND;TZID=America/Chicago:20280420T223000
DTSTAMP:20260425T064951
CREATED:20260112T180331Z
LAST-MODIFIED:20260317T190351Z
UID:10003594-1839835800-1839882600@fayaltwp.org
SUMMARY:Yoga
DESCRIPTION:
URL:https://fayaltwp.org/event/yoga-2-2/2028-04-20/
END:VEVENT
BEGIN:VEVENT
DTSTART;TZID=America/Chicago:20280420T183000
DTEND;TZID=America/Chicago:20280420T200000
DTSTAMP:20260425T064951
CREATED:20190917T020221Z
LAST-MODIFIED:20250110T151531Z
UID:10003101-1839868200-1839873600@fayaltwp.org
SUMMARY:Eveleth-Fayal Garden Club
DESCRIPTION:Meeting lengths may vary
URL:https://fayaltwp.org/event/eveleth-fayal-garden-club/2028-04-20/
END:VEVENT
BEGIN:VEVENT
DTSTART;TZID=America/Chicago:20280421T093000
DTEND;TZID=America/Chicago:20280421T103000
DTSTAMP:20260425T064951
CREATED:20240207T174449Z
LAST-MODIFIED:20260317T185548Z
UID:10001988-1839922200-1839925800@fayaltwp.org
SUMMARY:Aerobics
DESCRIPTION:
URL:https://fayaltwp.org/event/aerobics/2028-04-21/
END:VEVENT
BEGIN:VEVENT
DTSTART;TZID=America/Chicago:20280424T093000
DTEND;TZID=America/Chicago:20280424T103000
DTSTAMP:20260425T064951
CREATED:20240207T174449Z
LAST-MODIFIED:20260317T185548Z
UID:10001989-1840181400-1840185000@fayaltwp.org
SUMMARY:Aerobics
DESCRIPTION:
URL:https://fayaltwp.org/event/aerobics/2028-04-24/
END:VEVENT
BEGIN:VEVENT
DTSTART;TZID=America/Chicago:20280424T160000
DTEND;TZID=America/Chicago:20280424T183000
DTSTAMP:20260425T064951
CREATED:20250905T131821Z
LAST-MODIFIED:20250905T131821Z
UID:10003856-1840204800-1840213800@fayaltwp.org
SUMMARY:T.O.P.S.
DESCRIPTION:
URL:https://fayaltwp.org/event/t-o-p-s/2028-04-24/
END:VEVENT
BEGIN:VEVENT
DTSTART;TZID=America/Chicago:20280426T093000
DTEND;TZID=America/Chicago:20280426T103000
DTSTAMP:20260425T064951
CREATED:20240207T174449Z
LAST-MODIFIED:20260317T185548Z
UID:10001990-1840354200-1840357800@fayaltwp.org
SUMMARY:Aerobics
DESCRIPTION:
URL:https://fayaltwp.org/event/aerobics/2028-04-26/
END:VEVENT
BEGIN:VEVENT
DTSTART;TZID=America/Chicago:20280427T093000
DTEND;TZID=America/Chicago:20280427T223000
DTSTAMP:20260425T064951
CREATED:20260112T180331Z
LAST-MODIFIED:20260317T190351Z
UID:10003595-1840440600-1840487400@fayaltwp.org
SUMMARY:Yoga
DESCRIPTION:
URL:https://fayaltwp.org/event/yoga-2-2/2028-04-27/
END:VEVENT
BEGIN:VEVENT
DTSTART;TZID=America/Chicago:20280428T093000
DTEND;TZID=America/Chicago:20280428T103000
DTSTAMP:20260425T064951
CREATED:20240207T174449Z
LAST-MODIFIED:20260317T185548Z
UID:10001991-1840527000-1840530600@fayaltwp.org
SUMMARY:Aerobics
DESCRIPTION:
URL:https://fayaltwp.org/event/aerobics/2028-04-28/
END:VEVENT
BEGIN:VEVENT
DTSTART;TZID=America/Chicago:20280501T093000
DTEND;TZID=America/Chicago:20280501T103000
DTSTAMP:20260425T064951
CREATED:20240207T174449Z
LAST-MODIFIED:20260317T185548Z
UID:10001992-1840786200-1840789800@fayaltwp.org
SUMMARY:Aerobics
DESCRIPTION:
URL:https://fayaltwp.org/event/aerobics/2028-05-01/
END:VEVENT
BEGIN:VEVENT
DTSTART;TZID=America/Chicago:20280501T160000
DTEND;TZID=America/Chicago:20280501T183000
DTSTAMP:20260425T064951
CREATED:20250905T131821Z
LAST-MODIFIED:20250905T131821Z
UID:10003857-1840809600-1840818600@fayaltwp.org
SUMMARY:T.O.P.S.
DESCRIPTION:
URL:https://fayaltwp.org/event/t-o-p-s/2028-05-01/
END:VEVENT
BEGIN:VEVENT
DTSTART;TZID=America/Chicago:20280502T190000
DTEND;TZID=America/Chicago:20280502T203000
DTSTAMP:20260425T064951
CREATED:20240213T194504Z
LAST-MODIFIED:20250318T164658Z
UID:10002439-1840906800-1840912200@fayaltwp.org
SUMMARY:Town Board Meeting
DESCRIPTION:Meeting lengths may vary
URL:https://fayaltwp.org/event/town-board-meeting-3/2028-05-02/
END:VEVENT
BEGIN:VEVENT
DTSTART;TZID=America/Chicago:20280503T093000
DTEND;TZID=America/Chicago:20280503T103000
DTSTAMP:20260425T064951
CREATED:20240207T174449Z
LAST-MODIFIED:20260317T185548Z
UID:10001993-1840959000-1840962600@fayaltwp.org
SUMMARY:Aerobics
DESCRIPTION:
URL:https://fayaltwp.org/event/aerobics/2028-05-03/
END:VEVENT
BEGIN:VEVENT
DTSTART;TZID=America/Chicago:20280504T093000
DTEND;TZID=America/Chicago:20280504T223000
DTSTAMP:20260425T064951
CREATED:20260112T180331Z
LAST-MODIFIED:20260317T190351Z
UID:10003596-1841045400-1841092200@fayaltwp.org
SUMMARY:Yoga
DESCRIPTION:
URL:https://fayaltwp.org/event/yoga-2-2/2028-05-04/
END:VEVENT
BEGIN:VEVENT
DTSTART;TZID=America/Chicago:20280505T093000
DTEND;TZID=America/Chicago:20280505T103000
DTSTAMP:20260425T064951
CREATED:20240207T174449Z
LAST-MODIFIED:20260317T185548Z
UID:10001994-1841131800-1841135400@fayaltwp.org
SUMMARY:Aerobics
DESCRIPTION:
URL:https://fayaltwp.org/event/aerobics/2028-05-05/
END:VEVENT
BEGIN:VEVENT
DTSTART;TZID=America/Chicago:20280508T093000
DTEND;TZID=America/Chicago:20280508T103000
DTSTAMP:20260425T064951
CREATED:20240207T174449Z
LAST-MODIFIED:20260317T185548Z
UID:10001995-1841391000-1841394600@fayaltwp.org
SUMMARY:Aerobics
DESCRIPTION:
URL:https://fayaltwp.org/event/aerobics/2028-05-08/
END:VEVENT
BEGIN:VEVENT
DTSTART;TZID=America/Chicago:20280508T120000
DTEND;TZID=America/Chicago:20280508T140000
DTSTAMP:20260425T064951
CREATED:20240207T175425Z
LAST-MODIFIED:20240718T172046Z
UID:10002168-1841400000-1841407200@fayaltwp.org
SUMMARY:Sororiety Meeting
DESCRIPTION:
URL:https://fayaltwp.org/event/sororiety-meeting/2028-05-08/
END:VEVENT
BEGIN:VEVENT
DTSTART;TZID=America/Chicago:20280508T160000
DTEND;TZID=America/Chicago:20280508T183000
DTSTAMP:20260425T064951
CREATED:20250905T131821Z
LAST-MODIFIED:20250905T131821Z
UID:10003858-1841414400-1841423400@fayaltwp.org
SUMMARY:T.O.P.S.
DESCRIPTION:
URL:https://fayaltwp.org/event/t-o-p-s/2028-05-08/
END:VEVENT
BEGIN:VEVENT
DTSTART;TZID=America/Chicago:20280509T180000
DTEND;TZID=America/Chicago:20280509T190000
DTSTAMP:20260425T064951
CREATED:20240213T194019Z
LAST-MODIFIED:20240718T171231Z
UID:10002391-1841508000-1841511600@fayaltwp.org
SUMMARY:Public Utility Meetings
DESCRIPTION:Meeting lengths may vary
URL:https://fayaltwp.org/event/public-utility-meetings-2-2/2028-05-09/
END:VEVENT
BEGIN:VEVENT
DTSTART;TZID=America/Chicago:20280510T093000
DTEND;TZID=America/Chicago:20280510T103000
DTSTAMP:20260425T064951
CREATED:20240207T174449Z
LAST-MODIFIED:20260317T185548Z
UID:10001996-1841563800-1841567400@fayaltwp.org
SUMMARY:Aerobics
DESCRIPTION:
URL:https://fayaltwp.org/event/aerobics/2028-05-10/
END:VEVENT
BEGIN:VEVENT
DTSTART;TZID=America/Chicago:20280511T093000
DTEND;TZID=America/Chicago:20280511T223000
DTSTAMP:20260425T064951
CREATED:20260112T180331Z
LAST-MODIFIED:20260317T190351Z
UID:10003597-1841650200-1841697000@fayaltwp.org
SUMMARY:Yoga
DESCRIPTION:
URL:https://fayaltwp.org/event/yoga-2-2/2028-05-11/
END:VEVENT
BEGIN:VEVENT
DTSTART;TZID=America/Chicago:20280512T093000
DTEND;TZID=America/Chicago:20280512T103000
DTSTAMP:20260425T064951
CREATED:20240207T174449Z
LAST-MODIFIED:20260317T185548Z
UID:10001997-1841736600-1841740200@fayaltwp.org
SUMMARY:Aerobics
DESCRIPTION:
URL:https://fayaltwp.org/event/aerobics/2028-05-12/
END:VEVENT
BEGIN:VEVENT
DTSTART;TZID=America/Chicago:20280515T093000
DTEND;TZID=America/Chicago:20280515T103000
DTSTAMP:20260425T064951
CREATED:20240207T174449Z
LAST-MODIFIED:20260317T185548Z
UID:10001998-1841995800-1841999400@fayaltwp.org
SUMMARY:Aerobics
DESCRIPTION:
URL:https://fayaltwp.org/event/aerobics/2028-05-15/
END:VEVENT
BEGIN:VEVENT
DTSTART;TZID=America/Chicago:20280515T160000
DTEND;TZID=America/Chicago:20280515T183000
DTSTAMP:20260425T064951
CREATED:20250905T131821Z
LAST-MODIFIED:20250905T131821Z
UID:10003859-1842019200-1842028200@fayaltwp.org
SUMMARY:T.O.P.S.
DESCRIPTION:
URL:https://fayaltwp.org/event/t-o-p-s/2028-05-15/
END:VEVENT
BEGIN:VEVENT
DTSTART;TZID=America/Chicago:20280516T190000
DTEND;TZID=America/Chicago:20280516T203000
DTSTAMP:20260425T064951
CREATED:20230727T144614Z
LAST-MODIFIED:20250115T222032Z
UID:10003380-1842116400-1842121800@fayaltwp.org
SUMMARY:Town Board Meeting
DESCRIPTION:Meeting lengths may vary
URL:https://fayaltwp.org/event/town-board-meeting-2/2028-05-16/
END:VEVENT
BEGIN:VEVENT
DTSTART;TZID=America/Chicago:20280517T093000
DTEND;TZID=America/Chicago:20280517T103000
DTSTAMP:20260425T064951
CREATED:20240207T174449Z
LAST-MODIFIED:20260317T185548Z
UID:10001999-1842168600-1842172200@fayaltwp.org
SUMMARY:Aerobics
DESCRIPTION:
URL:https://fayaltwp.org/event/aerobics/2028-05-17/
END:VEVENT
BEGIN:VEVENT
DTSTART;TZID=America/Chicago:20280518T093000
DTEND;TZID=America/Chicago:20280518T223000
DTSTAMP:20260425T064952
CREATED:20260112T180331Z
LAST-MODIFIED:20260317T190351Z
UID:10003598-1842255000-1842301800@fayaltwp.org
SUMMARY:Yoga
DESCRIPTION:
URL:https://fayaltwp.org/event/yoga-2-2/2028-05-18/
END:VEVENT
BEGIN:VEVENT
DTSTART;TZID=America/Chicago:20280518T183000
DTEND;TZID=America/Chicago:20280518T200000
DTSTAMP:20260425T064952
CREATED:20190917T020221Z
LAST-MODIFIED:20250110T151531Z
UID:10003102-1842287400-1842292800@fayaltwp.org
SUMMARY:Eveleth-Fayal Garden Club
DESCRIPTION:Meeting lengths may vary
URL:https://fayaltwp.org/event/eveleth-fayal-garden-club/2028-05-18/
END:VEVENT
BEGIN:VEVENT
DTSTART;TZID=America/Chicago:20280519T093000
DTEND;TZID=America/Chicago:20280519T103000
DTSTAMP:20260425T064952
CREATED:20240207T174449Z
LAST-MODIFIED:20260317T185548Z
UID:10002000-1842341400-1842345000@fayaltwp.org
SUMMARY:Aerobics
DESCRIPTION:
URL:https://fayaltwp.org/event/aerobics/2028-05-19/
END:VEVENT
BEGIN:VEVENT
DTSTART;TZID=America/Chicago:20280522T093000
DTEND;TZID=America/Chicago:20280522T103000
DTSTAMP:20260425T064952
CREATED:20240207T174449Z
LAST-MODIFIED:20260317T185548Z
UID:10002001-1842600600-1842604200@fayaltwp.org
SUMMARY:Aerobics
DESCRIPTION:
URL:https://fayaltwp.org/event/aerobics/2028-05-22/
END:VEVENT
BEGIN:VEVENT
DTSTART;TZID=America/Chicago:20280522T160000
DTEND;TZID=America/Chicago:20280522T183000
DTSTAMP:20260425T064952
CREATED:20250905T131821Z
LAST-MODIFIED:20250905T131821Z
UID:10003860-1842624000-1842633000@fayaltwp.org
SUMMARY:T.O.P.S.
DESCRIPTION:
URL:https://fayaltwp.org/event/t-o-p-s/2028-05-22/
END:VEVENT
END:VCALENDAR