BEGIN:VCALENDAR
VERSION:2.0
PRODID:-//Fayal Twp - ECPv6.15.17.1//NONSGML v1.0//EN
CALSCALE:GREGORIAN
METHOD:PUBLISH
X-ORIGINAL-URL:https://fayaltwp.org
X-WR-CALDESC:Events for Fayal Twp
REFRESH-INTERVAL;VALUE=DURATION:PT1H
X-Robots-Tag:noindex
X-PUBLISHED-TTL:PT1H
BEGIN:VTIMEZONE
TZID:America/Chicago
BEGIN:DAYLIGHT
TZOFFSETFROM:-0600
TZOFFSETTO:-0500
TZNAME:CDT
DTSTART:20260308T080000
END:DAYLIGHT
BEGIN:STANDARD
TZOFFSETFROM:-0500
TZOFFSETTO:-0600
TZNAME:CST
DTSTART:20261101T070000
END:STANDARD
BEGIN:DAYLIGHT
TZOFFSETFROM:-0600
TZOFFSETTO:-0500
TZNAME:CDT
DTSTART:20270314T080000
END:DAYLIGHT
BEGIN:STANDARD
TZOFFSETFROM:-0500
TZOFFSETTO:-0600
TZNAME:CST
DTSTART:20271107T070000
END:STANDARD
BEGIN:DAYLIGHT
TZOFFSETFROM:-0600
TZOFFSETTO:-0500
TZNAME:CDT
DTSTART:20280312T080000
END:DAYLIGHT
BEGIN:STANDARD
TZOFFSETFROM:-0500
TZOFFSETTO:-0600
TZNAME:CST
DTSTART:20281105T070000
END:STANDARD
END:VTIMEZONE
BEGIN:VEVENT
DTSTART;TZID=America/Chicago:20270408T093000
DTEND;TZID=America/Chicago:20270408T223000
DTSTAMP:20260424T093507
CREATED:20260112T180331Z
LAST-MODIFIED:20260317T190351Z
UID:10003540-1807176600-1807223400@fayaltwp.org
SUMMARY:Yoga
DESCRIPTION:
URL:https://fayaltwp.org/event/yoga-2-2/2027-04-08/
END:VEVENT
BEGIN:VEVENT
DTSTART;TZID=America/Chicago:20270409T093000
DTEND;TZID=America/Chicago:20270409T103000
DTSTAMP:20260424T093507
CREATED:20240207T174449Z
LAST-MODIFIED:20260317T185548Z
UID:10001826-1807263000-1807266600@fayaltwp.org
SUMMARY:Aerobics
DESCRIPTION:
URL:https://fayaltwp.org/event/aerobics/2027-04-09/
END:VEVENT
BEGIN:VEVENT
DTSTART;TZID=America/Chicago:20270412T093000
DTEND;TZID=America/Chicago:20270412T103000
DTSTAMP:20260424T093507
CREATED:20240207T174449Z
LAST-MODIFIED:20260317T185548Z
UID:10001827-1807522200-1807525800@fayaltwp.org
SUMMARY:Aerobics
DESCRIPTION:
URL:https://fayaltwp.org/event/aerobics/2027-04-12/
END:VEVENT
BEGIN:VEVENT
DTSTART;TZID=America/Chicago:20270412T120000
DTEND;TZID=America/Chicago:20270412T140000
DTSTAMP:20260424T093507
CREATED:20240207T175425Z
LAST-MODIFIED:20240718T172046Z
UID:10002155-1807531200-1807538400@fayaltwp.org
SUMMARY:Sororiety Meeting
DESCRIPTION:
URL:https://fayaltwp.org/event/sororiety-meeting/2027-04-12/
END:VEVENT
BEGIN:VEVENT
DTSTART;TZID=America/Chicago:20270412T160000
DTEND;TZID=America/Chicago:20270412T183000
DTSTAMP:20260424T093507
CREATED:20250905T131821Z
LAST-MODIFIED:20250905T131821Z
UID:10003802-1807545600-1807554600@fayaltwp.org
SUMMARY:T.O.P.S.
DESCRIPTION:
URL:https://fayaltwp.org/event/t-o-p-s/2027-04-12/
END:VEVENT
BEGIN:VEVENT
DTSTART;TZID=America/Chicago:20270413T180000
DTEND;TZID=America/Chicago:20270413T190000
DTSTAMP:20260424T093507
CREATED:20240213T194019Z
LAST-MODIFIED:20240718T171231Z
UID:10002378-1807639200-1807642800@fayaltwp.org
SUMMARY:Public Utility Meetings
DESCRIPTION:Meeting lengths may vary
URL:https://fayaltwp.org/event/public-utility-meetings-2-2/2027-04-13/
END:VEVENT
BEGIN:VEVENT
DTSTART;TZID=America/Chicago:20270414T093000
DTEND;TZID=America/Chicago:20270414T103000
DTSTAMP:20260424T093507
CREATED:20240207T174449Z
LAST-MODIFIED:20260317T185548Z
UID:10001828-1807695000-1807698600@fayaltwp.org
SUMMARY:Aerobics
DESCRIPTION:
URL:https://fayaltwp.org/event/aerobics/2027-04-14/
END:VEVENT
BEGIN:VEVENT
DTSTART;TZID=America/Chicago:20270415T093000
DTEND;TZID=America/Chicago:20270415T223000
DTSTAMP:20260424T093507
CREATED:20260112T180331Z
LAST-MODIFIED:20260317T190351Z
UID:10003541-1807781400-1807828200@fayaltwp.org
SUMMARY:Yoga
DESCRIPTION:
URL:https://fayaltwp.org/event/yoga-2-2/2027-04-15/
END:VEVENT
BEGIN:VEVENT
DTSTART;TZID=America/Chicago:20270415T183000
DTEND;TZID=America/Chicago:20270415T200000
DTSTAMP:20260424T093507
CREATED:20190917T020221Z
LAST-MODIFIED:20250110T151531Z
UID:10003092-1807813800-1807819200@fayaltwp.org
SUMMARY:Eveleth-Fayal Garden Club
DESCRIPTION:Meeting lengths may vary
URL:https://fayaltwp.org/event/eveleth-fayal-garden-club/2027-04-15/
END:VEVENT
BEGIN:VEVENT
DTSTART;TZID=America/Chicago:20270416T093000
DTEND;TZID=America/Chicago:20270416T103000
DTSTAMP:20260424T093507
CREATED:20240207T174449Z
LAST-MODIFIED:20260317T185548Z
UID:10001829-1807867800-1807871400@fayaltwp.org
SUMMARY:Aerobics
DESCRIPTION:
URL:https://fayaltwp.org/event/aerobics/2027-04-16/
END:VEVENT
BEGIN:VEVENT
DTSTART;TZID=America/Chicago:20270419T093000
DTEND;TZID=America/Chicago:20270419T103000
DTSTAMP:20260424T093507
CREATED:20240207T174449Z
LAST-MODIFIED:20260317T185548Z
UID:10001830-1808127000-1808130600@fayaltwp.org
SUMMARY:Aerobics
DESCRIPTION:
URL:https://fayaltwp.org/event/aerobics/2027-04-19/
END:VEVENT
BEGIN:VEVENT
DTSTART;TZID=America/Chicago:20270419T160000
DTEND;TZID=America/Chicago:20270419T183000
DTSTAMP:20260424T093507
CREATED:20250905T131821Z
LAST-MODIFIED:20250905T131821Z
UID:10003803-1808150400-1808159400@fayaltwp.org
SUMMARY:T.O.P.S.
DESCRIPTION:
URL:https://fayaltwp.org/event/t-o-p-s/2027-04-19/
END:VEVENT
BEGIN:VEVENT
DTSTART;TZID=America/Chicago:20270420T190000
DTEND;TZID=America/Chicago:20270420T203000
DTSTAMP:20260424T093507
CREATED:20230727T144614Z
LAST-MODIFIED:20250115T222032Z
UID:10003367-1808247600-1808253000@fayaltwp.org
SUMMARY:Town Board Meeting
DESCRIPTION:Meeting lengths may vary
URL:https://fayaltwp.org/event/town-board-meeting-2/2027-04-20/
END:VEVENT
BEGIN:VEVENT
DTSTART;TZID=America/Chicago:20270421T093000
DTEND;TZID=America/Chicago:20270421T103000
DTSTAMP:20260424T093507
CREATED:20240207T174449Z
LAST-MODIFIED:20260317T185548Z
UID:10001831-1808299800-1808303400@fayaltwp.org
SUMMARY:Aerobics
DESCRIPTION:
URL:https://fayaltwp.org/event/aerobics/2027-04-21/
END:VEVENT
BEGIN:VEVENT
DTSTART;TZID=America/Chicago:20270422T093000
DTEND;TZID=America/Chicago:20270422T223000
DTSTAMP:20260424T093507
CREATED:20260112T180331Z
LAST-MODIFIED:20260317T190351Z
UID:10003542-1808386200-1808433000@fayaltwp.org
SUMMARY:Yoga
DESCRIPTION:
URL:https://fayaltwp.org/event/yoga-2-2/2027-04-22/
END:VEVENT
BEGIN:VEVENT
DTSTART;TZID=America/Chicago:20270423T093000
DTEND;TZID=America/Chicago:20270423T103000
DTSTAMP:20260424T093507
CREATED:20240207T174449Z
LAST-MODIFIED:20260317T185548Z
UID:10001832-1808472600-1808476200@fayaltwp.org
SUMMARY:Aerobics
DESCRIPTION:
URL:https://fayaltwp.org/event/aerobics/2027-04-23/
END:VEVENT
BEGIN:VEVENT
DTSTART;TZID=America/Chicago:20270426T093000
DTEND;TZID=America/Chicago:20270426T103000
DTSTAMP:20260424T093507
CREATED:20240207T174449Z
LAST-MODIFIED:20260317T185548Z
UID:10001833-1808731800-1808735400@fayaltwp.org
SUMMARY:Aerobics
DESCRIPTION:
URL:https://fayaltwp.org/event/aerobics/2027-04-26/
END:VEVENT
BEGIN:VEVENT
DTSTART;TZID=America/Chicago:20270426T160000
DTEND;TZID=America/Chicago:20270426T183000
DTSTAMP:20260424T093507
CREATED:20250905T131821Z
LAST-MODIFIED:20250905T131821Z
UID:10003804-1808755200-1808764200@fayaltwp.org
SUMMARY:T.O.P.S.
DESCRIPTION:
URL:https://fayaltwp.org/event/t-o-p-s/2027-04-26/
END:VEVENT
BEGIN:VEVENT
DTSTART;TZID=America/Chicago:20270428T093000
DTEND;TZID=America/Chicago:20270428T103000
DTSTAMP:20260424T093507
CREATED:20240207T174449Z
LAST-MODIFIED:20260317T185548Z
UID:10001834-1808904600-1808908200@fayaltwp.org
SUMMARY:Aerobics
DESCRIPTION:
URL:https://fayaltwp.org/event/aerobics/2027-04-28/
END:VEVENT
BEGIN:VEVENT
DTSTART;TZID=America/Chicago:20270429T093000
DTEND;TZID=America/Chicago:20270429T223000
DTSTAMP:20260424T093507
CREATED:20260112T180331Z
LAST-MODIFIED:20260317T190351Z
UID:10003543-1808991000-1809037800@fayaltwp.org
SUMMARY:Yoga
DESCRIPTION:
URL:https://fayaltwp.org/event/yoga-2-2/2027-04-29/
END:VEVENT
BEGIN:VEVENT
DTSTART;TZID=America/Chicago:20270430T093000
DTEND;TZID=America/Chicago:20270430T103000
DTSTAMP:20260424T093507
CREATED:20240207T174449Z
LAST-MODIFIED:20260317T185548Z
UID:10001835-1809077400-1809081000@fayaltwp.org
SUMMARY:Aerobics
DESCRIPTION:
URL:https://fayaltwp.org/event/aerobics/2027-04-30/
END:VEVENT
BEGIN:VEVENT
DTSTART;TZID=America/Chicago:20270503T093000
DTEND;TZID=America/Chicago:20270503T103000
DTSTAMP:20260424T093507
CREATED:20240207T174449Z
LAST-MODIFIED:20260317T185548Z
UID:10001836-1809336600-1809340200@fayaltwp.org
SUMMARY:Aerobics
DESCRIPTION:
URL:https://fayaltwp.org/event/aerobics/2027-05-03/
END:VEVENT
BEGIN:VEVENT
DTSTART;TZID=America/Chicago:20270503T160000
DTEND;TZID=America/Chicago:20270503T183000
DTSTAMP:20260424T093507
CREATED:20250905T131821Z
LAST-MODIFIED:20250905T131821Z
UID:10003805-1809360000-1809369000@fayaltwp.org
SUMMARY:T.O.P.S.
DESCRIPTION:
URL:https://fayaltwp.org/event/t-o-p-s/2027-05-03/
END:VEVENT
BEGIN:VEVENT
DTSTART;TZID=America/Chicago:20270504T190000
DTEND;TZID=America/Chicago:20270504T203000
DTSTAMP:20260424T093507
CREATED:20240213T194504Z
LAST-MODIFIED:20250318T164658Z
UID:10002427-1809457200-1809462600@fayaltwp.org
SUMMARY:Town Board Meeting
DESCRIPTION:Meeting lengths may vary
URL:https://fayaltwp.org/event/town-board-meeting-3/2027-05-04/
END:VEVENT
BEGIN:VEVENT
DTSTART;TZID=America/Chicago:20270505T093000
DTEND;TZID=America/Chicago:20270505T103000
DTSTAMP:20260424T093507
CREATED:20240207T174449Z
LAST-MODIFIED:20260317T185548Z
UID:10001837-1809509400-1809513000@fayaltwp.org
SUMMARY:Aerobics
DESCRIPTION:
URL:https://fayaltwp.org/event/aerobics/2027-05-05/
END:VEVENT
BEGIN:VEVENT
DTSTART;TZID=America/Chicago:20270506T093000
DTEND;TZID=America/Chicago:20270506T223000
DTSTAMP:20260424T093507
CREATED:20260112T180331Z
LAST-MODIFIED:20260317T190351Z
UID:10003544-1809595800-1809642600@fayaltwp.org
SUMMARY:Yoga
DESCRIPTION:
URL:https://fayaltwp.org/event/yoga-2-2/2027-05-06/
END:VEVENT
BEGIN:VEVENT
DTSTART;TZID=America/Chicago:20270507T093000
DTEND;TZID=America/Chicago:20270507T103000
DTSTAMP:20260424T093507
CREATED:20240207T174449Z
LAST-MODIFIED:20260317T185548Z
UID:10001838-1809682200-1809685800@fayaltwp.org
SUMMARY:Aerobics
DESCRIPTION:
URL:https://fayaltwp.org/event/aerobics/2027-05-07/
END:VEVENT
BEGIN:VEVENT
DTSTART;TZID=America/Chicago:20270510T093000
DTEND;TZID=America/Chicago:20270510T103000
DTSTAMP:20260424T093507
CREATED:20240207T174449Z
LAST-MODIFIED:20260317T185548Z
UID:10001839-1809941400-1809945000@fayaltwp.org
SUMMARY:Aerobics
DESCRIPTION:
URL:https://fayaltwp.org/event/aerobics/2027-05-10/
END:VEVENT
BEGIN:VEVENT
DTSTART;TZID=America/Chicago:20270510T120000
DTEND;TZID=America/Chicago:20270510T140000
DTSTAMP:20260424T093507
CREATED:20240207T175425Z
LAST-MODIFIED:20240718T172046Z
UID:10002156-1809950400-1809957600@fayaltwp.org
SUMMARY:Sororiety Meeting
DESCRIPTION:
URL:https://fayaltwp.org/event/sororiety-meeting/2027-05-10/
END:VEVENT
BEGIN:VEVENT
DTSTART;TZID=America/Chicago:20270510T160000
DTEND;TZID=America/Chicago:20270510T183000
DTSTAMP:20260424T093507
CREATED:20250905T131821Z
LAST-MODIFIED:20250905T131821Z
UID:10003806-1809964800-1809973800@fayaltwp.org
SUMMARY:T.O.P.S.
DESCRIPTION:
URL:https://fayaltwp.org/event/t-o-p-s/2027-05-10/
END:VEVENT
END:VCALENDAR