BEGIN:VCALENDAR
VERSION:2.0
PRODID:-//Fayal Twp - ECPv6.15.17.1//NONSGML v1.0//EN
CALSCALE:GREGORIAN
METHOD:PUBLISH
X-WR-CALNAME:Fayal Twp
X-ORIGINAL-URL:https://fayaltwp.org
X-WR-CALDESC:Events for Fayal Twp
REFRESH-INTERVAL;VALUE=DURATION:PT1H
X-Robots-Tag:noindex
X-PUBLISHED-TTL:PT1H
BEGIN:VTIMEZONE
TZID:America/Chicago
BEGIN:DAYLIGHT
TZOFFSETFROM:-0600
TZOFFSETTO:-0500
TZNAME:CDT
DTSTART:20260308T080000
END:DAYLIGHT
BEGIN:STANDARD
TZOFFSETFROM:-0500
TZOFFSETTO:-0600
TZNAME:CST
DTSTART:20261101T070000
END:STANDARD
BEGIN:DAYLIGHT
TZOFFSETFROM:-0600
TZOFFSETTO:-0500
TZNAME:CDT
DTSTART:20270314T080000
END:DAYLIGHT
BEGIN:STANDARD
TZOFFSETFROM:-0500
TZOFFSETTO:-0600
TZNAME:CST
DTSTART:20271107T070000
END:STANDARD
BEGIN:DAYLIGHT
TZOFFSETFROM:-0600
TZOFFSETTO:-0500
TZNAME:CDT
DTSTART:20280312T080000
END:DAYLIGHT
BEGIN:STANDARD
TZOFFSETFROM:-0500
TZOFFSETTO:-0600
TZNAME:CST
DTSTART:20281105T070000
END:STANDARD
END:VTIMEZONE
BEGIN:VEVENT
DTSTART;TZID=America/Chicago:20270628T093000
DTEND;TZID=America/Chicago:20270628T103000
DTSTAMP:20260425T110928
CREATED:20240207T174449Z
LAST-MODIFIED:20260317T185548Z
UID:10001860-1814175000-1814178600@fayaltwp.org
SUMMARY:Aerobics
DESCRIPTION:
URL:https://fayaltwp.org/event/aerobics/2027-06-28/
END:VEVENT
BEGIN:VEVENT
DTSTART;TZID=America/Chicago:20270628T160000
DTEND;TZID=America/Chicago:20270628T183000
DTSTAMP:20260425T110929
CREATED:20250905T131821Z
LAST-MODIFIED:20250905T131821Z
UID:10003813-1814198400-1814207400@fayaltwp.org
SUMMARY:T.O.P.S.
DESCRIPTION:
URL:https://fayaltwp.org/event/t-o-p-s/2027-06-28/
END:VEVENT
BEGIN:VEVENT
DTSTART;TZID=America/Chicago:20270630T093000
DTEND;TZID=America/Chicago:20270630T103000
DTSTAMP:20260425T110929
CREATED:20240207T174449Z
LAST-MODIFIED:20260317T185548Z
UID:10001861-1814347800-1814351400@fayaltwp.org
SUMMARY:Aerobics
DESCRIPTION:
URL:https://fayaltwp.org/event/aerobics/2027-06-30/
END:VEVENT
BEGIN:VEVENT
DTSTART;TZID=America/Chicago:20270701T093000
DTEND;TZID=America/Chicago:20270701T223000
DTSTAMP:20260425T110929
CREATED:20260112T180331Z
LAST-MODIFIED:20260317T190351Z
UID:10003552-1814434200-1814481000@fayaltwp.org
SUMMARY:Yoga
DESCRIPTION:
URL:https://fayaltwp.org/event/yoga-2-2/2027-07-01/
END:VEVENT
BEGIN:VEVENT
DTSTART;TZID=America/Chicago:20270702T093000
DTEND;TZID=America/Chicago:20270702T103000
DTSTAMP:20260425T110929
CREATED:20240207T174449Z
LAST-MODIFIED:20260317T185548Z
UID:10001862-1814520600-1814524200@fayaltwp.org
SUMMARY:Aerobics
DESCRIPTION:
URL:https://fayaltwp.org/event/aerobics/2027-07-02/
END:VEVENT
BEGIN:VEVENT
DTSTART;TZID=America/Chicago:20270705T093000
DTEND;TZID=America/Chicago:20270705T103000
DTSTAMP:20260425T110929
CREATED:20240207T174449Z
LAST-MODIFIED:20260317T185548Z
UID:10001863-1814779800-1814783400@fayaltwp.org
SUMMARY:Aerobics
DESCRIPTION:
URL:https://fayaltwp.org/event/aerobics/2027-07-05/
END:VEVENT
BEGIN:VEVENT
DTSTART;TZID=America/Chicago:20270705T160000
DTEND;TZID=America/Chicago:20270705T183000
DTSTAMP:20260425T110929
CREATED:20250905T131821Z
LAST-MODIFIED:20250905T131821Z
UID:10003814-1814803200-1814812200@fayaltwp.org
SUMMARY:T.O.P.S.
DESCRIPTION:
URL:https://fayaltwp.org/event/t-o-p-s/2027-07-05/
END:VEVENT
BEGIN:VEVENT
DTSTART;TZID=America/Chicago:20270706T190000
DTEND;TZID=America/Chicago:20270706T203000
DTSTAMP:20260425T110929
CREATED:20240213T194504Z
LAST-MODIFIED:20250318T164658Z
UID:10002429-1814900400-1814905800@fayaltwp.org
SUMMARY:Town Board Meeting
DESCRIPTION:Meeting lengths may vary
URL:https://fayaltwp.org/event/town-board-meeting-3/2027-07-06/
END:VEVENT
BEGIN:VEVENT
DTSTART;TZID=America/Chicago:20270707T093000
DTEND;TZID=America/Chicago:20270707T103000
DTSTAMP:20260425T110929
CREATED:20240207T174449Z
LAST-MODIFIED:20260317T185548Z
UID:10001864-1814952600-1814956200@fayaltwp.org
SUMMARY:Aerobics
DESCRIPTION:
URL:https://fayaltwp.org/event/aerobics/2027-07-07/
END:VEVENT
BEGIN:VEVENT
DTSTART;TZID=America/Chicago:20270708T093000
DTEND;TZID=America/Chicago:20270708T223000
DTSTAMP:20260425T110929
CREATED:20260112T180331Z
LAST-MODIFIED:20260317T190351Z
UID:10003553-1815039000-1815085800@fayaltwp.org
SUMMARY:Yoga
DESCRIPTION:
URL:https://fayaltwp.org/event/yoga-2-2/2027-07-08/
END:VEVENT
BEGIN:VEVENT
DTSTART;TZID=America/Chicago:20270709T093000
DTEND;TZID=America/Chicago:20270709T103000
DTSTAMP:20260425T110929
CREATED:20240207T174449Z
LAST-MODIFIED:20260317T185548Z
UID:10001865-1815125400-1815129000@fayaltwp.org
SUMMARY:Aerobics
DESCRIPTION:
URL:https://fayaltwp.org/event/aerobics/2027-07-09/
END:VEVENT
BEGIN:VEVENT
DTSTART;TZID=America/Chicago:20270712T093000
DTEND;TZID=America/Chicago:20270712T103000
DTSTAMP:20260425T110929
CREATED:20240207T174449Z
LAST-MODIFIED:20260317T185548Z
UID:10001866-1815384600-1815388200@fayaltwp.org
SUMMARY:Aerobics
DESCRIPTION:
URL:https://fayaltwp.org/event/aerobics/2027-07-12/
END:VEVENT
BEGIN:VEVENT
DTSTART;TZID=America/Chicago:20270712T120000
DTEND;TZID=America/Chicago:20270712T140000
DTSTAMP:20260425T110929
CREATED:20240207T175425Z
LAST-MODIFIED:20240718T172046Z
UID:10002158-1815393600-1815400800@fayaltwp.org
SUMMARY:Sororiety Meeting
DESCRIPTION:
URL:https://fayaltwp.org/event/sororiety-meeting/2027-07-12/
END:VEVENT
BEGIN:VEVENT
DTSTART;TZID=America/Chicago:20270712T160000
DTEND;TZID=America/Chicago:20270712T183000
DTSTAMP:20260425T110929
CREATED:20250905T131821Z
LAST-MODIFIED:20250905T131821Z
UID:10003815-1815408000-1815417000@fayaltwp.org
SUMMARY:T.O.P.S.
DESCRIPTION:
URL:https://fayaltwp.org/event/t-o-p-s/2027-07-12/
END:VEVENT
BEGIN:VEVENT
DTSTART;TZID=America/Chicago:20270713T180000
DTEND;TZID=America/Chicago:20270713T190000
DTSTAMP:20260425T110929
CREATED:20240213T194019Z
LAST-MODIFIED:20240718T171231Z
UID:10002381-1815501600-1815505200@fayaltwp.org
SUMMARY:Public Utility Meetings
DESCRIPTION:Meeting lengths may vary
URL:https://fayaltwp.org/event/public-utility-meetings-2-2/2027-07-13/
END:VEVENT
BEGIN:VEVENT
DTSTART;TZID=America/Chicago:20270714T093000
DTEND;TZID=America/Chicago:20270714T103000
DTSTAMP:20260425T110929
CREATED:20240207T174449Z
LAST-MODIFIED:20260317T185548Z
UID:10001867-1815557400-1815561000@fayaltwp.org
SUMMARY:Aerobics
DESCRIPTION:
URL:https://fayaltwp.org/event/aerobics/2027-07-14/
END:VEVENT
BEGIN:VEVENT
DTSTART;TZID=America/Chicago:20270715T093000
DTEND;TZID=America/Chicago:20270715T223000
DTSTAMP:20260425T110929
CREATED:20260112T180331Z
LAST-MODIFIED:20260317T190351Z
UID:10003554-1815643800-1815690600@fayaltwp.org
SUMMARY:Yoga
DESCRIPTION:
URL:https://fayaltwp.org/event/yoga-2-2/2027-07-15/
END:VEVENT
BEGIN:VEVENT
DTSTART;TZID=America/Chicago:20270715T183000
DTEND;TZID=America/Chicago:20270715T200000
DTSTAMP:20260425T110929
CREATED:20190917T020221Z
LAST-MODIFIED:20250110T151531Z
UID:10003095-1815676200-1815681600@fayaltwp.org
SUMMARY:Eveleth-Fayal Garden Club
DESCRIPTION:Meeting lengths may vary
URL:https://fayaltwp.org/event/eveleth-fayal-garden-club/2027-07-15/
END:VEVENT
BEGIN:VEVENT
DTSTART;TZID=America/Chicago:20270716T093000
DTEND;TZID=America/Chicago:20270716T103000
DTSTAMP:20260425T110929
CREATED:20240207T174449Z
LAST-MODIFIED:20260317T185548Z
UID:10001868-1815730200-1815733800@fayaltwp.org
SUMMARY:Aerobics
DESCRIPTION:
URL:https://fayaltwp.org/event/aerobics/2027-07-16/
END:VEVENT
BEGIN:VEVENT
DTSTART;TZID=America/Chicago:20270719T093000
DTEND;TZID=America/Chicago:20270719T103000
DTSTAMP:20260425T110929
CREATED:20240207T174449Z
LAST-MODIFIED:20260317T185548Z
UID:10001869-1815989400-1815993000@fayaltwp.org
SUMMARY:Aerobics
DESCRIPTION:
URL:https://fayaltwp.org/event/aerobics/2027-07-19/
END:VEVENT
BEGIN:VEVENT
DTSTART;TZID=America/Chicago:20270719T160000
DTEND;TZID=America/Chicago:20270719T183000
DTSTAMP:20260425T110929
CREATED:20250905T131821Z
LAST-MODIFIED:20250905T131821Z
UID:10003816-1816012800-1816021800@fayaltwp.org
SUMMARY:T.O.P.S.
DESCRIPTION:
URL:https://fayaltwp.org/event/t-o-p-s/2027-07-19/
END:VEVENT
BEGIN:VEVENT
DTSTART;TZID=America/Chicago:20270720T190000
DTEND;TZID=America/Chicago:20270720T203000
DTSTAMP:20260425T110929
CREATED:20230727T144614Z
LAST-MODIFIED:20250115T222032Z
UID:10003370-1816110000-1816115400@fayaltwp.org
SUMMARY:Town Board Meeting
DESCRIPTION:Meeting lengths may vary
URL:https://fayaltwp.org/event/town-board-meeting-2/2027-07-20/
END:VEVENT
BEGIN:VEVENT
DTSTART;TZID=America/Chicago:20270721T093000
DTEND;TZID=America/Chicago:20270721T103000
DTSTAMP:20260425T110929
CREATED:20240207T174449Z
LAST-MODIFIED:20260317T185548Z
UID:10001870-1816162200-1816165800@fayaltwp.org
SUMMARY:Aerobics
DESCRIPTION:
URL:https://fayaltwp.org/event/aerobics/2027-07-21/
END:VEVENT
BEGIN:VEVENT
DTSTART;TZID=America/Chicago:20270722T093000
DTEND;TZID=America/Chicago:20270722T223000
DTSTAMP:20260425T110929
CREATED:20260112T180331Z
LAST-MODIFIED:20260317T190351Z
UID:10003555-1816248600-1816295400@fayaltwp.org
SUMMARY:Yoga
DESCRIPTION:
URL:https://fayaltwp.org/event/yoga-2-2/2027-07-22/
END:VEVENT
BEGIN:VEVENT
DTSTART;TZID=America/Chicago:20270723T093000
DTEND;TZID=America/Chicago:20270723T103000
DTSTAMP:20260425T110929
CREATED:20240207T174449Z
LAST-MODIFIED:20260317T185548Z
UID:10001871-1816335000-1816338600@fayaltwp.org
SUMMARY:Aerobics
DESCRIPTION:
URL:https://fayaltwp.org/event/aerobics/2027-07-23/
END:VEVENT
BEGIN:VEVENT
DTSTART;TZID=America/Chicago:20270726T093000
DTEND;TZID=America/Chicago:20270726T103000
DTSTAMP:20260425T110929
CREATED:20240207T174449Z
LAST-MODIFIED:20260317T185548Z
UID:10001872-1816594200-1816597800@fayaltwp.org
SUMMARY:Aerobics
DESCRIPTION:
URL:https://fayaltwp.org/event/aerobics/2027-07-26/
END:VEVENT
BEGIN:VEVENT
DTSTART;TZID=America/Chicago:20270726T160000
DTEND;TZID=America/Chicago:20270726T183000
DTSTAMP:20260425T110929
CREATED:20250905T131821Z
LAST-MODIFIED:20250905T131821Z
UID:10003817-1816617600-1816626600@fayaltwp.org
SUMMARY:T.O.P.S.
DESCRIPTION:
URL:https://fayaltwp.org/event/t-o-p-s/2027-07-26/
END:VEVENT
BEGIN:VEVENT
DTSTART;TZID=America/Chicago:20270728T093000
DTEND;TZID=America/Chicago:20270728T103000
DTSTAMP:20260425T110929
CREATED:20240207T174449Z
LAST-MODIFIED:20260317T185548Z
UID:10001873-1816767000-1816770600@fayaltwp.org
SUMMARY:Aerobics
DESCRIPTION:
URL:https://fayaltwp.org/event/aerobics/2027-07-28/
END:VEVENT
BEGIN:VEVENT
DTSTART;TZID=America/Chicago:20270729T093000
DTEND;TZID=America/Chicago:20270729T223000
DTSTAMP:20260425T110929
CREATED:20260112T180331Z
LAST-MODIFIED:20260317T190351Z
UID:10003556-1816853400-1816900200@fayaltwp.org
SUMMARY:Yoga
DESCRIPTION:
URL:https://fayaltwp.org/event/yoga-2-2/2027-07-29/
END:VEVENT
BEGIN:VEVENT
DTSTART;TZID=America/Chicago:20270730T093000
DTEND;TZID=America/Chicago:20270730T103000
DTSTAMP:20260425T110929
CREATED:20240207T174449Z
LAST-MODIFIED:20260317T185548Z
UID:10001874-1816939800-1816943400@fayaltwp.org
SUMMARY:Aerobics
DESCRIPTION:
URL:https://fayaltwp.org/event/aerobics/2027-07-30/
END:VEVENT
END:VCALENDAR