BEGIN:VCALENDAR
VERSION:2.0
PRODID:-//Fayal Twp - ECPv6.15.17.1//NONSGML v1.0//EN
CALSCALE:GREGORIAN
METHOD:PUBLISH
X-WR-CALNAME:Fayal Twp
X-ORIGINAL-URL:https://fayaltwp.org
X-WR-CALDESC:Events for Fayal Twp
REFRESH-INTERVAL;VALUE=DURATION:PT1H
X-Robots-Tag:noindex
X-PUBLISHED-TTL:PT1H
BEGIN:VTIMEZONE
TZID:America/Chicago
BEGIN:DAYLIGHT
TZOFFSETFROM:-0600
TZOFFSETTO:-0500
TZNAME:CDT
DTSTART:20240310T080000
END:DAYLIGHT
BEGIN:STANDARD
TZOFFSETFROM:-0500
TZOFFSETTO:-0600
TZNAME:CST
DTSTART:20241103T070000
END:STANDARD
BEGIN:DAYLIGHT
TZOFFSETFROM:-0600
TZOFFSETTO:-0500
TZNAME:CDT
DTSTART:20250309T080000
END:DAYLIGHT
BEGIN:STANDARD
TZOFFSETFROM:-0500
TZOFFSETTO:-0600
TZNAME:CST
DTSTART:20251102T070000
END:STANDARD
BEGIN:DAYLIGHT
TZOFFSETFROM:-0600
TZOFFSETTO:-0500
TZNAME:CDT
DTSTART:20260308T080000
END:DAYLIGHT
BEGIN:STANDARD
TZOFFSETFROM:-0500
TZOFFSETTO:-0600
TZNAME:CST
DTSTART:20261101T070000
END:STANDARD
END:VTIMEZONE
BEGIN:VEVENT
DTSTART;TZID=America/Chicago:20250115T093000
DTEND;TZID=America/Chicago:20250115T103000
DTSTAMP:20260425T110920
CREATED:20240207T174449Z
LAST-MODIFIED:20260317T185548Z
UID:10001477-1736933400-1736937000@fayaltwp.org
SUMMARY:Aerobics
DESCRIPTION:
URL:https://fayaltwp.org/event/aerobics/2025-01-15/
END:VEVENT
BEGIN:VEVENT
DTSTART;TZID=America/Chicago:20250116T173000
DTEND;TZID=America/Chicago:20250116T173000
DTSTAMP:20260425T110920
CREATED:20190917T020012Z
LAST-MODIFIED:20260317T185333Z
UID:10004113-1737048600-1737048600@fayaltwp.org
SUMMARY:Planning Commission Meeting
DESCRIPTION:Meeting lengths may vary
URL:https://fayaltwp.org/event/fayal-planning-commission/2025-01-16/
END:VEVENT
BEGIN:VEVENT
DTSTART;TZID=America/Chicago:20250117T093000
DTEND;TZID=America/Chicago:20250117T103000
DTSTAMP:20260425T110920
CREATED:20240207T174449Z
LAST-MODIFIED:20260317T185548Z
UID:10001478-1737106200-1737109800@fayaltwp.org
SUMMARY:Aerobics
DESCRIPTION:
URL:https://fayaltwp.org/event/aerobics/2025-01-17/
END:VEVENT
BEGIN:VEVENT
DTSTART;VALUE=DATE:20250118
DTEND;VALUE=DATE:20250120
DTSTAMP:20260425T110920
CREATED:20241125T160214Z
LAST-MODIFIED:20241125T160214Z
UID:10002838-1737176400-1737262799@fayaltwp.org
SUMMARY:Town Hall Rented
DESCRIPTION:
URL:https://fayaltwp.org/event/town-hall-rented-94/
END:VEVENT
BEGIN:VEVENT
DTSTART;VALUE=DATE:20250119
DTEND;VALUE=DATE:20250121
DTSTAMP:20260425T110920
CREATED:20250110T151035Z
LAST-MODIFIED:20250110T151035Z
UID:10002847-1737262800-1737349199@fayaltwp.org
SUMMARY:Town Hall Rented
DESCRIPTION:
URL:https://fayaltwp.org/event/town-hall-rented-96/
END:VEVENT
BEGIN:VEVENT
DTSTART;VALUE=DATE:20250120
DTEND;VALUE=DATE:20250122
DTSTAMP:20260425T110920
CREATED:20250115T211627Z
LAST-MODIFIED:20250115T211627Z
UID:10003263-1737349200-1737435599@fayaltwp.org
SUMMARY:Clerk's Office Closed
DESCRIPTION:
URL:https://fayaltwp.org/event/clerks-office-closed-9/
END:VEVENT
BEGIN:VEVENT
DTSTART;TZID=America/Chicago:20250120T093000
DTEND;TZID=America/Chicago:20250120T103000
DTSTAMP:20260425T110920
CREATED:20240207T174449Z
LAST-MODIFIED:20260317T185548Z
UID:10001479-1737365400-1737369000@fayaltwp.org
SUMMARY:Aerobics
DESCRIPTION:
URL:https://fayaltwp.org/event/aerobics/2025-01-20/
END:VEVENT
BEGIN:VEVENT
DTSTART;TZID=America/Chicago:20250120T161500
DTEND;TZID=America/Chicago:20250120T183000
DTSTAMP:20260425T110920
CREATED:20190917T014302Z
LAST-MODIFIED:20220309T145134Z
UID:10001134-1737389700-1737397800@fayaltwp.org
SUMMARY:T.O.P.S Meeting
DESCRIPTION:Meeting length times may vary
URL:https://fayaltwp.org/event/t-o-p-s-meeting/2025-01-20/
END:VEVENT
BEGIN:VEVENT
DTSTART;TZID=America/Chicago:20250121T190000
DTEND;TZID=America/Chicago:20250121T203000
DTSTAMP:20260425T110920
CREATED:20230727T144614Z
LAST-MODIFIED:20250115T222032Z
UID:10001260-1737486000-1737491400@fayaltwp.org
SUMMARY:Town Board Meeting
DESCRIPTION:Meeting lengths may vary
URL:https://fayaltwp.org/event/town-board-meeting-2/2025-01-21/
END:VEVENT
BEGIN:VEVENT
DTSTART;TZID=America/Chicago:20250122T093000
DTEND;TZID=America/Chicago:20250122T103000
DTSTAMP:20260425T110920
CREATED:20240207T174449Z
LAST-MODIFIED:20260317T185548Z
UID:10001480-1737538200-1737541800@fayaltwp.org
SUMMARY:Aerobics
DESCRIPTION:
URL:https://fayaltwp.org/event/aerobics/2025-01-22/
END:VEVENT
BEGIN:VEVENT
DTSTART;TZID=America/Chicago:20250122T170000
DTEND;TZID=America/Chicago:20250122T220000
DTSTAMP:20260425T110920
CREATED:20250110T151139Z
LAST-MODIFIED:20250110T151139Z
UID:10002849-1737565200-1737583200@fayaltwp.org
SUMMARY:Fire Department - Tri Department Training
DESCRIPTION:
URL:https://fayaltwp.org/event/fire-department-tri-department-training/
END:VEVENT
BEGIN:VEVENT
DTSTART;TZID=America/Chicago:20250124T093000
DTEND;TZID=America/Chicago:20250124T103000
DTSTAMP:20260425T110920
CREATED:20240207T174449Z
LAST-MODIFIED:20260317T185548Z
UID:10001481-1737711000-1737714600@fayaltwp.org
SUMMARY:Aerobics
DESCRIPTION:
URL:https://fayaltwp.org/event/aerobics/2025-01-24/
END:VEVENT
BEGIN:VEVENT
DTSTART;VALUE=DATE:20250125
DTEND;VALUE=DATE:20250127
DTSTAMP:20260425T110920
CREATED:20241023T180153Z
LAST-MODIFIED:20241023T180153Z
UID:10002834-1737781200-1737867599@fayaltwp.org
SUMMARY:Town Hall Rented
DESCRIPTION:
URL:https://fayaltwp.org/event/town-hall-rented-90/
END:VEVENT
BEGIN:VEVENT
DTSTART;VALUE=DATE:20250126
DTEND;VALUE=DATE:20250128
DTSTAMP:20260425T110920
CREATED:20250110T151054Z
LAST-MODIFIED:20250110T151054Z
UID:10002848-1737867600-1737953999@fayaltwp.org
SUMMARY:Town Hall Rented
DESCRIPTION:
URL:https://fayaltwp.org/event/town-hall-rented-97/
END:VEVENT
BEGIN:VEVENT
DTSTART;TZID=America/Chicago:20250127T093000
DTEND;TZID=America/Chicago:20250127T103000
DTSTAMP:20260425T110920
CREATED:20240207T174449Z
LAST-MODIFIED:20260317T185548Z
UID:10001482-1737970200-1737973800@fayaltwp.org
SUMMARY:Aerobics
DESCRIPTION:
URL:https://fayaltwp.org/event/aerobics/2025-01-27/
END:VEVENT
BEGIN:VEVENT
DTSTART;TZID=America/Chicago:20250127T161500
DTEND;TZID=America/Chicago:20250127T183000
DTSTAMP:20260425T110920
CREATED:20190917T014302Z
LAST-MODIFIED:20220309T145134Z
UID:10001135-1737994500-1738002600@fayaltwp.org
SUMMARY:T.O.P.S Meeting
DESCRIPTION:Meeting length times may vary
URL:https://fayaltwp.org/event/t-o-p-s-meeting/2025-01-27/
END:VEVENT
BEGIN:VEVENT
DTSTART;TZID=America/Chicago:20250129T093000
DTEND;TZID=America/Chicago:20250129T103000
DTSTAMP:20260425T110920
CREATED:20240207T174449Z
LAST-MODIFIED:20260317T185548Z
UID:10001483-1738143000-1738146600@fayaltwp.org
SUMMARY:Aerobics
DESCRIPTION:
URL:https://fayaltwp.org/event/aerobics/2025-01-29/
END:VEVENT
BEGIN:VEVENT
DTSTART;TZID=America/Chicago:20250131T093000
DTEND;TZID=America/Chicago:20250131T103000
DTSTAMP:20260425T110920
CREATED:20240207T174449Z
LAST-MODIFIED:20260317T185548Z
UID:10001484-1738315800-1738319400@fayaltwp.org
SUMMARY:Aerobics
DESCRIPTION:
URL:https://fayaltwp.org/event/aerobics/2025-01-31/
END:VEVENT
BEGIN:VEVENT
DTSTART;TZID=America/Chicago:20250203T093000
DTEND;TZID=America/Chicago:20250203T103000
DTSTAMP:20260425T110920
CREATED:20240207T174449Z
LAST-MODIFIED:20260317T185548Z
UID:10001485-1738575000-1738578600@fayaltwp.org
SUMMARY:Aerobics
DESCRIPTION:
URL:https://fayaltwp.org/event/aerobics/2025-02-03/
END:VEVENT
BEGIN:VEVENT
DTSTART;TZID=America/Chicago:20250203T161500
DTEND;TZID=America/Chicago:20250203T183000
DTSTAMP:20260425T110920
CREATED:20190917T014302Z
LAST-MODIFIED:20220309T145134Z
UID:10001136-1738599300-1738607400@fayaltwp.org
SUMMARY:T.O.P.S Meeting
DESCRIPTION:Meeting length times may vary
URL:https://fayaltwp.org/event/t-o-p-s-meeting/2025-02-03/
END:VEVENT
BEGIN:VEVENT
DTSTART;TZID=America/Chicago:20250204T190000
DTEND;TZID=America/Chicago:20250204T203000
DTSTAMP:20260425T110920
CREATED:20240213T194504Z
LAST-MODIFIED:20250318T164658Z
UID:10001196-1738695600-1738701000@fayaltwp.org
SUMMARY:Town Board Meeting
DESCRIPTION:Meeting lengths may vary
URL:https://fayaltwp.org/event/town-board-meeting-3/2025-02-04/
END:VEVENT
BEGIN:VEVENT
DTSTART;TZID=America/Chicago:20250205T093000
DTEND;TZID=America/Chicago:20250205T103000
DTSTAMP:20260425T110920
CREATED:20240207T174449Z
LAST-MODIFIED:20260317T185548Z
UID:10001486-1738747800-1738751400@fayaltwp.org
SUMMARY:Aerobics
DESCRIPTION:
URL:https://fayaltwp.org/event/aerobics/2025-02-05/
END:VEVENT
BEGIN:VEVENT
DTSTART;TZID=America/Chicago:20250207T093000
DTEND;TZID=America/Chicago:20250207T103000
DTSTAMP:20260425T110920
CREATED:20240207T174449Z
LAST-MODIFIED:20260317T185548Z
UID:10001487-1738920600-1738924200@fayaltwp.org
SUMMARY:Aerobics
DESCRIPTION:
URL:https://fayaltwp.org/event/aerobics/2025-02-07/
END:VEVENT
BEGIN:VEVENT
DTSTART;VALUE=DATE:20250208
DTEND;VALUE=DATE:20250210
DTSTAMP:20260425T110920
CREATED:20250114T165720Z
LAST-MODIFIED:20250114T165720Z
UID:10003120-1738990800-1739077199@fayaltwp.org
SUMMARY:Town Hall Rented
DESCRIPTION:
URL:https://fayaltwp.org/event/town-hall-rented-98/
END:VEVENT
BEGIN:VEVENT
DTSTART;TZID=America/Chicago:20250210T093000
DTEND;TZID=America/Chicago:20250210T103000
DTSTAMP:20260425T110920
CREATED:20240207T174449Z
LAST-MODIFIED:20260317T185548Z
UID:10001488-1739179800-1739183400@fayaltwp.org
SUMMARY:Aerobics
DESCRIPTION:
URL:https://fayaltwp.org/event/aerobics/2025-02-10/
END:VEVENT
BEGIN:VEVENT
DTSTART;TZID=America/Chicago:20250210T120000
DTEND;TZID=America/Chicago:20250210T140000
DTSTAMP:20260425T110920
CREATED:20240207T175425Z
LAST-MODIFIED:20240718T172046Z
UID:10002129-1739188800-1739196000@fayaltwp.org
SUMMARY:Sororiety Meeting
DESCRIPTION:
URL:https://fayaltwp.org/event/sororiety-meeting/2025-02-10/
END:VEVENT
BEGIN:VEVENT
DTSTART;TZID=America/Chicago:20250210T161500
DTEND;TZID=America/Chicago:20250210T183000
DTSTAMP:20260425T110920
CREATED:20190917T014302Z
LAST-MODIFIED:20220309T145134Z
UID:10001137-1739204100-1739212200@fayaltwp.org
SUMMARY:T.O.P.S Meeting
DESCRIPTION:Meeting length times may vary
URL:https://fayaltwp.org/event/t-o-p-s-meeting/2025-02-10/
END:VEVENT
BEGIN:VEVENT
DTSTART;TZID=America/Chicago:20250211T180000
DTEND;TZID=America/Chicago:20250211T190000
DTSTAMP:20260425T110920
CREATED:20240213T194019Z
LAST-MODIFIED:20240718T171231Z
UID:10002352-1739296800-1739300400@fayaltwp.org
SUMMARY:Public Utility Meetings
DESCRIPTION:Meeting lengths may vary
URL:https://fayaltwp.org/event/public-utility-meetings-2-2/2025-02-11/
END:VEVENT
BEGIN:VEVENT
DTSTART;TZID=America/Chicago:20250212T093000
DTEND;TZID=America/Chicago:20250212T103000
DTSTAMP:20260425T110920
CREATED:20240207T174449Z
LAST-MODIFIED:20260317T185548Z
UID:10001489-1739352600-1739356200@fayaltwp.org
SUMMARY:Aerobics
DESCRIPTION:
URL:https://fayaltwp.org/event/aerobics/2025-02-12/
END:VEVENT
BEGIN:VEVENT
DTSTART;TZID=America/Chicago:20250214T093000
DTEND;TZID=America/Chicago:20250214T103000
DTSTAMP:20260425T110920
CREATED:20240207T174449Z
LAST-MODIFIED:20260317T185548Z
UID:10001490-1739525400-1739529000@fayaltwp.org
SUMMARY:Aerobics
DESCRIPTION:
URL:https://fayaltwp.org/event/aerobics/2025-02-14/
END:VEVENT
END:VCALENDAR