BEGIN:VCALENDAR
VERSION:2.0
PRODID:-//Fayal Twp - ECPv6.15.17.1//NONSGML v1.0//EN
CALSCALE:GREGORIAN
METHOD:PUBLISH
X-WR-CALNAME:Fayal Twp
X-ORIGINAL-URL:https://fayaltwp.org
X-WR-CALDESC:Events for Fayal Twp
REFRESH-INTERVAL;VALUE=DURATION:PT1H
X-Robots-Tag:noindex
X-PUBLISHED-TTL:PT1H
BEGIN:VTIMEZONE
TZID:America/Chicago
BEGIN:DAYLIGHT
TZOFFSETFROM:-0600
TZOFFSETTO:-0500
TZNAME:CDT
DTSTART:20260308T080000
END:DAYLIGHT
BEGIN:STANDARD
TZOFFSETFROM:-0500
TZOFFSETTO:-0600
TZNAME:CST
DTSTART:20261101T070000
END:STANDARD
BEGIN:DAYLIGHT
TZOFFSETFROM:-0600
TZOFFSETTO:-0500
TZNAME:CDT
DTSTART:20270314T080000
END:DAYLIGHT
BEGIN:STANDARD
TZOFFSETFROM:-0500
TZOFFSETTO:-0600
TZNAME:CST
DTSTART:20271107T070000
END:STANDARD
BEGIN:DAYLIGHT
TZOFFSETFROM:-0600
TZOFFSETTO:-0500
TZNAME:CDT
DTSTART:20280312T080000
END:DAYLIGHT
BEGIN:STANDARD
TZOFFSETFROM:-0500
TZOFFSETTO:-0600
TZNAME:CST
DTSTART:20281105T070000
END:STANDARD
END:VTIMEZONE
BEGIN:VEVENT
DTSTART;TZID=America/Chicago:20270308T093000
DTEND;TZID=America/Chicago:20270308T103000
DTSTAMP:20260424T074621
CREATED:20240207T174449Z
LAST-MODIFIED:20260317T185548Z
UID:10001812-1804498200-1804501800@fayaltwp.org
SUMMARY:Aerobics
DESCRIPTION:
URL:https://fayaltwp.org/event/aerobics/2027-03-08/
END:VEVENT
BEGIN:VEVENT
DTSTART;TZID=America/Chicago:20270308T120000
DTEND;TZID=America/Chicago:20270308T140000
DTSTAMP:20260424T074621
CREATED:20240207T175425Z
LAST-MODIFIED:20240718T172046Z
UID:10002154-1804507200-1804514400@fayaltwp.org
SUMMARY:Sororiety Meeting
DESCRIPTION:
URL:https://fayaltwp.org/event/sororiety-meeting/2027-03-08/
END:VEVENT
BEGIN:VEVENT
DTSTART;TZID=America/Chicago:20270308T160000
DTEND;TZID=America/Chicago:20270308T183000
DTSTAMP:20260424T074621
CREATED:20250905T131821Z
LAST-MODIFIED:20250905T131821Z
UID:10003797-1804521600-1804530600@fayaltwp.org
SUMMARY:T.O.P.S.
DESCRIPTION:
URL:https://fayaltwp.org/event/t-o-p-s/2027-03-08/
END:VEVENT
END:VCALENDAR