BEGIN:VCALENDAR
VERSION:2.0
PRODID:-//Fayal Twp - ECPv6.15.17.1//NONSGML v1.0//EN
CALSCALE:GREGORIAN
METHOD:PUBLISH
X-ORIGINAL-URL:https://fayaltwp.org
X-WR-CALDESC:Events for Fayal Twp
REFRESH-INTERVAL;VALUE=DURATION:PT1H
X-Robots-Tag:noindex
X-PUBLISHED-TTL:PT1H
BEGIN:VTIMEZONE
TZID:America/Chicago
BEGIN:DAYLIGHT
TZOFFSETFROM:-0600
TZOFFSETTO:-0500
TZNAME:CDT
DTSTART:20240310T080000
END:DAYLIGHT
BEGIN:STANDARD
TZOFFSETFROM:-0500
TZOFFSETTO:-0600
TZNAME:CST
DTSTART:20241103T070000
END:STANDARD
BEGIN:DAYLIGHT
TZOFFSETFROM:-0600
TZOFFSETTO:-0500
TZNAME:CDT
DTSTART:20250309T080000
END:DAYLIGHT
BEGIN:STANDARD
TZOFFSETFROM:-0500
TZOFFSETTO:-0600
TZNAME:CST
DTSTART:20251102T070000
END:STANDARD
BEGIN:DAYLIGHT
TZOFFSETFROM:-0600
TZOFFSETTO:-0500
TZNAME:CDT
DTSTART:20260308T080000
END:DAYLIGHT
BEGIN:STANDARD
TZOFFSETFROM:-0500
TZOFFSETTO:-0600
TZNAME:CST
DTSTART:20261101T070000
END:STANDARD
END:VTIMEZONE
BEGIN:VEVENT
DTSTART;VALUE=DATE:20250217
DTEND;VALUE=DATE:20250219
DTSTAMP:20260424T110807
CREATED:20250115T211655Z
LAST-MODIFIED:20250115T211655Z
UID:10003264-1739768400-1739854799@fayaltwp.org
SUMMARY:Clerk's Office Closed
DESCRIPTION:
URL:https://fayaltwp.org/event/clerks-office-closed-10/
END:VEVENT
BEGIN:VEVENT
DTSTART;TZID=America/Chicago:20250217T093000
DTEND;TZID=America/Chicago:20250217T103000
DTSTAMP:20260424T110807
CREATED:20240207T174449Z
LAST-MODIFIED:20260317T185548Z
UID:10001491-1739784600-1739788200@fayaltwp.org
SUMMARY:Aerobics
DESCRIPTION:
URL:https://fayaltwp.org/event/aerobics/2025-02-17/
END:VEVENT
BEGIN:VEVENT
DTSTART;TZID=America/Chicago:20250217T161500
DTEND;TZID=America/Chicago:20250217T183000
DTSTAMP:20260424T110807
CREATED:20190917T014302Z
LAST-MODIFIED:20220309T145134Z
UID:10001138-1739808900-1739817000@fayaltwp.org
SUMMARY:T.O.P.S Meeting
DESCRIPTION:Meeting length times may vary
URL:https://fayaltwp.org/event/t-o-p-s-meeting/2025-02-17/
END:VEVENT
END:VCALENDAR