BEGIN:VCALENDAR
VERSION:2.0
PRODID:-//Fayal Twp - ECPv6.15.17.1//NONSGML v1.0//EN
CALSCALE:GREGORIAN
METHOD:PUBLISH
X-ORIGINAL-URL:https://fayaltwp.org
X-WR-CALDESC:Events for Fayal Twp
REFRESH-INTERVAL;VALUE=DURATION:PT1H
X-Robots-Tag:noindex
X-PUBLISHED-TTL:PT1H
BEGIN:VTIMEZONE
TZID:America/Chicago
BEGIN:DAYLIGHT
TZOFFSETFROM:-0600
TZOFFSETTO:-0500
TZNAME:CDT
DTSTART:20220313T080000
END:DAYLIGHT
BEGIN:STANDARD
TZOFFSETFROM:-0500
TZOFFSETTO:-0600
TZNAME:CST
DTSTART:20221106T070000
END:STANDARD
BEGIN:DAYLIGHT
TZOFFSETFROM:-0600
TZOFFSETTO:-0500
TZNAME:CDT
DTSTART:20230312T080000
END:DAYLIGHT
BEGIN:STANDARD
TZOFFSETFROM:-0500
TZOFFSETTO:-0600
TZNAME:CST
DTSTART:20231105T070000
END:STANDARD
BEGIN:DAYLIGHT
TZOFFSETFROM:-0600
TZOFFSETTO:-0500
TZNAME:CDT
DTSTART:20240310T080000
END:DAYLIGHT
BEGIN:STANDARD
TZOFFSETFROM:-0500
TZOFFSETTO:-0600
TZNAME:CST
DTSTART:20241103T070000
END:STANDARD
END:VTIMEZONE
BEGIN:VEVENT
DTSTART;TZID=America/Chicago:20230814T130000
DTEND;TZID=America/Chicago:20230814T150000
DTSTAMP:20260425T231456
CREATED:20230727T140820Z
LAST-MODIFIED:20230727T140820Z
UID:10001308-1692018000-1692025200@fayaltwp.org
SUMMARY:Town Hall Rented
DESCRIPTION:
URL:https://fayaltwp.org/event/town-hall-rented-21/
END:VEVENT
BEGIN:VEVENT
DTSTART;TZID=America/Chicago:20230814T161500
DTEND;TZID=America/Chicago:20230814T183000
DTSTAMP:20260425T231456
CREATED:20190917T014302Z
LAST-MODIFIED:20220309T145134Z
UID:10001059-1692029700-1692037800@fayaltwp.org
SUMMARY:T.O.P.S Meeting
DESCRIPTION:Meeting length times may vary
URL:https://fayaltwp.org/event/t-o-p-s-meeting/2023-08-14/
END:VEVENT
END:VCALENDAR